BEGIN:VCALENDAR
VERSION:2.0
PRODID:-//ROXY Lockport - ECPv6.15.20//NONSGML v1.0//EN
CALSCALE:GREGORIAN
METHOD:PUBLISH
X-ORIGINAL-URL:https://www.roxylockport.com
X-WR-CALDESC:Events for ROXY Lockport
REFRESH-INTERVAL;VALUE=DURATION:PT1H
X-Robots-Tag:noindex
X-PUBLISHED-TTL:PT1H
BEGIN:VTIMEZONE
TZID:America/Chicago
BEGIN:DAYLIGHT
TZOFFSETFROM:-0600
TZOFFSETTO:-0500
TZNAME:CDT
DTSTART:20210314T080000
END:DAYLIGHT
BEGIN:STANDARD
TZOFFSETFROM:-0500
TZOFFSETTO:-0600
TZNAME:CST
DTSTART:20211107T070000
END:STANDARD
BEGIN:DAYLIGHT
TZOFFSETFROM:-0600
TZOFFSETTO:-0500
TZNAME:CDT
DTSTART:20220313T080000
END:DAYLIGHT
BEGIN:STANDARD
TZOFFSETFROM:-0500
TZOFFSETTO:-0600
TZNAME:CST
DTSTART:20221106T070000
END:STANDARD
BEGIN:DAYLIGHT
TZOFFSETFROM:-0600
TZOFFSETTO:-0500
TZNAME:CDT
DTSTART:20230312T080000
END:DAYLIGHT
BEGIN:STANDARD
TZOFFSETFROM:-0500
TZOFFSETTO:-0600
TZNAME:CST
DTSTART:20231105T070000
END:STANDARD
BEGIN:DAYLIGHT
TZOFFSETFROM:-0600
TZOFFSETTO:-0500
TZNAME:CDT
DTSTART:20240310T080000
END:DAYLIGHT
BEGIN:STANDARD
TZOFFSETFROM:-0500
TZOFFSETTO:-0600
TZNAME:CST
DTSTART:20241103T070000
END:STANDARD
END:VTIMEZONE
BEGIN:VEVENT
DTSTART;TZID=America/Chicago:20221204T183000
DTEND;TZID=America/Chicago:20221204T213000
DTSTAMP:20260423T093421
CREATED:20221201T081853Z
LAST-MODIFIED:20221202T054335Z
UID:10000008-1670178600-1670189400@www.roxylockport.com
SUMMARY:Shout Section Big Band
DESCRIPTION:Opening band: 6:30-7pm\nShout Section Big Band: 7-9:30pm
URL:https://www.roxylockport.com/calendar/shout-section-big-band/
LOCATION:ROXY Lockport\, 1017 S. State St.\, Lockport\, IL\, 60441\, United States
CATEGORIES:Dance,Music Showcase
ATTACH;FMTTYPE=image/jpeg:https://www.roxylockport.com/wp-content/uploads/2022/02/Shout-Section.jpg
END:VEVENT
BEGIN:VEVENT
DTSTART;TZID=America/Chicago:20221206T180000
DTEND;TZID=America/Chicago:20221206T213000
DTSTAMP:20260423T093421
CREATED:20221201T082154Z
LAST-MODIFIED:20221202T054314Z
UID:10000009-1670349600-1670362200@www.roxylockport.com
SUMMARY:The Lockport Swing Thing
DESCRIPTION:Free and family-friendly.  Dance lesson from 6-7pm.  Social dancing from 7-9:30pm.
URL:https://www.roxylockport.com/calendar/the-lockport-swing-thing/
LOCATION:ROXY Lockport\, 1017 S. State St.\, Lockport\, IL\, 60441\, United States
CATEGORIES:Dance
ATTACH;FMTTYPE=image/jpeg:https://www.roxylockport.com/wp-content/uploads/2022/12/Tuesdays-are-for-Swing.jpg
ORGANIZER;CN="R.J. and Jessica":MAILTO:thelockport.swingthing@gmail.com
END:VEVENT
BEGIN:VEVENT
DTSTART;TZID=America/Chicago:20221207T193000
DTEND;TZID=America/Chicago:20221207T230000
DTSTAMP:20260423T093421
CREATED:20221201T082518Z
LAST-MODIFIED:20221202T054834Z
UID:10000010-1670441400-1670454000@www.roxylockport.com
SUMMARY:Salsa WednesdaysCarlos Guate DJ
DESCRIPTION:Dance lesson with May I Have This Dance: 7:30-8:30pm\nSocial dancing with DJ Carlos Guate: 8:30-11pm
URL:https://www.roxylockport.com/calendar/salsa-wednesdays/
LOCATION:ROXY Lockport\, 1017 S. State St.\, Lockport\, IL\, 60441\, United States
CATEGORIES:Dance
END:VEVENT
BEGIN:VEVENT
DTSTART;TZID=America/Chicago:20221208T190000
DTEND;TZID=America/Chicago:20221208T220000
DTSTAMP:20260423T093421
CREATED:20221201T082850Z
LAST-MODIFIED:20221202T054226Z
UID:10000011-1670526000-1670536800@www.roxylockport.com
SUMMARY:Mr. Lucky & JP and Jenny with the Flames
DESCRIPTION:A night of music and dancing with Mr. Lucky & JP and Jenny with The Flames.
URL:https://www.roxylockport.com/calendar/mr-lucky-and-jp-jenny-and-the-flames/
LOCATION:ROXY Lockport\, 1017 S. State St.\, Lockport\, IL\, 60441\, United States
CATEGORIES:Dance,Music Showcase
END:VEVENT
BEGIN:VEVENT
DTSTART;TZID=America/Chicago:20221211T190000
DTEND;TZID=America/Chicago:20221211T213000
DTSTAMP:20260423T093421
CREATED:20221201T083045Z
LAST-MODIFIED:20221202T054158Z
UID:10000012-1670785200-1670794200@www.roxylockport.com
SUMMARY:Deep Blue Big Band
DESCRIPTION:Social dancing opportunity!
URL:https://www.roxylockport.com/calendar/deep-blue-big-band/
LOCATION:ROXY Lockport\, 1017 S. State St.\, Lockport\, IL\, 60441\, United States
CATEGORIES:Dance,Music Showcase
END:VEVENT
BEGIN:VEVENT
DTSTART;TZID=America/Chicago:20221213T180000
DTEND;TZID=America/Chicago:20221213T213000
DTSTAMP:20260423T093421
CREATED:20221201T090947Z
LAST-MODIFIED:20221202T054137Z
UID:10000013-1670954400-1670967000@www.roxylockport.com
SUMMARY:The Lockport Swing Thing
DESCRIPTION:Free and family-friendly.\nDance lesson: 6-7pm\nSocial dancing 7-9:30pm
URL:https://www.roxylockport.com/calendar/the-lockport-swing-thing-2/
LOCATION:ROXY Lockport\, 1017 S. State St.\, Lockport\, IL\, 60441\, United States
CATEGORIES:Dance
ATTACH;FMTTYPE=image/jpeg:https://www.roxylockport.com/wp-content/uploads/2022/12/Tuesdays-are-for-Swing.jpg
ORGANIZER;CN="R.J. and Jessica":MAILTO:thelockport.swingthing@gmail.com
END:VEVENT
BEGIN:VEVENT
DTSTART;TZID=America/Chicago:20221214T193000
DTEND;TZID=America/Chicago:20221214T230000
DTSTAMP:20260423T093421
CREATED:20221201T091143Z
LAST-MODIFIED:20221202T054931Z
UID:10000014-1671046200-1671058800@www.roxylockport.com
SUMMARY:Salsa WednesdaysCarlos Guate DJ
DESCRIPTION:Dance lesson with May I Have This Dance: 7:30-8:30pm\nSocial dance with DJ Carlos Guate: 8:30-11pm
URL:https://www.roxylockport.com/calendar/salsa-wednesdays-2/
LOCATION:ROXY Lockport\, 1017 S. State St.\, Lockport\, IL\, 60441\, United States
CATEGORIES:Dance
END:VEVENT
BEGIN:VEVENT
DTSTART;TZID=America/Chicago:20221220T190000
DTEND;TZID=America/Chicago:20221220T213000
DTSTAMP:20260423T093421
CREATED:20221201T092315Z
LAST-MODIFIED:20221202T054034Z
UID:10000017-1671562800-1671571800@www.roxylockport.com
SUMMARY:The Falconaires Orchestra
DESCRIPTION:Social dancing opportunity!
URL:https://www.roxylockport.com/calendar/the-falconaires-orchestra/
LOCATION:ROXY Lockport\, 1017 S. State St.\, Lockport\, IL\, 60441\, United States
CATEGORIES:Dance,Music Showcase
ATTACH;FMTTYPE=image/jpeg:https://www.roxylockport.com/wp-content/uploads/2022/12/The-Falconaires-FB-Event3-scaled.jpg
END:VEVENT
BEGIN:VEVENT
DTSTART;TZID=America/Chicago:20221221T193000
DTEND;TZID=America/Chicago:20221221T230000
DTSTAMP:20260423T093421
CREATED:20221201T092516Z
LAST-MODIFIED:20221202T053358Z
UID:10000018-1671651000-1671663600@www.roxylockport.com
SUMMARY:Salsa Wednesdays
DESCRIPTION:Dance lesson with May I Have This Dance: 7:30-8:30pm\nSocial dance with DJ Carlos Guate: 8:30-11pm
URL:https://www.roxylockport.com/calendar/salsa-wednesdays-3/
LOCATION:ROXY Lockport\, 1017 S. State St.\, Lockport\, IL\, 60441\, United States
CATEGORIES:Dance
END:VEVENT
BEGIN:VEVENT
DTSTART;TZID=America/Chicago:20221226T200000
DTEND;TZID=America/Chicago:20221226T220000
DTSTAMP:20260423T093421
CREATED:20221201T093326Z
LAST-MODIFIED:20221226T204918Z
UID:10000020-1672084800-1672092000@www.roxylockport.com
SUMMARY:Outcast Jazz Band
DESCRIPTION:Our apologies! Due to frozen pipes at ROXY after this absolutely frigid weekend\, we’ve had to cancel tonight’s event. We cannot operate without running water.
URL:https://www.roxylockport.com/calendar/outcast-jazz-band/
LOCATION:ROXY Lockport\, 1017 S. State St.\, Lockport\, IL\, 60441\, United States
CATEGORIES:Dance,Music Showcase
ORGANIZER;CN="Vince Clark":MAILTO:ojb@ojbmusic.com
END:VEVENT
BEGIN:VEVENT
DTSTART;TZID=America/Chicago:20221227T180000
DTEND;TZID=America/Chicago:20221227T213000
DTSTAMP:20260423T093421
CREATED:20221201T093449Z
LAST-MODIFIED:20221202T050114Z
UID:10000021-1672164000-1672176600@www.roxylockport.com
SUMMARY:The Lockport Swing Thing
DESCRIPTION:Free and family-friendly.  Dance lesson: 6-7pm  Social dance: 7-9:30pm
URL:https://www.roxylockport.com/calendar/the-lockport-swing-thing-3/
LOCATION:ROXY Lockport\, 1017 S. State St.\, Lockport\, IL\, 60441\, United States
CATEGORIES:Dance
ATTACH;FMTTYPE=image/jpeg:https://www.roxylockport.com/wp-content/uploads/2022/12/Tuesdays-are-for-Swing.jpg
ORGANIZER;CN="R.J. and Jessica":MAILTO:thelockport.swingthing@gmail.com
END:VEVENT
BEGIN:VEVENT
DTSTART;TZID=America/Chicago:20221228T193000
DTEND;TZID=America/Chicago:20221228T230000
DTSTAMP:20260423T093421
CREATED:20221201T093607Z
LAST-MODIFIED:20221226T214256Z
UID:10000022-1672255800-1672268400@www.roxylockport.com
SUMMARY:Salsa WednesdaysCarlos Guate DJ
DESCRIPTION:Dance lesson with May I Have This Dance: 7:30-8:30pm\nSocial dancing with DJ Carlos Guate: 8:30-11pm
URL:https://www.roxylockport.com/calendar/salsa-wednesdays-4/
LOCATION:ROXY Lockport\, 1017 S. State St.\, Lockport\, IL\, 60441\, United States
CATEGORIES:Dance
END:VEVENT
BEGIN:VEVENT
DTSTART;TZID=America/Chicago:20221231T210000
DTEND;TZID=America/Chicago:20230101T003000
DTSTAMP:20260423T093421
CREATED:20221202T043209Z
LAST-MODIFIED:20221202T053912Z
UID:10000025-1672520400-1672533000@www.roxylockport.com
SUMMARY:Doug Horne and the Rhythm Makers Orchestra
DESCRIPTION:•Cost includes a glass of Prosecco or sparkling cider and snacks\n•Please dress in your holiday best\n•Start and end time may change slightly
URL:https://www.roxylockport.com/calendar/doug-horne-and-the-rhythm-makers-orchestra/
LOCATION:ROXY Lockport\, 1017 S. State St.\, Lockport\, IL\, 60441\, United States
CATEGORIES:Dance,Music Showcase
END:VEVENT
END:VCALENDAR