BEGIN:VCALENDAR
VERSION:2.0
PRODID:-//ROXY Lockport - ECPv6.15.20//NONSGML v1.0//EN
CALSCALE:GREGORIAN
METHOD:PUBLISH
X-WR-CALNAME:ROXY Lockport
X-ORIGINAL-URL:https://www.roxylockport.com
X-WR-CALDESC:Events for ROXY Lockport
REFRESH-INTERVAL;VALUE=DURATION:PT1H
X-Robots-Tag:noindex
X-PUBLISHED-TTL:PT1H
BEGIN:VTIMEZONE
TZID:America/Chicago
BEGIN:DAYLIGHT
TZOFFSETFROM:-0600
TZOFFSETTO:-0500
TZNAME:CDT
DTSTART:20220313T080000
END:DAYLIGHT
BEGIN:STANDARD
TZOFFSETFROM:-0500
TZOFFSETTO:-0600
TZNAME:CST
DTSTART:20221106T070000
END:STANDARD
BEGIN:DAYLIGHT
TZOFFSETFROM:-0600
TZOFFSETTO:-0500
TZNAME:CDT
DTSTART:20230312T080000
END:DAYLIGHT
BEGIN:STANDARD
TZOFFSETFROM:-0500
TZOFFSETTO:-0600
TZNAME:CST
DTSTART:20231105T070000
END:STANDARD
BEGIN:DAYLIGHT
TZOFFSETFROM:-0600
TZOFFSETTO:-0500
TZNAME:CDT
DTSTART:20240310T080000
END:DAYLIGHT
BEGIN:STANDARD
TZOFFSETFROM:-0500
TZOFFSETTO:-0600
TZNAME:CST
DTSTART:20241103T070000
END:STANDARD
END:VTIMEZONE
BEGIN:VEVENT
DTSTART;TZID=America/Chicago:20230305T190000
DTEND;TZID=America/Chicago:20230305T213000
DTSTAMP:20260422T214812
CREATED:20230130T165716Z
LAST-MODIFIED:20230130T165716Z
UID:10000046-1678042800-1678051800@www.roxylockport.com
SUMMARY:Shout Section Big Band
DESCRIPTION:
URL:https://www.roxylockport.com/calendar/shout-section-big-band-4/
LOCATION:ROXY Lockport\, 1017 S. State St.\, Lockport\, IL\, 60441\, United States
CATEGORIES:Dance,Music Showcase
ATTACH;FMTTYPE=image/jpeg:https://www.roxylockport.com/wp-content/uploads/2022/02/Shout-Section.jpg
END:VEVENT
BEGIN:VEVENT
DTSTART;TZID=America/Chicago:20230307T180000
DTEND;TZID=America/Chicago:20230307T213000
DTSTAMP:20260422T214812
CREATED:20230130T170852Z
LAST-MODIFIED:20230130T170852Z
UID:10000047-1678212000-1678224600@www.roxylockport.com
SUMMARY:The Lockport Swing Thing
DESCRIPTION:
URL:https://www.roxylockport.com/calendar/the-lockport-swing-thing-10/
LOCATION:ROXY Lockport\, 1017 S. State St.\, Lockport\, IL\, 60441\, United States
CATEGORIES:Dance
ATTACH;FMTTYPE=image/jpeg:https://www.roxylockport.com/wp-content/uploads/2022/12/Tuesdays-are-for-Swing.jpg
ORGANIZER;CN="R.J. and Jessica":MAILTO:thelockport.swingthing@gmail.com
END:VEVENT
BEGIN:VEVENT
DTSTART;TZID=America/Chicago:20230309T190000
DTEND;TZID=America/Chicago:20230309T220000
DTSTAMP:20260422T214812
CREATED:20230130T171107Z
LAST-MODIFIED:20230130T192924Z
UID:10000048-1678388400-1678399200@www.roxylockport.com
SUMMARY:Mr. Lucky& his Orchestra of Tomorrow
DESCRIPTION:
URL:https://www.roxylockport.com/calendar/mr-lucky-his-orchestra-of-tomorrow-3/
LOCATION:ROXY Lockport\, 1017 S. State St.\, Lockport\, IL\, 60441\, United States
CATEGORIES:Dance,Music Showcase
ATTACH;FMTTYPE=image/jpeg:https://www.roxylockport.com/wp-content/uploads/2022/12/luckytux-scaled.jpg
END:VEVENT
BEGIN:VEVENT
DTSTART;TZID=America/Chicago:20230314T180000
DTEND;TZID=America/Chicago:20230314T213000
DTSTAMP:20260422T214812
CREATED:20230130T183641Z
LAST-MODIFIED:20230309T005709Z
UID:10000050-1678816800-1678829400@www.roxylockport.com
SUMMARY:The Lockport Swing Thing
DESCRIPTION:Intermediate lesson: 6pm-6:45pm\nBeginner swing lesson: 6:45-7:30pm \nFree and family-friendly \nNo partner required
URL:https://www.roxylockport.com/calendar/the-lockport-swing-thing-11/
LOCATION:ROXY Lockport\, 1017 S. State St.\, Lockport\, IL\, 60441\, United States
CATEGORIES:Dance
ATTACH;FMTTYPE=image/jpeg:https://www.roxylockport.com/wp-content/uploads/2022/12/Tuesdays-are-for-Swing.jpg
ORGANIZER;CN="R.J. and Jessica":MAILTO:thelockport.swingthing@gmail.com
END:VEVENT
BEGIN:VEVENT
DTSTART;TZID=America/Chicago:20230321T180000
DTEND;TZID=America/Chicago:20230321T213000
DTSTAMP:20260422T214812
CREATED:20230130T192013Z
LAST-MODIFIED:20230130T192852Z
UID:10000052-1679421600-1679434200@www.roxylockport.com
SUMMARY:The Falconaires OrchestraDance Lesson with TLST
DESCRIPTION:Dance lesson with The Lockport Swing Thing: 6-7pm\nBand plays 7-9:30pm
URL:https://www.roxylockport.com/calendar/the-falconaires-orchestra-dance-lesson-with-tlst/
LOCATION:IL
CATEGORIES:Dance,Music Showcase
ATTACH;FMTTYPE=image/jpeg:https://www.roxylockport.com/wp-content/uploads/2022/12/The-Falconaires-FB-Event3-scaled.jpg
END:VEVENT
BEGIN:VEVENT
DTSTART;TZID=America/Chicago:20230327T200000
DTEND;TZID=America/Chicago:20230327T220000
DTSTAMP:20260422T214812
CREATED:20230130T202644Z
LAST-MODIFIED:20230130T202644Z
UID:10000054-1679947200-1679954400@www.roxylockport.com
SUMMARY:Outcast Jazz Band
DESCRIPTION:
URL:https://www.roxylockport.com/calendar/outcast-jazz-band-4/
LOCATION:ROXY Lockport\, 1017 S. State St.\, Lockport\, IL\, 60441\, United States
CATEGORIES:Dance,Music Showcase
ATTACH;FMTTYPE=image/jpeg:https://www.roxylockport.com/wp-content/uploads/2022/12/OJB3.jpg
ORGANIZER;CN="Vince Clark":MAILTO:ojb@ojbmusic.com
END:VEVENT
BEGIN:VEVENT
DTSTART;TZID=America/Chicago:20230328T180000
DTEND;TZID=America/Chicago:20230328T213000
DTSTAMP:20260422T214812
CREATED:20230130T202847Z
LAST-MODIFIED:20230320T232200Z
UID:10000055-1680026400-1680039000@www.roxylockport.com
SUMMARY:The Lockport Swing Thing
DESCRIPTION:Dance lesson and social dancing. Family-friendly. No partner required. \nIntermediate/alternate dance lesson: 6-6:45pm.\nPLEASE ARRIVE ON TIME IF YOU WISH TO BE PART OF THIS LESSON.\nDOORS TO THEATER WILL CLOSE AT 6PM. ANYONE WHO ARRIVES AFTER 6PM IS WELCOME TO WATCH THE LESSON ON THE TVS IN THE LOUNGE. \nBeginner swing dance lesson: 6:45-7:30pm \nSocial dancing 7:30-9:30pm
URL:https://www.roxylockport.com/calendar/the-lockport-swing-thing-12/
LOCATION:ROXY Lockport\, 1017 S. State St.\, Lockport\, IL\, 60441\, United States
CATEGORIES:Dance
ATTACH;FMTTYPE=image/jpeg:https://www.roxylockport.com/wp-content/uploads/2022/12/Tuesdays-are-for-Swing.jpg
ORGANIZER;CN="R.J. and Jessica":MAILTO:thelockport.swingthing@gmail.com
END:VEVENT
END:VCALENDAR