BEGIN:VCALENDAR
VERSION:2.0
PRODID:-//ROXY Lockport - ECPv6.15.20//NONSGML v1.0//EN
CALSCALE:GREGORIAN
METHOD:PUBLISH
X-ORIGINAL-URL:https://www.roxylockport.com
X-WR-CALDESC:Events for ROXY Lockport
REFRESH-INTERVAL;VALUE=DURATION:PT1H
X-Robots-Tag:noindex
X-PUBLISHED-TTL:PT1H
BEGIN:VTIMEZONE
TZID:America/Chicago
BEGIN:DAYLIGHT
TZOFFSETFROM:-0600
TZOFFSETTO:-0500
TZNAME:CDT
DTSTART:20220313T080000
END:DAYLIGHT
BEGIN:STANDARD
TZOFFSETFROM:-0500
TZOFFSETTO:-0600
TZNAME:CST
DTSTART:20221106T070000
END:STANDARD
BEGIN:DAYLIGHT
TZOFFSETFROM:-0600
TZOFFSETTO:-0500
TZNAME:CDT
DTSTART:20230312T080000
END:DAYLIGHT
BEGIN:STANDARD
TZOFFSETFROM:-0500
TZOFFSETTO:-0600
TZNAME:CST
DTSTART:20231105T070000
END:STANDARD
BEGIN:DAYLIGHT
TZOFFSETFROM:-0600
TZOFFSETTO:-0500
TZNAME:CDT
DTSTART:20240310T080000
END:DAYLIGHT
BEGIN:STANDARD
TZOFFSETFROM:-0500
TZOFFSETTO:-0600
TZNAME:CST
DTSTART:20241103T070000
END:STANDARD
END:VTIMEZONE
BEGIN:VEVENT
DTSTART;TZID=America/Chicago:20230402T190000
DTEND;TZID=America/Chicago:20230402T213000
DTSTAMP:20260422T165536
CREATED:20230208T023053Z
LAST-MODIFIED:20230208T023053Z
UID:10000058-1680462000-1680471000@www.roxylockport.com
SUMMARY:Shout Section Big Band
DESCRIPTION:
URL:https://www.roxylockport.com/calendar/shout-section-big-band-5/
LOCATION:ROXY Lockport\, 1017 S. State St.\, Lockport\, IL\, 60441\, United States
CATEGORIES:Dance,Music Showcase
ATTACH;FMTTYPE=image/jpeg:https://www.roxylockport.com/wp-content/uploads/2022/02/Shout-Section.jpg
END:VEVENT
BEGIN:VEVENT
DTSTART;TZID=America/Chicago:20230404T183000
DTEND;TZID=America/Chicago:20230404T213000
DTSTAMP:20260422T165536
CREATED:20230208T030139Z
LAST-MODIFIED:20230320T232332Z
UID:10000060-1680633000-1680643800@www.roxylockport.com
SUMMARY:The Lockport Swing Thing
DESCRIPTION:Free and family-friendly. No partner required. \nBeginner swing dance lesson: 6:30-7:30pm \nSocial dancing: 7:30-9:30pm
URL:https://www.roxylockport.com/calendar/the-lockportswing-thing/
LOCATION:ROXY Lockport\, 1017 S. State St.\, Lockport\, IL\, 60441\, United States
CATEGORIES:Dance
ATTACH;FMTTYPE=image/jpeg:https://www.roxylockport.com/wp-content/uploads/2022/12/Tuesdays-are-for-Swing.jpg
ORGANIZER;CN="R.J. and Jessica":MAILTO:thelockport.swingthing@gmail.com
END:VEVENT
BEGIN:VEVENT
DTSTART;TZID=America/Chicago:20230408T150000
DTEND;TZID=America/Chicago:20230408T170000
DTSTAMP:20260422T165536
CREATED:20230208T025234Z
LAST-MODIFIED:20230208T025234Z
UID:10000059-1680966000-1680973200@www.roxylockport.com
SUMMARY:Del BergesonSwing Orchestra
DESCRIPTION:
URL:https://www.roxylockport.com/calendar/del-bergesonswing-orchestra/
LOCATION:ROXY Lockport\, 1017 S. State St.\, Lockport\, IL\, 60441\, United States
CATEGORIES:Dance,Music Showcase
END:VEVENT
BEGIN:VEVENT
DTSTART;TZID=America/Chicago:20230411T183000
DTEND;TZID=America/Chicago:20230411T213000
DTSTAMP:20260422T165536
CREATED:20230208T030627Z
LAST-MODIFIED:20230320T232424Z
UID:10000061-1681237800-1681248600@www.roxylockport.com
SUMMARY:The Lockport Swing Thing
DESCRIPTION:Free and family-friendly. No partner required. \nBeginner swing dance lesson: 6:30-7:30pm \nSocial dancing: 7:30-9:30pm
URL:https://www.roxylockport.com/calendar/the-lockport-swing-thing-13/
LOCATION:ROXY Lockport\, 1017 S. State St.\, Lockport\, IL\, 60441\, United States
CATEGORIES:Dance
ATTACH;FMTTYPE=image/jpeg:https://www.roxylockport.com/wp-content/uploads/2022/12/Tuesdays-are-for-Swing.jpg
ORGANIZER;CN="R.J. and Jessica":MAILTO:thelockport.swingthing@gmail.com
END:VEVENT
BEGIN:VEVENT
DTSTART;TZID=America/Chicago:20230413T190000
DTEND;TZID=America/Chicago:20230413T220000
DTSTAMP:20260422T165536
CREATED:20230208T031330Z
LAST-MODIFIED:20230208T031428Z
UID:10000062-1681412400-1681423200@www.roxylockport.com
SUMMARY:Mr. Lucky& his Orchestra of Tomorrow
DESCRIPTION:
URL:https://www.roxylockport.com/calendar/mr-lucky-his-orchestraof-tomorrow/
LOCATION:ROXY Lockport\, 1017 S. State St.\, Lockport\, IL\, 60441\, United States
CATEGORIES:Dance,Music Showcase
ATTACH;FMTTYPE=image/jpeg:https://www.roxylockport.com/wp-content/uploads/2022/12/luckytux-scaled.jpg
END:VEVENT
BEGIN:VEVENT
DTSTART;TZID=America/Chicago:20230418T190000
DTEND;TZID=America/Chicago:20230418T213000
DTSTAMP:20260422T165536
CREATED:20230208T031808Z
LAST-MODIFIED:20230208T031850Z
UID:10000063-1681844400-1681853400@www.roxylockport.com
SUMMARY:Doug Horne andthe Rhythm Makers Orchestra
DESCRIPTION:
URL:https://www.roxylockport.com/calendar/doug-horne-therhythm-makers-orchestra/
LOCATION:ROXY Lockport\, 1017 S. State St.\, Lockport\, IL\, 60441\, United States
CATEGORIES:Dance,Music Showcase
ATTACH;FMTTYPE=image/jpeg:https://www.roxylockport.com/wp-content/uploads/2023/01/277589784_5198700463525826_6322697650237205129_n-scaled.jpg
END:VEVENT
BEGIN:VEVENT
DTSTART;TZID=America/Chicago:20230424T200000
DTEND;TZID=America/Chicago:20230424T220000
DTSTAMP:20260422T165536
CREATED:20230208T032018Z
LAST-MODIFIED:20230208T032018Z
UID:10000064-1682366400-1682373600@www.roxylockport.com
SUMMARY:Outcast Jazz Band
DESCRIPTION:
URL:https://www.roxylockport.com/calendar/outcast-jazz-band-5/
LOCATION:ROXY Lockport\, 1017 S. State St.\, Lockport\, IL\, 60441\, United States
CATEGORIES:Dance,Music Showcase
ATTACH;FMTTYPE=image/jpeg:https://www.roxylockport.com/wp-content/uploads/2022/12/OJB3.jpg
ORGANIZER;CN="Vince Clark":MAILTO:ojb@ojbmusic.com
END:VEVENT
BEGIN:VEVENT
DTSTART;TZID=America/Chicago:20230425T183000
DTEND;TZID=America/Chicago:20230425T213000
DTSTAMP:20260422T165536
CREATED:20230208T035439Z
LAST-MODIFIED:20230320T232507Z
UID:10000066-1682447400-1682458200@www.roxylockport.com
SUMMARY:The Lockport Swing Thing
DESCRIPTION:Free and family-friendly. No partner required. \nBeginner swing dance lesson: 6:30-7:30pm \nSocial dancing: 7:30-9:30pm
URL:https://www.roxylockport.com/calendar/the-lockport-swing-thing-14/
LOCATION:ROXY Lockport\, 1017 S. State St.\, Lockport\, IL\, 60441\, United States
CATEGORIES:Dance
ATTACH;FMTTYPE=image/jpeg:https://www.roxylockport.com/wp-content/uploads/2022/12/Tuesdays-are-for-Swing.jpg
ORGANIZER;CN="R.J. and Jessica":MAILTO:thelockport.swingthing@gmail.com
END:VEVENT
END:VCALENDAR