BEGIN:VCALENDAR
VERSION:2.0
PRODID:-//ROXY Lockport - ECPv6.15.20//NONSGML v1.0//EN
CALSCALE:GREGORIAN
METHOD:PUBLISH
X-ORIGINAL-URL:https://www.roxylockport.com
X-WR-CALDESC:Events for ROXY Lockport
REFRESH-INTERVAL;VALUE=DURATION:PT1H
X-Robots-Tag:noindex
X-PUBLISHED-TTL:PT1H
BEGIN:VTIMEZONE
TZID:America/Chicago
BEGIN:DAYLIGHT
TZOFFSETFROM:-0600
TZOFFSETTO:-0500
TZNAME:CDT
DTSTART:20220313T080000
END:DAYLIGHT
BEGIN:STANDARD
TZOFFSETFROM:-0500
TZOFFSETTO:-0600
TZNAME:CST
DTSTART:20221106T070000
END:STANDARD
BEGIN:DAYLIGHT
TZOFFSETFROM:-0600
TZOFFSETTO:-0500
TZNAME:CDT
DTSTART:20230312T080000
END:DAYLIGHT
BEGIN:STANDARD
TZOFFSETFROM:-0500
TZOFFSETTO:-0600
TZNAME:CST
DTSTART:20231105T070000
END:STANDARD
BEGIN:DAYLIGHT
TZOFFSETFROM:-0600
TZOFFSETTO:-0500
TZNAME:CDT
DTSTART:20240310T080000
END:DAYLIGHT
BEGIN:STANDARD
TZOFFSETFROM:-0500
TZOFFSETTO:-0600
TZNAME:CST
DTSTART:20241103T070000
END:STANDARD
END:VTIMEZONE
BEGIN:VEVENT
DTSTART;TZID=America/Chicago:20230604T190000
DTEND;TZID=America/Chicago:20230604T213000
DTSTAMP:20260422T153623
CREATED:20230331T234655Z
LAST-MODIFIED:20230618T014824Z
UID:10000409-1685905200-1685914200@www.roxylockport.com
SUMMARY:Shout Section Big Band
DESCRIPTION:
URL:https://www.roxylockport.com/calendar/shout-section-big-band-7/
LOCATION:ROXY Lockport\, 1017 S. State St.\, Lockport\, IL\, 60441\, United States
CATEGORIES:Dance,Music Showcase
END:VEVENT
BEGIN:VEVENT
DTSTART;TZID=America/Chicago:20230606T183000
DTEND;TZID=America/Chicago:20230606T213000
DTSTAMP:20260422T153623
CREATED:20230331T234916Z
LAST-MODIFIED:20230613T033700Z
UID:10000084-1686076200-1686087000@www.roxylockport.com
SUMMARY:The LockportSwing Thing
DESCRIPTION:Free and family-friendly. No partner required. \nBeginner swing dance lesson: 6:30-7:30pm \nSocial dancing: 7:30-9:30pm
URL:https://www.roxylockport.com/calendar/the-lockport-swing-thing-19/
LOCATION:ROXY Lockport\, 1017 S. State St.\, Lockport\, IL\, 60441\, United States
CATEGORIES:Dance
ATTACH;FMTTYPE=image/jpeg:https://www.roxylockport.com/wp-content/uploads/2022/12/Tuesdays-are-for-Swing.jpg
ORGANIZER;CN="R.J. and Jessica":MAILTO:thelockport.swingthing@gmail.com
END:VEVENT
BEGIN:VEVENT
DTSTART;TZID=America/Chicago:20230608T190000
DTEND;TZID=America/Chicago:20230608T213000
DTSTAMP:20260422T153623
CREATED:20230331T235205Z
LAST-MODIFIED:20250317T010941Z
UID:10000085-1686250800-1686259800@www.roxylockport.com
SUMMARY:Mr. Lucky & his Orchestra of Tomorrow
DESCRIPTION:
URL:https://www.roxylockport.com/calendar/mr-lucky-hisorchestra-of-tomorrow/2023-06-08/
LOCATION:ROXY Lockport\, 1017 S. State St.\, Lockport\, IL\, 60441\, United States
CATEGORIES:Dance,Music Showcase
ATTACH;FMTTYPE=image/jpeg:https://www.roxylockport.com/wp-content/uploads/2022/12/luckytux-scaled.jpg
END:VEVENT
BEGIN:VEVENT
DTSTART;TZID=America/Chicago:20230613T183000
DTEND;TZID=America/Chicago:20230613T213000
DTSTAMP:20260422T153623
CREATED:20230331T235433Z
LAST-MODIFIED:20250317T005702Z
UID:10000086-1686681000-1686691800@www.roxylockport.com
SUMMARY:The Lockport Swing Thing
DESCRIPTION:Free and family-friendly. No partner required. \nBeginner swing dance lesson: 6:30-7:30pm \nIntermediate swing dance lesson in separate room: 6:30-7:30pm \nPlease arrive between 6:00pm and 6:25pm so that the lessons may start on time. If you are late\, you are welcome to watch or follow along on your own. \nSocial dancing: 7:30-9:30pm
URL:https://www.roxylockport.com/calendar/the-lockport-swing-thing-20/2023-06-13/
LOCATION:ROXY Lockport\, 1017 S. State St.\, Lockport\, IL\, 60441\, United States
CATEGORIES:Dance
ATTACH;FMTTYPE=image/jpeg:https://www.roxylockport.com/wp-content/uploads/2022/12/Tuesdays-are-for-Swing.jpg
ORGANIZER;CN="R.J. and Jessica":MAILTO:thelockport.swingthing@gmail.com
END:VEVENT
BEGIN:VEVENT
DTSTART;TZID=America/Chicago:20230620T190000
DTEND;TZID=America/Chicago:20230620T213000
DTSTAMP:20260422T153623
CREATED:20230503T193610Z
LAST-MODIFIED:20230613T034023Z
UID:10000088-1687287600-1687296600@www.roxylockport.com
SUMMARY:Doug Horneand The Rhythm MakersOrchestra
DESCRIPTION:Dance lesson with The Lockport Swing Thing 6-7pm
URL:https://www.roxylockport.com/calendar/doug-horne-andthe-rhythm-makers-orchestra/
LOCATION:ROXY Lockport\, 1017 S. State St.\, Lockport\, IL\, 60441\, United States
CATEGORIES:Dance,Music Showcase
END:VEVENT
BEGIN:VEVENT
DTSTART;TZID=America/Chicago:20230626T200000
DTEND;TZID=America/Chicago:20230626T220000
DTSTAMP:20260422T153623
CREATED:20230331T225817Z
LAST-MODIFIED:20250317T010432Z
UID:10000350-1687809600-1687816800@www.roxylockport.com
SUMMARY:Outcast Jazz Band
DESCRIPTION:$10 cash only at the door
URL:https://www.roxylockport.com/calendar/outcast-jazz-band-6/2023-06-26/
LOCATION:ROXY Lockport\, 1017 S. State St.\, Lockport\, IL\, 60441\, United States
CATEGORIES:Dance,Music Showcase,Swing Dance
ATTACH;FMTTYPE=image/jpeg:https://www.roxylockport.com/wp-content/uploads/2022/12/OJB3.jpg
ORGANIZER;CN="Vince Clark":MAILTO:ojb@ojbmusic.com
END:VEVENT
BEGIN:VEVENT
DTSTART;TZID=America/Chicago:20230627T183000
DTEND;TZID=America/Chicago:20230627T213000
DTSTAMP:20260422T153623
CREATED:20230331T235433Z
LAST-MODIFIED:20250317T005702Z
UID:10000090-1687890600-1687901400@www.roxylockport.com
SUMMARY:The Lockport Swing Thing
DESCRIPTION:Free and family-friendly. No partner required. \nBeginner swing dance lesson: 6:30-7:30pm \nIntermediate swing dance lesson in separate room: 6:30-7:30pm \nPlease arrive between 6:00pm and 6:25pm so that the lessons may start on time. If you are late\, you are welcome to watch or follow along on your own. \nSocial dancing: 7:30-9:30pm
URL:https://www.roxylockport.com/calendar/the-lockport-swing-thing-20/2023-06-27/
LOCATION:ROXY Lockport\, 1017 S. State St.\, Lockport\, IL\, 60441\, United States
CATEGORIES:Dance
ATTACH;FMTTYPE=image/jpeg:https://www.roxylockport.com/wp-content/uploads/2022/12/Tuesdays-are-for-Swing.jpg
ORGANIZER;CN="R.J. and Jessica":MAILTO:thelockport.swingthing@gmail.com
END:VEVENT
END:VCALENDAR