BEGIN:VCALENDAR
VERSION:2.0
PRODID:-//ROXY Lockport - ECPv6.15.20//NONSGML v1.0//EN
CALSCALE:GREGORIAN
METHOD:PUBLISH
X-ORIGINAL-URL:https://www.roxylockport.com
X-WR-CALDESC:Events for ROXY Lockport
REFRESH-INTERVAL;VALUE=DURATION:PT1H
X-Robots-Tag:noindex
X-PUBLISHED-TTL:PT1H
BEGIN:VTIMEZONE
TZID:America/Chicago
BEGIN:DAYLIGHT
TZOFFSETFROM:-0600
TZOFFSETTO:-0500
TZNAME:CDT
DTSTART:20220313T080000
END:DAYLIGHT
BEGIN:STANDARD
TZOFFSETFROM:-0500
TZOFFSETTO:-0600
TZNAME:CST
DTSTART:20221106T070000
END:STANDARD
BEGIN:DAYLIGHT
TZOFFSETFROM:-0600
TZOFFSETTO:-0500
TZNAME:CDT
DTSTART:20230312T080000
END:DAYLIGHT
BEGIN:STANDARD
TZOFFSETFROM:-0500
TZOFFSETTO:-0600
TZNAME:CST
DTSTART:20231105T070000
END:STANDARD
BEGIN:DAYLIGHT
TZOFFSETFROM:-0600
TZOFFSETTO:-0500
TZNAME:CDT
DTSTART:20240310T080000
END:DAYLIGHT
BEGIN:STANDARD
TZOFFSETFROM:-0500
TZOFFSETTO:-0600
TZNAME:CST
DTSTART:20241103T070000
END:STANDARD
END:VTIMEZONE
BEGIN:VEVENT
DTSTART;TZID=America/Chicago:20230905T183000
DTEND;TZID=America/Chicago:20230905T213000
DTSTAMP:20260422T102906
CREATED:20230331T235433Z
LAST-MODIFIED:20250317T005702Z
UID:10000098-1693938600-1693949400@www.roxylockport.com
SUMMARY:The Lockport Swing Thing
DESCRIPTION:Free and family-friendly. No partner required. \nBeginner swing dance lesson: 6:30-7:30pm \nIntermediate swing dance lesson in separate room: 6:30-7:30pm \nPlease arrive between 6:00pm and 6:25pm so that the lessons may start on time. If you are late\, you are welcome to watch or follow along on your own. \nSocial dancing: 7:30-9:30pm
URL:https://www.roxylockport.com/calendar/the-lockport-swing-thing-20/2023-09-05/
LOCATION:ROXY Lockport\, 1017 S. State St.\, Lockport\, IL\, 60441\, United States
CATEGORIES:Dance
ATTACH;FMTTYPE=image/jpeg:https://www.roxylockport.com/wp-content/uploads/2022/12/Tuesdays-are-for-Swing.jpg
ORGANIZER;CN="R.J. and Jessica":MAILTO:thelockport.swingthing@gmail.com
END:VEVENT
BEGIN:VEVENT
DTSTART;TZID=America/Chicago:20230908T190000
DTEND;TZID=America/Chicago:20230908T220000
DTSTAMP:20260422T102906
CREATED:20230725T214250Z
LAST-MODIFIED:20230808T042148Z
UID:10000571-1694199600-1694210400@www.roxylockport.com
SUMMARY:Meeple SwingCosplay Dance
DESCRIPTION:Day one of Russell Smith’s family-friendly Meeple Swing Board Game Convention  \nGame related costumes encouraged\, but any family-friendly cosplay costumes are acceptable \nMinimum $2 donation\, per person\, for Trinity Services \nOutside beverages not allowed
URL:https://www.roxylockport.com/calendar/meeple-swingcosplay-dance/
LOCATION:ROXY Lockport\, 1017 S. State St.\, Lockport\, IL\, 60441\, United States
CATEGORIES:Dance
END:VEVENT
BEGIN:VEVENT
DTSTART;TZID=America/Chicago:20230912T183000
DTEND;TZID=America/Chicago:20230912T213000
DTSTAMP:20260422T102906
CREATED:20230331T235433Z
LAST-MODIFIED:20250317T005702Z
UID:10000099-1694543400-1694554200@www.roxylockport.com
SUMMARY:The Lockport Swing Thing
DESCRIPTION:Free and family-friendly. No partner required. \nBeginner swing dance lesson: 6:30-7:30pm \nIntermediate swing dance lesson in separate room: 6:30-7:30pm \nPlease arrive between 6:00pm and 6:25pm so that the lessons may start on time. If you are late\, you are welcome to watch or follow along on your own. \nSocial dancing: 7:30-9:30pm
URL:https://www.roxylockport.com/calendar/the-lockport-swing-thing-20/2023-09-12/
LOCATION:ROXY Lockport\, 1017 S. State St.\, Lockport\, IL\, 60441\, United States
CATEGORIES:Dance
ATTACH;FMTTYPE=image/jpeg:https://www.roxylockport.com/wp-content/uploads/2022/12/Tuesdays-are-for-Swing.jpg
ORGANIZER;CN="R.J. and Jessica":MAILTO:thelockport.swingthing@gmail.com
END:VEVENT
BEGIN:VEVENT
DTSTART;TZID=America/Chicago:20230914T190000
DTEND;TZID=America/Chicago:20230914T213000
DTSTAMP:20260422T102906
CREATED:20230331T235205Z
LAST-MODIFIED:20250317T010941Z
UID:10000292-1694718000-1694727000@www.roxylockport.com
SUMMARY:Mr. Lucky & his Orchestra of Tomorrow
DESCRIPTION:
URL:https://www.roxylockport.com/calendar/mr-lucky-hisorchestra-of-tomorrow/2023-09-14/
LOCATION:ROXY Lockport\, 1017 S. State St.\, Lockport\, IL\, 60441\, United States
CATEGORIES:Dance,Music Showcase
ATTACH;FMTTYPE=image/jpeg:https://www.roxylockport.com/wp-content/uploads/2022/12/luckytux-scaled.jpg
END:VEVENT
BEGIN:VEVENT
DTSTART;TZID=America/Chicago:20230919T180000
DTEND;TZID=America/Chicago:20230919T213000
DTSTAMP:20260422T102906
CREATED:20230331T224119Z
LAST-MODIFIED:20230612T222130Z
UID:10000470-1695146400-1695159000@www.roxylockport.com
SUMMARY:The Falconaires OrchestraDance Lesson with TLST
DESCRIPTION:Dance lesson with The Lockport Swing Thing: 6-7pm\nBand plays 7-9:30pm
URL:https://www.roxylockport.com/calendar/the-falconaires-orchestrawith-dance-lesson-by-tlst/2023-09-19/
LOCATION:ROXY Lockport\, 1017 S. State St.\, Lockport\, IL\, 60441\, United States
CATEGORIES:Dance,Music Showcase
ATTACH;FMTTYPE=image/jpeg:https://www.roxylockport.com/wp-content/uploads/2022/12/The-Falconaires-FB-Event3-scaled.jpg
END:VEVENT
BEGIN:VEVENT
DTSTART;TZID=America/Chicago:20230925T200000
DTEND;TZID=America/Chicago:20230925T220000
DTSTAMP:20260422T102906
CREATED:20230331T225817Z
LAST-MODIFIED:20250317T010432Z
UID:10000353-1695672000-1695679200@www.roxylockport.com
SUMMARY:Outcast Jazz Band
DESCRIPTION:$10 cash only at the door
URL:https://www.roxylockport.com/calendar/outcast-jazz-band-6/2023-09-25/
LOCATION:ROXY Lockport\, 1017 S. State St.\, Lockport\, IL\, 60441\, United States
CATEGORIES:Dance,Music Showcase,Swing Dance
ATTACH;FMTTYPE=image/jpeg:https://www.roxylockport.com/wp-content/uploads/2022/12/OJB3.jpg
ORGANIZER;CN="Vince Clark":MAILTO:ojb@ojbmusic.com
END:VEVENT
BEGIN:VEVENT
DTSTART;TZID=America/Chicago:20230926T183000
DTEND;TZID=America/Chicago:20230926T213000
DTSTAMP:20260422T102906
CREATED:20230331T235433Z
LAST-MODIFIED:20250317T005702Z
UID:10000100-1695753000-1695763800@www.roxylockport.com
SUMMARY:The Lockport Swing Thing
DESCRIPTION:Free and family-friendly. No partner required. \nBeginner swing dance lesson: 6:30-7:30pm \nIntermediate swing dance lesson in separate room: 6:30-7:30pm \nPlease arrive between 6:00pm and 6:25pm so that the lessons may start on time. If you are late\, you are welcome to watch or follow along on your own. \nSocial dancing: 7:30-9:30pm
URL:https://www.roxylockport.com/calendar/the-lockport-swing-thing-20/2023-09-26/
LOCATION:ROXY Lockport\, 1017 S. State St.\, Lockport\, IL\, 60441\, United States
CATEGORIES:Dance
ATTACH;FMTTYPE=image/jpeg:https://www.roxylockport.com/wp-content/uploads/2022/12/Tuesdays-are-for-Swing.jpg
ORGANIZER;CN="R.J. and Jessica":MAILTO:thelockport.swingthing@gmail.com
END:VEVENT
END:VCALENDAR