BEGIN:VCALENDAR
VERSION:2.0
PRODID:-//ROXY Lockport - ECPv6.15.20//NONSGML v1.0//EN
CALSCALE:GREGORIAN
METHOD:PUBLISH
X-WR-CALNAME:ROXY Lockport
X-ORIGINAL-URL:https://www.roxylockport.com
X-WR-CALDESC:Events for ROXY Lockport
REFRESH-INTERVAL;VALUE=DURATION:PT1H
X-Robots-Tag:noindex
X-PUBLISHED-TTL:PT1H
BEGIN:VTIMEZONE
TZID:America/Chicago
BEGIN:DAYLIGHT
TZOFFSETFROM:-0600
TZOFFSETTO:-0500
TZNAME:CDT
DTSTART:20220313T080000
END:DAYLIGHT
BEGIN:STANDARD
TZOFFSETFROM:-0500
TZOFFSETTO:-0600
TZNAME:CST
DTSTART:20221106T070000
END:STANDARD
BEGIN:DAYLIGHT
TZOFFSETFROM:-0600
TZOFFSETTO:-0500
TZNAME:CDT
DTSTART:20230312T080000
END:DAYLIGHT
BEGIN:STANDARD
TZOFFSETFROM:-0500
TZOFFSETTO:-0600
TZNAME:CST
DTSTART:20231105T070000
END:STANDARD
BEGIN:DAYLIGHT
TZOFFSETFROM:-0600
TZOFFSETTO:-0500
TZNAME:CDT
DTSTART:20240310T080000
END:DAYLIGHT
BEGIN:STANDARD
TZOFFSETFROM:-0500
TZOFFSETTO:-0600
TZNAME:CST
DTSTART:20241103T070000
END:STANDARD
END:VTIMEZONE
BEGIN:VEVENT
DTSTART;TZID=America/Chicago:20231105T180000
DTEND;TZID=America/Chicago:20231105T210000
DTSTAMP:20260420T021659
CREATED:20230727T212517Z
LAST-MODIFIED:20230727T212518Z
UID:10000581-1699207200-1699218000@www.roxylockport.com
SUMMARY:Shout Section Big BandNEW START TIME!
DESCRIPTION:
URL:https://www.roxylockport.com/calendar/shout-section-big-band-7-2/2023-11-05/
LOCATION:ROXY Lockport\, 1017 S. State St.\, Lockport\, IL\, 60441\, United States
CATEGORIES:Dance,Music Showcase
END:VEVENT
BEGIN:VEVENT
DTSTART;TZID=America/Chicago:20231107T183000
DTEND;TZID=America/Chicago:20231107T213000
DTSTAMP:20260420T021659
CREATED:20230331T235433Z
LAST-MODIFIED:20250317T005702Z
UID:10000105-1699381800-1699392600@www.roxylockport.com
SUMMARY:The Lockport Swing Thing
DESCRIPTION:Free and family-friendly. No partner required. \nBeginner swing dance lesson: 6:30-7:30pm \nIntermediate swing dance lesson in separate room: 6:30-7:30pm \nPlease arrive between 6:00pm and 6:25pm so that the lessons may start on time. If you are late\, you are welcome to watch or follow along on your own. \nSocial dancing: 7:30-9:30pm
URL:https://www.roxylockport.com/calendar/the-lockport-swing-thing-20/2023-11-07/
LOCATION:ROXY Lockport\, 1017 S. State St.\, Lockport\, IL\, 60441\, United States
CATEGORIES:Dance
ATTACH;FMTTYPE=image/jpeg:https://www.roxylockport.com/wp-content/uploads/2022/12/Tuesdays-are-for-Swing.jpg
ORGANIZER;CN="R.J. and Jessica":MAILTO:thelockport.swingthing@gmail.com
END:VEVENT
BEGIN:VEVENT
DTSTART;TZID=America/Chicago:20231109T190000
DTEND;TZID=America/Chicago:20231109T213000
DTSTAMP:20260420T021659
CREATED:20230331T235205Z
LAST-MODIFIED:20250317T010941Z
UID:10000294-1699556400-1699565400@www.roxylockport.com
SUMMARY:Mr. Lucky & his Orchestra of Tomorrow
DESCRIPTION:
URL:https://www.roxylockport.com/calendar/mr-lucky-hisorchestra-of-tomorrow/2023-11-09/
LOCATION:ROXY Lockport\, 1017 S. State St.\, Lockport\, IL\, 60441\, United States
CATEGORIES:Dance,Music Showcase
ATTACH;FMTTYPE=image/jpeg:https://www.roxylockport.com/wp-content/uploads/2022/12/luckytux-scaled.jpg
END:VEVENT
BEGIN:VEVENT
DTSTART;TZID=America/Chicago:20231114T183000
DTEND;TZID=America/Chicago:20231114T213000
DTSTAMP:20260420T021659
CREATED:20230331T235433Z
LAST-MODIFIED:20250317T005702Z
UID:10000106-1699986600-1699997400@www.roxylockport.com
SUMMARY:The Lockport Swing Thing
DESCRIPTION:Free and family-friendly. No partner required. \nBeginner swing dance lesson: 6:30-7:30pm \nIntermediate swing dance lesson in separate room: 6:30-7:30pm \nPlease arrive between 6:00pm and 6:25pm so that the lessons may start on time. If you are late\, you are welcome to watch or follow along on your own. \nSocial dancing: 7:30-9:30pm
URL:https://www.roxylockport.com/calendar/the-lockport-swing-thing-20/2023-11-14/
LOCATION:ROXY Lockport\, 1017 S. State St.\, Lockport\, IL\, 60441\, United States
CATEGORIES:Dance
ATTACH;FMTTYPE=image/jpeg:https://www.roxylockport.com/wp-content/uploads/2022/12/Tuesdays-are-for-Swing.jpg
ORGANIZER;CN="R.J. and Jessica":MAILTO:thelockport.swingthing@gmail.com
END:VEVENT
BEGIN:VEVENT
DTSTART;TZID=America/Chicago:20231119T180000
DTEND;TZID=America/Chicago:20231119T210000
DTSTAMP:20260420T021659
CREATED:20231020T070148Z
LAST-MODIFIED:20231020T070148Z
UID:10000669-1700416800-1700427600@www.roxylockport.com
SUMMARY:Jack & Krystyna Miucciowith The Brian Patti Orchestra
DESCRIPTION:An evening of ballroom dancing at ROXY with The Brian Patti Orchestra featuring Jack & Krystyna Miuccio!
URL:https://www.roxylockport.com/calendar/jack-krystyna-miucciowith-the-brian-patti-orchestra/
LOCATION:ROXY Lockport\, 1017 S. State St.\, Lockport\, IL\, 60441\, United States
CATEGORIES:Ballroom Dancing,Big Band/Swing,Dance,Music Showcase
ORGANIZER;CN="Jack Miuccio":MAILTO:crooner861@comcast.net
END:VEVENT
BEGIN:VEVENT
DTSTART;TZID=America/Chicago:20231121T180000
DTEND;TZID=America/Chicago:20231121T213000
DTSTAMP:20260420T021659
CREATED:20230331T224119Z
LAST-MODIFIED:20230612T222130Z
UID:10000471-1700589600-1700602200@www.roxylockport.com
SUMMARY:The Falconaires OrchestraDance Lesson with TLST
DESCRIPTION:Dance lesson with The Lockport Swing Thing: 6-7pm\nBand plays 7-9:30pm
URL:https://www.roxylockport.com/calendar/the-falconaires-orchestrawith-dance-lesson-by-tlst/2023-11-21/
LOCATION:ROXY Lockport\, 1017 S. State St.\, Lockport\, IL\, 60441\, United States
CATEGORIES:Dance,Music Showcase
ATTACH;FMTTYPE=image/jpeg:https://www.roxylockport.com/wp-content/uploads/2022/12/The-Falconaires-FB-Event3-scaled.jpg
END:VEVENT
BEGIN:VEVENT
DTSTART;TZID=America/Chicago:20231127T200000
DTEND;TZID=America/Chicago:20231127T220000
DTSTAMP:20260420T021659
CREATED:20230331T225817Z
LAST-MODIFIED:20250317T010432Z
UID:10000355-1701115200-1701122400@www.roxylockport.com
SUMMARY:Outcast Jazz Band
DESCRIPTION:$10 cash only at the door
URL:https://www.roxylockport.com/calendar/outcast-jazz-band-6/2023-11-27/
LOCATION:ROXY Lockport\, 1017 S. State St.\, Lockport\, IL\, 60441\, United States
CATEGORIES:Dance,Music Showcase,Swing Dance
ATTACH;FMTTYPE=image/jpeg:https://www.roxylockport.com/wp-content/uploads/2022/12/OJB3.jpg
ORGANIZER;CN="Vince Clark":MAILTO:ojb@ojbmusic.com
END:VEVENT
BEGIN:VEVENT
DTSTART;TZID=America/Chicago:20231128T183000
DTEND;TZID=America/Chicago:20231128T213000
DTSTAMP:20260420T021659
CREATED:20230331T235433Z
LAST-MODIFIED:20250317T005702Z
UID:10000107-1701196200-1701207000@www.roxylockport.com
SUMMARY:The Lockport Swing Thing
DESCRIPTION:Free and family-friendly. No partner required. \nBeginner swing dance lesson: 6:30-7:30pm \nIntermediate swing dance lesson in separate room: 6:30-7:30pm \nPlease arrive between 6:00pm and 6:25pm so that the lessons may start on time. If you are late\, you are welcome to watch or follow along on your own. \nSocial dancing: 7:30-9:30pm
URL:https://www.roxylockport.com/calendar/the-lockport-swing-thing-20/2023-11-28/
LOCATION:ROXY Lockport\, 1017 S. State St.\, Lockport\, IL\, 60441\, United States
CATEGORIES:Dance
ATTACH;FMTTYPE=image/jpeg:https://www.roxylockport.com/wp-content/uploads/2022/12/Tuesdays-are-for-Swing.jpg
ORGANIZER;CN="R.J. and Jessica":MAILTO:thelockport.swingthing@gmail.com
END:VEVENT
END:VCALENDAR