BEGIN:VCALENDAR
VERSION:2.0
PRODID:-//ROXY Lockport - ECPv6.15.20//NONSGML v1.0//EN
CALSCALE:GREGORIAN
METHOD:PUBLISH
X-WR-CALNAME:ROXY Lockport
X-ORIGINAL-URL:https://www.roxylockport.com
X-WR-CALDESC:Events for ROXY Lockport
REFRESH-INTERVAL;VALUE=DURATION:PT1H
X-Robots-Tag:noindex
X-PUBLISHED-TTL:PT1H
BEGIN:VTIMEZONE
TZID:America/Chicago
BEGIN:DAYLIGHT
TZOFFSETFROM:-0600
TZOFFSETTO:-0500
TZNAME:CDT
DTSTART:20230312T080000
END:DAYLIGHT
BEGIN:STANDARD
TZOFFSETFROM:-0500
TZOFFSETTO:-0600
TZNAME:CST
DTSTART:20231105T070000
END:STANDARD
BEGIN:DAYLIGHT
TZOFFSETFROM:-0600
TZOFFSETTO:-0500
TZNAME:CDT
DTSTART:20240310T080000
END:DAYLIGHT
BEGIN:STANDARD
TZOFFSETFROM:-0500
TZOFFSETTO:-0600
TZNAME:CST
DTSTART:20241103T070000
END:STANDARD
BEGIN:DAYLIGHT
TZOFFSETFROM:-0600
TZOFFSETTO:-0500
TZNAME:CDT
DTSTART:20250309T080000
END:DAYLIGHT
BEGIN:STANDARD
TZOFFSETFROM:-0500
TZOFFSETTO:-0600
TZNAME:CST
DTSTART:20251102T070000
END:STANDARD
END:VTIMEZONE
BEGIN:VEVENT
DTSTART;TZID=America/Chicago:20240303T180000
DTEND;TZID=America/Chicago:20240303T210000
DTSTAMP:20260419T221048
CREATED:20230727T212517Z
LAST-MODIFIED:20230727T212518Z
UID:10000585-1709488800-1709499600@www.roxylockport.com
SUMMARY:Shout Section Big BandNEW START TIME!
DESCRIPTION:
URL:https://www.roxylockport.com/calendar/shout-section-big-band-7-2/2024-03-03/
LOCATION:ROXY Lockport\, 1017 S. State St.\, Lockport\, IL\, 60441\, United States
CATEGORIES:Dance,Music Showcase
END:VEVENT
BEGIN:VEVENT
DTSTART;TZID=America/Chicago:20240305T183000
DTEND;TZID=America/Chicago:20240305T213000
DTSTAMP:20260419T221048
CREATED:20230331T235433Z
LAST-MODIFIED:20250317T005702Z
UID:10000118-1709663400-1709674200@www.roxylockport.com
SUMMARY:The Lockport Swing Thing
DESCRIPTION:Free and family-friendly. No partner required. \nBeginner swing dance lesson: 6:30-7:30pm \nIntermediate swing dance lesson in separate room: 6:30-7:30pm \nPlease arrive between 6:00pm and 6:25pm so that the lessons may start on time. If you are late\, you are welcome to watch or follow along on your own. \nSocial dancing: 7:30-9:30pm
URL:https://www.roxylockport.com/calendar/the-lockport-swing-thing-20/2024-03-05/
LOCATION:ROXY Lockport\, 1017 S. State St.\, Lockport\, IL\, 60441\, United States
CATEGORIES:Dance
ATTACH;FMTTYPE=image/jpeg:https://www.roxylockport.com/wp-content/uploads/2022/12/Tuesdays-are-for-Swing.jpg
ORGANIZER;CN="R.J. and Jessica":MAILTO:thelockport.swingthing@gmail.com
END:VEVENT
BEGIN:VEVENT
DTSTART;TZID=America/Chicago:20240310T190000
DTEND;TZID=America/Chicago:20240310T190000
DTSTAMP:20260419T221048
CREATED:20240106T034643Z
LAST-MODIFIED:20240107T022102Z
UID:10000703-1710097200-1710097200@www.roxylockport.com
SUMMARY:Gary Thomas& the Tom-TomsFrank Sinatra Tribute
DESCRIPTION:Step into the timeless world of classic crooning as Gary Thomas and his sensational band\, the Tom-Toms\, take center stage at the iconic ROXY Lockport for an unforgettable tribute to the legendary Frank Sinatra. In a night filled with classic melodies and toe-tapping rhythms\, audiences are transported back to the golden era of swing and jazz\, as Gary Thomas pays homage to Ol’ Blue Eyes himself. \nSet against the historic backdrop of the ROXY\, this captivating performance promises an evening of elegance and nostalgia. Gary Thomas\, a consummate entertainer with a voice that effortlessly channels the essence of Sinatra\, leads the audience on a musical journey through Sinatra’s timeless songbook. \nClick here for tickets \nThere will be space for dancing
URL:https://www.roxylockport.com/calendar/gary-thomas-the-tom-tomsfrank-sinatra-tribute/
LOCATION:ROXY Lockport\, 1017 S. State St.\, Lockport\, IL\, 60441\, United States
CATEGORIES:Dance,Music Showcase,Tribute Band
END:VEVENT
BEGIN:VEVENT
DTSTART;TZID=America/Chicago:20240312T183000
DTEND;TZID=America/Chicago:20240312T213000
DTSTAMP:20260419T221048
CREATED:20230331T235433Z
LAST-MODIFIED:20250317T005702Z
UID:10000119-1710268200-1710279000@www.roxylockport.com
SUMMARY:The Lockport Swing Thing
DESCRIPTION:Free and family-friendly. No partner required. \nBeginner swing dance lesson: 6:30-7:30pm \nIntermediate swing dance lesson in separate room: 6:30-7:30pm \nPlease arrive between 6:00pm and 6:25pm so that the lessons may start on time. If you are late\, you are welcome to watch or follow along on your own. \nSocial dancing: 7:30-9:30pm
URL:https://www.roxylockport.com/calendar/the-lockport-swing-thing-20/2024-03-12/
LOCATION:ROXY Lockport\, 1017 S. State St.\, Lockport\, IL\, 60441\, United States
CATEGORIES:Dance
ATTACH;FMTTYPE=image/jpeg:https://www.roxylockport.com/wp-content/uploads/2022/12/Tuesdays-are-for-Swing.jpg
ORGANIZER;CN="R.J. and Jessica":MAILTO:thelockport.swingthing@gmail.com
END:VEVENT
BEGIN:VEVENT
DTSTART;TZID=America/Chicago:20240314T190000
DTEND;TZID=America/Chicago:20240314T213000
DTSTAMP:20260419T221048
CREATED:20230331T235205Z
LAST-MODIFIED:20250317T010941Z
UID:10000298-1710442800-1710451800@www.roxylockport.com
SUMMARY:Mr. Lucky & his Orchestra of Tomorrow
DESCRIPTION:
URL:https://www.roxylockport.com/calendar/mr-lucky-hisorchestra-of-tomorrow/2024-03-14/
LOCATION:ROXY Lockport\, 1017 S. State St.\, Lockport\, IL\, 60441\, United States
CATEGORIES:Dance,Music Showcase
ATTACH;FMTTYPE=image/jpeg:https://www.roxylockport.com/wp-content/uploads/2022/12/luckytux-scaled.jpg
END:VEVENT
BEGIN:VEVENT
DTSTART;TZID=America/Chicago:20240319T180000
DTEND;TZID=America/Chicago:20240319T213000
DTSTAMP:20260419T221048
CREATED:20230331T224119Z
LAST-MODIFIED:20230612T222130Z
UID:10000473-1710871200-1710883800@www.roxylockport.com
SUMMARY:The Falconaires OrchestraDance Lesson with TLST
DESCRIPTION:Dance lesson with The Lockport Swing Thing: 6-7pm\nBand plays 7-9:30pm
URL:https://www.roxylockport.com/calendar/the-falconaires-orchestrawith-dance-lesson-by-tlst/2024-03-19/
LOCATION:ROXY Lockport\, 1017 S. State St.\, Lockport\, IL\, 60441\, United States
CATEGORIES:Dance,Music Showcase
ATTACH;FMTTYPE=image/jpeg:https://www.roxylockport.com/wp-content/uploads/2022/12/The-Falconaires-FB-Event3-scaled.jpg
END:VEVENT
BEGIN:VEVENT
DTSTART;TZID=America/Chicago:20240325T200000
DTEND;TZID=America/Chicago:20240325T220000
DTSTAMP:20260419T221048
CREATED:20230331T225817Z
LAST-MODIFIED:20250317T010432Z
UID:10000358-1711396800-1711404000@www.roxylockport.com
SUMMARY:Outcast Jazz Band
DESCRIPTION:$10 cash only at the door
URL:https://www.roxylockport.com/calendar/outcast-jazz-band-6/2024-03-25/
LOCATION:ROXY Lockport\, 1017 S. State St.\, Lockport\, IL\, 60441\, United States
CATEGORIES:Dance,Music Showcase,Swing Dance
ATTACH;FMTTYPE=image/jpeg:https://www.roxylockport.com/wp-content/uploads/2022/12/OJB3.jpg
ORGANIZER;CN="Vince Clark":MAILTO:ojb@ojbmusic.com
END:VEVENT
BEGIN:VEVENT
DTSTART;TZID=America/Chicago:20240326T183000
DTEND;TZID=America/Chicago:20240326T213000
DTSTAMP:20260419T221048
CREATED:20230331T235433Z
LAST-MODIFIED:20250317T005702Z
UID:10000120-1711477800-1711488600@www.roxylockport.com
SUMMARY:The Lockport Swing Thing
DESCRIPTION:Free and family-friendly. No partner required. \nBeginner swing dance lesson: 6:30-7:30pm \nIntermediate swing dance lesson in separate room: 6:30-7:30pm \nPlease arrive between 6:00pm and 6:25pm so that the lessons may start on time. If you are late\, you are welcome to watch or follow along on your own. \nSocial dancing: 7:30-9:30pm
URL:https://www.roxylockport.com/calendar/the-lockport-swing-thing-20/2024-03-26/
LOCATION:ROXY Lockport\, 1017 S. State St.\, Lockport\, IL\, 60441\, United States
CATEGORIES:Dance
ATTACH;FMTTYPE=image/jpeg:https://www.roxylockport.com/wp-content/uploads/2022/12/Tuesdays-are-for-Swing.jpg
ORGANIZER;CN="R.J. and Jessica":MAILTO:thelockport.swingthing@gmail.com
END:VEVENT
BEGIN:VEVENT
DTSTART;TZID=America/Chicago:20240329T193000
DTEND;TZID=America/Chicago:20240329T193000
DTSTAMP:20260419T221048
CREATED:20230613T030302Z
LAST-MODIFIED:20240225T024238Z
UID:10000561-1711740600-1711740600@www.roxylockport.com
SUMMARY:Brookwood DriveBlues Band
DESCRIPTION:$10 cash at the door\nDoors open at 6:30pm\nMusic starts at 7:30pm \nThere will be space for dancing!
URL:https://www.roxylockport.com/calendar/brookwood-driveblues-band/
LOCATION:ROXY Lockport\, 1017 S. State St.\, Lockport\, IL\, 60441\, United States
CATEGORIES:Blues,Dance,Music Showcase
ORGANIZER;CN="Bob Raudys":MAILTO:badintentionsband@yahoo.com
END:VEVENT
BEGIN:VEVENT
DTSTART;TZID=America/Chicago:20240330T180000
DTEND;TZID=America/Chicago:20240330T220000
DTSTAMP:20260419T221048
CREATED:20240225T010707Z
LAST-MODIFIED:20240225T024024Z
UID:10000714-1711821600-1711836000@www.roxylockport.com
SUMMARY:Sam Burns 5tetBlake Whatcott Quintet
DESCRIPTION:Sharing the stage at ROXY on Saturday\, March 30th is the Sam Burns 5tet and the Blake Whatcott Quintet bringing you some amazing jazz. \nMusic starts at 6pm \n$10 cash at the door. $5 with student ID.
URL:https://www.roxylockport.com/calendar/sam-burns-5tetsave-the-date/
LOCATION:ROXY Lockport\, 1017 S. State St.\, Lockport\, IL\, 60441\, United States
CATEGORIES:Dance,Jazz,Music Showcase,Swing Dance
ORGANIZER;CN="Sam Burns":MAILTO:samuelburnsmusic@gmail.com
END:VEVENT
END:VCALENDAR