BEGIN:VCALENDAR
VERSION:2.0
PRODID:-//ROXY Lockport - ECPv6.15.20//NONSGML v1.0//EN
CALSCALE:GREGORIAN
METHOD:PUBLISH
X-ORIGINAL-URL:https://www.roxylockport.com
X-WR-CALDESC:Events for ROXY Lockport
REFRESH-INTERVAL;VALUE=DURATION:PT1H
X-Robots-Tag:noindex
X-PUBLISHED-TTL:PT1H
BEGIN:VTIMEZONE
TZID:America/Chicago
BEGIN:DAYLIGHT
TZOFFSETFROM:-0600
TZOFFSETTO:-0500
TZNAME:CDT
DTSTART:20230312T080000
END:DAYLIGHT
BEGIN:STANDARD
TZOFFSETFROM:-0500
TZOFFSETTO:-0600
TZNAME:CST
DTSTART:20231105T070000
END:STANDARD
BEGIN:DAYLIGHT
TZOFFSETFROM:-0600
TZOFFSETTO:-0500
TZNAME:CDT
DTSTART:20240310T080000
END:DAYLIGHT
BEGIN:STANDARD
TZOFFSETFROM:-0500
TZOFFSETTO:-0600
TZNAME:CST
DTSTART:20241103T070000
END:STANDARD
BEGIN:DAYLIGHT
TZOFFSETFROM:-0600
TZOFFSETTO:-0500
TZNAME:CDT
DTSTART:20250309T080000
END:DAYLIGHT
BEGIN:STANDARD
TZOFFSETFROM:-0500
TZOFFSETTO:-0600
TZNAME:CST
DTSTART:20251102T070000
END:STANDARD
END:VTIMEZONE
BEGIN:VEVENT
DTSTART;TZID=America/Chicago:20241228T140000
DTEND;TZID=America/Chicago:20241228T140000
DTSTAMP:20260420T122723
CREATED:20241105T074345Z
LAST-MODIFIED:20241123T030204Z
UID:10000902-1735394400-1735394400@www.roxylockport.com
SUMMARY:Magic MastersMatinee ShowDoors open at 2pm
DESCRIPTION:Get your tickets here! \nDoors open at 2pm with an hour of strolling magic before the stage show starts at 3pm
URL:https://www.roxylockport.com/calendar/magic-mastersmagic-showsave-the-date/
LOCATION:ROXY Lockport\, 1017 S. State St.\, Lockport\, IL\, 60441\, United States
CATEGORIES:Magic Show
ORGANIZER;CN="Magic Masters":MAILTO:magicdon36@comcast.net
END:VEVENT
BEGIN:VEVENT
DTSTART;TZID=America/Chicago:20241228T183000
DTEND;TZID=America/Chicago:20241228T183000
DTSTAMP:20260420T122723
CREATED:20241123T025216Z
LAST-MODIFIED:20241123T025216Z
UID:10000903-1735410600-1735410600@www.roxylockport.com
SUMMARY:Magic MastersEvening ShowDoors open at 6:30pm
DESCRIPTION:Get your tickets here! \nDoors open at 6:30pm with an hour of strolling magic before the stage show starts at 7:30pm
URL:https://www.roxylockport.com/calendar/magic-mastersmatinee-showdoors-open-at-630pm/
LOCATION:ROXY Lockport\, 1017 S. State St.\, Lockport\, IL\, 60441\, United States
CATEGORIES:Magic Show
ORGANIZER;CN="Magic Masters":MAILTO:magicdon36@comcast.net
END:VEVENT
END:VCALENDAR