BEGIN:VCALENDAR
VERSION:2.0
PRODID:-//ROXY Lockport - ECPv6.15.20//NONSGML v1.0//EN
CALSCALE:GREGORIAN
METHOD:PUBLISH
X-ORIGINAL-URL:https://www.roxylockport.com
X-WR-CALDESC:Events for ROXY Lockport
REFRESH-INTERVAL;VALUE=DURATION:PT1H
X-Robots-Tag:noindex
X-PUBLISHED-TTL:PT1H
BEGIN:VTIMEZONE
TZID:America/Chicago
BEGIN:DAYLIGHT
TZOFFSETFROM:-0600
TZOFFSETTO:-0500
TZNAME:CDT
DTSTART:20240310T080000
END:DAYLIGHT
BEGIN:STANDARD
TZOFFSETFROM:-0500
TZOFFSETTO:-0600
TZNAME:CST
DTSTART:20241103T070000
END:STANDARD
BEGIN:DAYLIGHT
TZOFFSETFROM:-0600
TZOFFSETTO:-0500
TZNAME:CDT
DTSTART:20250309T080000
END:DAYLIGHT
BEGIN:STANDARD
TZOFFSETFROM:-0500
TZOFFSETTO:-0600
TZNAME:CST
DTSTART:20251102T070000
END:STANDARD
BEGIN:DAYLIGHT
TZOFFSETFROM:-0600
TZOFFSETTO:-0500
TZNAME:CDT
DTSTART:20260308T080000
END:DAYLIGHT
BEGIN:STANDARD
TZOFFSETFROM:-0500
TZOFFSETTO:-0600
TZNAME:CST
DTSTART:20261101T070000
END:STANDARD
END:VTIMEZONE
BEGIN:VEVENT
DTSTART;TZID=America/Chicago:20251227T150000
DTEND;TZID=America/Chicago:20251227T150000
DTSTAMP:20260419T113346
CREATED:20250929T004327Z
LAST-MODIFIED:20250929T004327Z
UID:10001218-1766847600-1766847600@www.roxylockport.com
SUMMARY:Magic of the Holidays // Matinee
DESCRIPTION:Click here for tickets
URL:https://www.roxylockport.com/calendar/magic-of-the-holidays-matinee/
LOCATION:ROXY Lockport\, 1017 S. State St.\, Lockport\, IL\, 60441\, United States
CATEGORIES:Magic Show
ORGANIZER;CN="Magic Masters":MAILTO:magicdon36@comcast.net
END:VEVENT
BEGIN:VEVENT
DTSTART;TZID=America/Chicago:20251227T193000
DTEND;TZID=America/Chicago:20251227T193000
DTSTAMP:20260419T113346
CREATED:20250929T004441Z
LAST-MODIFIED:20250929T004441Z
UID:10001219-1766863800-1766863800@www.roxylockport.com
SUMMARY:Magic of the Holidays // Evening Show
DESCRIPTION:Click here for tickets
URL:https://www.roxylockport.com/calendar/magic-of-the-holidays-evening-show/
LOCATION:ROXY Lockport\, 1017 S. State St.\, Lockport\, IL\, 60441\, United States
CATEGORIES:Magic Show
ORGANIZER;CN="Magic Masters":MAILTO:magicdon36@comcast.net
END:VEVENT
END:VCALENDAR