BEGIN:VCALENDAR
VERSION:2.0
PRODID:-//ROXY Lockport - ECPv6.15.20//NONSGML v1.0//EN
CALSCALE:GREGORIAN
METHOD:PUBLISH
X-ORIGINAL-URL:https://www.roxylockport.com
X-WR-CALDESC:Events for ROXY Lockport
REFRESH-INTERVAL;VALUE=DURATION:PT1H
X-Robots-Tag:noindex
X-PUBLISHED-TTL:PT1H
BEGIN:VTIMEZONE
TZID:America/Chicago
BEGIN:DAYLIGHT
TZOFFSETFROM:-0600
TZOFFSETTO:-0500
TZNAME:CDT
DTSTART:20220313T080000
END:DAYLIGHT
BEGIN:STANDARD
TZOFFSETFROM:-0500
TZOFFSETTO:-0600
TZNAME:CST
DTSTART:20221106T070000
END:STANDARD
BEGIN:DAYLIGHT
TZOFFSETFROM:-0600
TZOFFSETTO:-0500
TZNAME:CDT
DTSTART:20230312T080000
END:DAYLIGHT
BEGIN:STANDARD
TZOFFSETFROM:-0500
TZOFFSETTO:-0600
TZNAME:CST
DTSTART:20231105T070000
END:STANDARD
BEGIN:DAYLIGHT
TZOFFSETFROM:-0600
TZOFFSETTO:-0500
TZNAME:CDT
DTSTART:20240310T080000
END:DAYLIGHT
BEGIN:STANDARD
TZOFFSETFROM:-0500
TZOFFSETTO:-0600
TZNAME:CST
DTSTART:20241103T070000
END:STANDARD
END:VTIMEZONE
BEGIN:VEVENT
DTSTART;TZID=America/Chicago:20231231T200000
DTEND;TZID=America/Chicago:20231231T235900
DTSTAMP:20260425T195156
CREATED:20231107T000702Z
LAST-MODIFIED:20240106T032130Z
UID:10000681-1704052800-1704067140@www.roxylockport.com
SUMMARY:NYE BashfeaturingSonny & theSwing Rolls
DESCRIPTION:Dress your best\, and join us for another hopping New Year’s Eve bash! \nThis year\, we are featuring Sonny & the Eggrolls under the name “Sonny & the Swing Rolls” as they invite some extra musicians to play with them to provide music for you to dance the night away to!* \n$20 gets you admission plus a champagne/sparkling cider toast at midnight as well as hot hors d’oeuvres catered from Mama Onesta! \nCocktail hour: 8-9pm. Hot hors d’oeuvres will arrive around 8:30pm.\nLive music and dancing: 9pm-12am\nDJ’d music: 12am-12:30am \n*Dancing highly encouraged\, though not required
URL:https://www.roxylockport.com/calendar/nye-bashfeaturingsonny-the-swing-rolls/
LOCATION:ROXY Lockport\, 1017 S. State St.\, Lockport\, IL\, 60441\, United States
CATEGORIES:Blues,Dance,Latin,Music Showcase,Rock,Swing
END:VEVENT
END:VCALENDAR