BEGIN:VCALENDAR
VERSION:2.0
PRODID:-//ROXY Lockport - ECPv6.15.20//NONSGML v1.0//EN
CALSCALE:GREGORIAN
METHOD:PUBLISH
X-ORIGINAL-URL:https://www.roxylockport.com
X-WR-CALDESC:Events for ROXY Lockport
REFRESH-INTERVAL;VALUE=DURATION:PT1H
X-Robots-Tag:noindex
X-PUBLISHED-TTL:PT1H
BEGIN:VTIMEZONE
TZID:America/Chicago
BEGIN:DAYLIGHT
TZOFFSETFROM:-0600
TZOFFSETTO:-0500
TZNAME:CDT
DTSTART:20230312T080000
END:DAYLIGHT
BEGIN:STANDARD
TZOFFSETFROM:-0500
TZOFFSETTO:-0600
TZNAME:CST
DTSTART:20231105T070000
END:STANDARD
BEGIN:DAYLIGHT
TZOFFSETFROM:-0600
TZOFFSETTO:-0500
TZNAME:CDT
DTSTART:20240310T080000
END:DAYLIGHT
BEGIN:STANDARD
TZOFFSETFROM:-0500
TZOFFSETTO:-0600
TZNAME:CST
DTSTART:20241103T070000
END:STANDARD
BEGIN:DAYLIGHT
TZOFFSETFROM:-0600
TZOFFSETTO:-0500
TZNAME:CDT
DTSTART:20250309T080000
END:DAYLIGHT
BEGIN:STANDARD
TZOFFSETFROM:-0500
TZOFFSETTO:-0600
TZNAME:CST
DTSTART:20251102T070000
END:STANDARD
END:VTIMEZONE
BEGIN:VEVENT
DTSTART;TZID=America/Chicago:20241025T190000
DTEND;TZID=America/Chicago:20241025T190000
DTSTAMP:20260422T124827
CREATED:20241004T035727Z
LAST-MODIFIED:20241004T035727Z
UID:10000887-1729882800-1729882800@www.roxylockport.com
SUMMARY:The Rangers BandAlbum Release Showwith Indy Annies
DESCRIPTION:Doors open at 6PM\nMusic starts at 7PM \nCome dance the night away as we celebrate The Rangers Band album release!\nNot interested in dancing? That’s okay! Sitting and watching is okay\, too 😉
URL:https://www.roxylockport.com/calendar/the-rangers-bandalbum-release-showwith-indy-annies/
LOCATION:ROXY Lockport\, 1017 S. State St.\, Lockport\, IL\, 60441\, United States
CATEGORIES:Country,Country,Dance,Music Showcase
ORGANIZER;CN="Mike Abell/The Rangers Band":MAILTO:booking@therangersband.com
END:VEVENT
END:VCALENDAR