BEGIN:VCALENDAR
VERSION:2.0
PRODID:-//ROXY Lockport - ECPv6.15.20//NONSGML v1.0//EN
CALSCALE:GREGORIAN
METHOD:PUBLISH
X-WR-CALNAME:ROXY Lockport
X-ORIGINAL-URL:https://www.roxylockport.com
X-WR-CALDESC:Events for ROXY Lockport
REFRESH-INTERVAL;VALUE=DURATION:PT1H
X-Robots-Tag:noindex
X-PUBLISHED-TTL:PT1H
BEGIN:VTIMEZONE
TZID:America/Chicago
BEGIN:DAYLIGHT
TZOFFSETFROM:-0600
TZOFFSETTO:-0500
TZNAME:CDT
DTSTART:20230312T080000
END:DAYLIGHT
BEGIN:STANDARD
TZOFFSETFROM:-0500
TZOFFSETTO:-0600
TZNAME:CST
DTSTART:20231105T070000
END:STANDARD
BEGIN:DAYLIGHT
TZOFFSETFROM:-0600
TZOFFSETTO:-0500
TZNAME:CDT
DTSTART:20240310T080000
END:DAYLIGHT
BEGIN:STANDARD
TZOFFSETFROM:-0500
TZOFFSETTO:-0600
TZNAME:CST
DTSTART:20241103T070000
END:STANDARD
BEGIN:DAYLIGHT
TZOFFSETFROM:-0600
TZOFFSETTO:-0500
TZNAME:CDT
DTSTART:20250309T080000
END:DAYLIGHT
BEGIN:STANDARD
TZOFFSETFROM:-0500
TZOFFSETTO:-0600
TZNAME:CST
DTSTART:20251102T070000
END:STANDARD
END:VTIMEZONE
BEGIN:VEVENT
DTSTART;TZID=America/Chicago:20241221T190000
DTEND;TZID=America/Chicago:20241221T210000
DTSTAMP:20260422T091727
CREATED:20241206T014930Z
LAST-MODIFIED:20241221T225512Z
UID:10000909-1734807600-1734814800@www.roxylockport.com
SUMMARY:CANCELED!Matt Strom MusicCountry Artist
DESCRIPTION:“Hey everybody! I’m super excited to announce my first all original song showcase at the ROXY. I will be telling the stories behind the songs and hopefully providing a wonderful evening for you and yours. Fellow military veteran and my friend Tim Sunzere will be there to accompany me on guitar. $10 at the door. Hope to see you there!” ~Matt Strom
URL:https://www.roxylockport.com/calendar/matt-strom-musiccountry-artist/
LOCATION:ROXY Lockport\, 1017 S. State St.\, Lockport\, IL\, 60441\, United States
CATEGORIES:Country,Music Showcase,Original Music
ORGANIZER;CN="Matt Strom":MAILTO:mattstromberginc@gmail.com
END:VEVENT
END:VCALENDAR