BEGIN:VCALENDAR
VERSION:2.0
PRODID:-//ROXY Lockport - ECPv6.15.20//NONSGML v1.0//EN
CALSCALE:GREGORIAN
METHOD:PUBLISH
X-ORIGINAL-URL:https://www.roxylockport.com
X-WR-CALDESC:Events for ROXY Lockport
REFRESH-INTERVAL;VALUE=DURATION:PT1H
X-Robots-Tag:noindex
X-PUBLISHED-TTL:PT1H
BEGIN:VTIMEZONE
TZID:America/Chicago
BEGIN:DAYLIGHT
TZOFFSETFROM:-0600
TZOFFSETTO:-0500
TZNAME:CDT
DTSTART:20250309T080000
END:DAYLIGHT
BEGIN:STANDARD
TZOFFSETFROM:-0500
TZOFFSETTO:-0600
TZNAME:CST
DTSTART:20251102T070000
END:STANDARD
BEGIN:DAYLIGHT
TZOFFSETFROM:-0600
TZOFFSETTO:-0500
TZNAME:CDT
DTSTART:20260308T080000
END:DAYLIGHT
BEGIN:STANDARD
TZOFFSETFROM:-0500
TZOFFSETTO:-0600
TZNAME:CST
DTSTART:20261101T070000
END:STANDARD
BEGIN:DAYLIGHT
TZOFFSETFROM:-0600
TZOFFSETTO:-0500
TZNAME:CDT
DTSTART:20270314T080000
END:DAYLIGHT
BEGIN:STANDARD
TZOFFSETFROM:-0500
TZOFFSETTO:-0600
TZNAME:CST
DTSTART:20271107T070000
END:STANDARD
END:VTIMEZONE
BEGIN:VEVENT
DTSTART;TZID=America/Chicago:20260322T180000
DTEND;TZID=America/Chicago:20260322T200000
DTSTAMP:20260420T101924
CREATED:20260308T021551Z
LAST-MODIFIED:20260321T003345Z
UID:10001328-1774202400-1774209600@www.roxylockport.com
SUMMARY:❗️CANCELED❗️Nikki D & the Sisters of Thunder
DESCRIPTION:One night only\, all the way from Toledo\, OH!\nGet ready for an unforgettable night with Nikki D & The Sisters Of Thunder live and loud at ROXY Lockport! They will be bringing original gospel tunes\, some blues and some soul. This in-person event promises killer tunes\, electrifying vibes\, and a night to dance\, sing\, and shout. You don’t want to miss out on experiencing their powerhouse sound up close – bring your crew and rock out together!
URL:https://www.roxylockport.com/calendar/nikki-d-the-sisters-of-thunder/
LOCATION:ROXY Lockport\, 1017 S. State St.\, Lockport\, IL\, 60441\, United States
CATEGORIES:Blues,Dance,Dance Party,Gospel,Music Showcase,R&B,Soul
ATTACH;FMTTYPE=image/jpeg:https://www.roxylockport.com/wp-content/uploads/2026/03/IMG_3057.jpeg
ORGANIZER;CN="Tim Placher":MAILTO:timplacher@gmail.com
END:VEVENT
END:VCALENDAR