BEGIN:VCALENDAR
VERSION:2.0
PRODID:-//ROXY Lockport - ECPv6.15.20//NONSGML v1.0//EN
CALSCALE:GREGORIAN
METHOD:PUBLISH
X-WR-CALNAME:ROXY Lockport
X-ORIGINAL-URL:https://www.roxylockport.com
X-WR-CALDESC:Events for ROXY Lockport
REFRESH-INTERVAL;VALUE=DURATION:PT1H
X-Robots-Tag:noindex
X-PUBLISHED-TTL:PT1H
BEGIN:VTIMEZONE
TZID:America/Chicago
BEGIN:DAYLIGHT
TZOFFSETFROM:-0600
TZOFFSETTO:-0500
TZNAME:CDT
DTSTART:20240310T080000
END:DAYLIGHT
BEGIN:STANDARD
TZOFFSETFROM:-0500
TZOFFSETTO:-0600
TZNAME:CST
DTSTART:20241103T070000
END:STANDARD
BEGIN:DAYLIGHT
TZOFFSETFROM:-0600
TZOFFSETTO:-0500
TZNAME:CDT
DTSTART:20250309T080000
END:DAYLIGHT
BEGIN:STANDARD
TZOFFSETFROM:-0500
TZOFFSETTO:-0600
TZNAME:CST
DTSTART:20251102T070000
END:STANDARD
BEGIN:DAYLIGHT
TZOFFSETFROM:-0600
TZOFFSETTO:-0500
TZNAME:CDT
DTSTART:20260308T080000
END:DAYLIGHT
BEGIN:STANDARD
TZOFFSETFROM:-0500
TZOFFSETTO:-0600
TZNAME:CST
DTSTART:20261101T070000
END:STANDARD
END:VTIMEZONE
BEGIN:VEVENT
DTSTART;TZID=America/Chicago:20250403T190000
DTEND;TZID=America/Chicago:20250403T190000
DTSTAMP:20260423T205956
CREATED:20250320T013318Z
LAST-MODIFIED:20250320T013318Z
UID:10001136-1743706800-1743706800@www.roxylockport.com
SUMMARY:Sam Burns Trio
DESCRIPTION:Join the Sam Burns Trio for a showcase in new music featuring tunes from his new album “The Missing Piece”.\nThe event also features a set by Tiwa Bleu and His Chosen Few. \n$10 at the door.
URL:https://www.roxylockport.com/calendar/sam-burns-trio/
LOCATION:ROXY Lockport\, 1017 S. State St.\, Lockport\, IL\, 60441\, United States
CATEGORIES:Jazz,Jazz-Fusion
ORGANIZER;CN="Sam Burns":MAILTO:samuelburnsmusic@gmail.com
END:VEVENT
BEGIN:VEVENT
DTSTART;TZID=America/Chicago:20250409T200000
DTEND;TZID=America/Chicago:20250409T230000
DTSTAMP:20260423T205956
CREATED:20250317T181302Z
LAST-MODIFIED:20250317T181303Z
UID:10000789-1744228800-1744239600@www.roxylockport.com
SUMMARY:Jazz Manouche (Gypsy) Jam
DESCRIPTION:Whether you bring an instrument and participate in the jam\, feel like dancing\, or just want to listen and watch\, with no cover charge\, ROXY is the place to be on the 2nd Wednesday of the month! \nPlease support ROXY by making a purchase at the bar.
URL:https://www.roxylockport.com/calendar/manouche-gypsy-jazz-jam-2/2025-04-09/
LOCATION:ROXY Lockport\, 1017 S. State St.\, Lockport\, IL\, 60441\, United States
CATEGORIES:Dance,Jazz,Music Jam (anyone can participate),Music Showcase,Swing,Swing Dance
ATTACH;FMTTYPE=image/jpeg:https://www.roxylockport.com/wp-content/uploads/2024/07/Jazz-Manouche-Jam.jpg
END:VEVENT
BEGIN:VEVENT
DTSTART;TZID=America/Chicago:20250426T183000
DTEND;TZID=America/Chicago:20250426T210000
DTSTAMP:20260423T205956
CREATED:20250323T001716Z
LAST-MODIFIED:20250407T210443Z
UID:10001143-1745692200-1745701200@www.roxylockport.com
SUMMARY:Molly Rose Trio 10th Anniversary Show
DESCRIPTION:“My my the time does fly! It’s not often you find people to play with who share a similar creative vision\, similar goals\, and actually enjoy each other’s company. 😉 We are so grateful to have weathered ten years of rehearsals\, gig opportunities\, uncomfortable venues\, and recording an album together\, and we want to celebrate with our friends and fans at ROXY in Lockport!\nJoin Molly\, Frank\, Bill\, local young musicians Turquoise Noise\, & Jazz Occurrence live painter Lewis Achenbach for an evening of our favorite songs\, dancing\, cocktails\, and CAKE!” \nDoors open at 6pm\, music from 6:30-9pm \nCake\, dance floor\, cash bar\, & merch table\n$15 Cash cover at the door\, kids under 10 free
URL:https://www.roxylockport.com/calendar/molly-rose-quartet-10th-anniversary-show/
LOCATION:ROXY Lockport\, 1017 S. State St.\, Lockport\, IL\, 60441\, United States
CATEGORIES:Jazz,Swing,Swing Dance
END:VEVENT
END:VCALENDAR