BEGIN:VCALENDAR
VERSION:2.0
PRODID:-//ROXY Lockport - ECPv6.15.20//NONSGML v1.0//EN
CALSCALE:GREGORIAN
METHOD:PUBLISH
X-WR-CALNAME:ROXY Lockport
X-ORIGINAL-URL:https://www.roxylockport.com
X-WR-CALDESC:Events for ROXY Lockport
REFRESH-INTERVAL;VALUE=DURATION:PT1H
X-Robots-Tag:noindex
X-PUBLISHED-TTL:PT1H
BEGIN:VTIMEZONE
TZID:America/Chicago
BEGIN:DAYLIGHT
TZOFFSETFROM:-0600
TZOFFSETTO:-0500
TZNAME:CDT
DTSTART:20240310T080000
END:DAYLIGHT
BEGIN:STANDARD
TZOFFSETFROM:-0500
TZOFFSETTO:-0600
TZNAME:CST
DTSTART:20241103T070000
END:STANDARD
BEGIN:DAYLIGHT
TZOFFSETFROM:-0600
TZOFFSETTO:-0500
TZNAME:CDT
DTSTART:20250309T080000
END:DAYLIGHT
BEGIN:STANDARD
TZOFFSETFROM:-0500
TZOFFSETTO:-0600
TZNAME:CST
DTSTART:20251102T070000
END:STANDARD
BEGIN:DAYLIGHT
TZOFFSETFROM:-0600
TZOFFSETTO:-0500
TZNAME:CDT
DTSTART:20260308T080000
END:DAYLIGHT
BEGIN:STANDARD
TZOFFSETFROM:-0500
TZOFFSETTO:-0600
TZNAME:CST
DTSTART:20261101T070000
END:STANDARD
END:VTIMEZONE
BEGIN:VEVENT
DTSTART;TZID=America/Chicago:20250726T190000
DTEND;TZID=America/Chicago:20250726T220000
DTSTAMP:20260424T023517
CREATED:20250614T021329Z
LAST-MODIFIED:20250614T021329Z
UID:10001169-1753556400-1753567200@www.roxylockport.com
SUMMARY:Smooth Jazz Summer Breeze
DESCRIPTION:And ANOTHER ONE!!\nSMOOTH JAZZ SUMMER BREEZE will make you feel fine…\nThis will be yet ANOTHER UNFORGETTABLE night of LIVE MUSIC!! \nKicking of the night is the Smooth Jazz Nephew\, WILL CARTER MUSIC\, who is going to blow in with his set to get the audience strapped in for the night…\nFresh off his performance at Soul Mama in London\, England\, one of our FAVORITES\, International Saxophonist\, DEE LUCAS is breezing through here once again…then we have the Amazing and Sultry Saxophonist\, who just release brand new music\, “And The Story Goes” (go stream and then download) breezing in all the way from Denver\, CO. TONY EXUM\, JR.\nThe Strong Wind blowing is coming from Ms. ERIN STEVENSON.\nErin has been blessed with many gifts including a sultry voice\, electric dance moves\, producing and songwriting\, and the ability to deliver breathtaking performances with her feisty personality. This has led her to starring in her own right opening for or background singing for Justin Timberlake\, Pharrell Williams\, Duran Duran\, Nicki Minaj\, John Legend\, Jennifer Lopez\, Janet Jackson\, Ciara\, Rihanna\, Camilla Cabello\, Chaka Khan\, Stevie Wonder\, EnVogue…to humbly name a few.\nSome have even dubbed her the hardest working undiscovered star\, but undiscovered she’ll be no more. While rehearsing and touring for other mega talents by day\, Erin was brewing her own storm by night.\nIn November 2017 Erin released her debut album entitled “Naked” and in 2018 her first single “Hangin” made the top 10 on the UK charts and charted on the soul charts in the United States. Due to the demand to hear more she released another single in 2019…”Make It Last Forever” (which charted on the digital radio charts and indie radio charts)…and 2020 & 2021 her singles “Never Too Much” and “You Gotta Be” also charted and garnered her a “People’s Choice Indie Soul Award”.\nNow signed to Innervision Records\, in 2022 her single “Believe” hit #28 on the Smooth Jazz Airplay Billboard chart\, her follow up single “Smooth Soul” went to #14 on Billboard and is STILL in radio rotation\, and her highly anticipated sophomore album is ALL the buzz with its recent release on July 26th entitled “Cover Girl Uncovered”. \nClick here for tickets
URL:https://www.roxylockport.com/calendar/smooth-jazz-summer-breeze/
LOCATION:ROXY Lockport\, 1017 S. State St.\, Lockport\, IL\, 60441\, United States
CATEGORIES:Music Showcase,R&B,Smooth Jazz
END:VEVENT
END:VCALENDAR