BEGIN:VCALENDAR
VERSION:2.0
PRODID:-//ROXY Lockport - ECPv6.15.20//NONSGML v1.0//EN
CALSCALE:GREGORIAN
METHOD:PUBLISH
X-WR-CALNAME:ROXY Lockport
X-ORIGINAL-URL:https://www.roxylockport.com
X-WR-CALDESC:Events for ROXY Lockport
REFRESH-INTERVAL;VALUE=DURATION:PT1H
X-Robots-Tag:noindex
X-PUBLISHED-TTL:PT1H
BEGIN:VTIMEZONE
TZID:America/Chicago
BEGIN:DAYLIGHT
TZOFFSETFROM:-0600
TZOFFSETTO:-0500
TZNAME:CDT
DTSTART:20230312T080000
END:DAYLIGHT
BEGIN:STANDARD
TZOFFSETFROM:-0500
TZOFFSETTO:-0600
TZNAME:CST
DTSTART:20231105T070000
END:STANDARD
BEGIN:DAYLIGHT
TZOFFSETFROM:-0600
TZOFFSETTO:-0500
TZNAME:CDT
DTSTART:20240310T080000
END:DAYLIGHT
BEGIN:STANDARD
TZOFFSETFROM:-0500
TZOFFSETTO:-0600
TZNAME:CST
DTSTART:20241103T070000
END:STANDARD
BEGIN:DAYLIGHT
TZOFFSETFROM:-0600
TZOFFSETTO:-0500
TZNAME:CDT
DTSTART:20250309T080000
END:DAYLIGHT
BEGIN:STANDARD
TZOFFSETFROM:-0500
TZOFFSETTO:-0600
TZNAME:CST
DTSTART:20251102T070000
END:STANDARD
END:VTIMEZONE
BEGIN:VEVENT
DTSTART;TZID=America/Chicago:20241214T190000
DTEND;TZID=America/Chicago:20241214T190000
DTSTAMP:20260425T162615
CREATED:20241105T064034Z
LAST-MODIFIED:20241126T232415Z
UID:10000900-1734202800-1734202800@www.roxylockport.com
SUMMARY:CANCELED!The J Grant ExperienceChristmas Show
DESCRIPTION:“It’s our FAVORITE time of the year and we are bringing you LOTS of GREAT LIVE MUSIC. \nThe J.Grant Experience is coming with another memorable experience. If you know YOU KNOW. If you have not yet witnessed this ENERGY\, this is the perfect event to get to find out. \nSouthwest Suburbs local favorite Will Carter Music is bringing his newly formed band to create a memorable experience for ALL OF YOU who keep showing him so much LOVE.  Come check on this Smoth Jazz prodigy. \nThe night will get kicked off with KyndOne Productions new friend D.S Wilson. He’s new to us but definitely not new to this game.  We think you are going to enjoy what he’s bringing. \nChristmas is such a special time of year.  We are going to give you all the gift of EXCELLENT ENTERTAINMENT!!”
URL:https://www.roxylockport.com/calendar/the-j-grant-experiencechristmas-show/
LOCATION:ROXY Lockport\, 1017 S. State St.\, Lockport\, IL\, 60441\, United States
CATEGORIES:Music Showcase,R&B,Smooth Jazz
END:VEVENT
END:VCALENDAR