BEGIN:VCALENDAR
VERSION:2.0
PRODID:-//ROXY Lockport - ECPv6.15.20//NONSGML v1.0//EN
CALSCALE:GREGORIAN
METHOD:PUBLISH
X-ORIGINAL-URL:https://www.roxylockport.com
X-WR-CALDESC:Events for ROXY Lockport
REFRESH-INTERVAL;VALUE=DURATION:PT1H
X-Robots-Tag:noindex
X-PUBLISHED-TTL:PT1H
BEGIN:VTIMEZONE
TZID:America/Chicago
BEGIN:DAYLIGHT
TZOFFSETFROM:-0600
TZOFFSETTO:-0500
TZNAME:CDT
DTSTART:20240310T080000
END:DAYLIGHT
BEGIN:STANDARD
TZOFFSETFROM:-0500
TZOFFSETTO:-0600
TZNAME:CST
DTSTART:20241103T070000
END:STANDARD
BEGIN:DAYLIGHT
TZOFFSETFROM:-0600
TZOFFSETTO:-0500
TZNAME:CDT
DTSTART:20250309T080000
END:DAYLIGHT
BEGIN:STANDARD
TZOFFSETFROM:-0500
TZOFFSETTO:-0600
TZNAME:CST
DTSTART:20251102T070000
END:STANDARD
BEGIN:DAYLIGHT
TZOFFSETFROM:-0600
TZOFFSETTO:-0500
TZNAME:CDT
DTSTART:20260308T080000
END:DAYLIGHT
BEGIN:STANDARD
TZOFFSETFROM:-0500
TZOFFSETTO:-0600
TZNAME:CST
DTSTART:20261101T070000
END:STANDARD
END:VTIMEZONE
BEGIN:VEVENT
DTSTART;TZID=America/Chicago:20250322T193000
DTEND;TZID=America/Chicago:20250322T193000
DTSTAMP:20260425T111610
CREATED:20250207T014257Z
LAST-MODIFIED:20250317T181659Z
UID:10000986-1742671800-1742671800@www.roxylockport.com
SUMMARY:A Smooth Jazz Spring Affair
DESCRIPTION:“It’s a SMOOTH JAZZ SPRING AFFAIR with Guitarist JJ SANSAVERINO. With five highly acclaimed albums\, 50+ live dates per year\, a #1 Billboard hit single and multiple Billboard charting songs over the past thirty years\, New York guitarist JJ Sansaverino has reached millions touring the world with his “Benson meets Santana” musical style. As in George Benson and Carlos Santana!! YES!! \nHe’s bring along with him as his very special guest\, vocalist Vivian Sessoms\, Vivian performing\, either live or in the studio\, with an amazing array of artists including: Michael Jackson\, Donna Summer\, Sinead O Connor\, and Stevie Wonder to name a small few. She did a stint with Virgin Music Publishing and then signed on as an artist and staff writer with K.G. of Naughty By Nature for his Divine Mill imprint. She even went on to partner with Producer Chris Parks. \nThe shows line up also includes Saxophonist\, DS Wilson\, who is a Top 25 Chicago-based multi-instrumental jazz musician specializing in saxophones and piano/keyboards. Wilson is a composer\, recording artist\, producer and performer\, with two self-produced albums under his belt\, his third album (produced by Adam Hawley) released in January 2023\, and logging 40+ performances per year. Wilson’s music is consistently in three Top 100 charts and has twice been featured on the Dave Koz Lounge radio show on SiriusXM-Watercolors. \nWe can’t have this show in this area without the area’s favorite and hottest multi-instrumentalist. 15 year old prodigy\, has graced multiple stages locally\, Taste of Joliet\, iFEST and Chicago City Winery to name a few. He recently did his first New Year’s Eve event\, where he brought 2025 in with a lot of HEAT!! This young man is blazing\, if you have not yet seen him perform\, you are about to FEEL THE FIRE and ENERGY he brings in the way he connects with the audience.” \nDoors open at 7pm \nOUSIDE BEVERAGES ARE NOT ALLOWED!!! \nGet your tickets here
URL:https://www.roxylockport.com/calendar/kyndone-productions-presentsa-smooth-jazzspring-affair/
LOCATION:ROXY Lockport\, 1017 S. State St.\, Lockport\, IL\, 60441\, United States
CATEGORIES:Music Showcase,Smooth Jazz
END:VEVENT
END:VCALENDAR