BEGIN:VCALENDAR
VERSION:2.0
PRODID:-//ROXY Lockport - ECPv6.15.20//NONSGML v1.0//EN
CALSCALE:GREGORIAN
METHOD:PUBLISH
X-WR-CALNAME:ROXY Lockport
X-ORIGINAL-URL:https://www.roxylockport.com
X-WR-CALDESC:Events for ROXY Lockport
REFRESH-INTERVAL;VALUE=DURATION:PT1H
X-Robots-Tag:noindex
X-PUBLISHED-TTL:PT1H
BEGIN:VTIMEZONE
TZID:America/Chicago
BEGIN:DAYLIGHT
TZOFFSETFROM:-0600
TZOFFSETTO:-0500
TZNAME:CDT
DTSTART:20230312T080000
END:DAYLIGHT
BEGIN:STANDARD
TZOFFSETFROM:-0500
TZOFFSETTO:-0600
TZNAME:CST
DTSTART:20231105T070000
END:STANDARD
BEGIN:DAYLIGHT
TZOFFSETFROM:-0600
TZOFFSETTO:-0500
TZNAME:CDT
DTSTART:20240310T080000
END:DAYLIGHT
BEGIN:STANDARD
TZOFFSETFROM:-0500
TZOFFSETTO:-0600
TZNAME:CST
DTSTART:20241103T070000
END:STANDARD
BEGIN:DAYLIGHT
TZOFFSETFROM:-0600
TZOFFSETTO:-0500
TZNAME:CDT
DTSTART:20250309T080000
END:DAYLIGHT
BEGIN:STANDARD
TZOFFSETFROM:-0500
TZOFFSETTO:-0600
TZNAME:CST
DTSTART:20251102T070000
END:STANDARD
END:VTIMEZONE
BEGIN:VEVENT
DTSTART;TZID=America/Chicago:20241101T190000
DTEND;TZID=America/Chicago:20241101T190000
DTSTAMP:20260424T162758
CREATED:20241022T010649Z
LAST-MODIFIED:20241022T010649Z
UID:10000893-1730487600-1730487600@www.roxylockport.com
SUMMARY:Flatbed FordsEagles TributeDoors Open 6PM
DESCRIPTION:
URL:https://www.roxylockport.com/calendar/flatbed-fordseagles-tributedoors-open-6pm/
LOCATION:ROXY Lockport\, 1017 S. State St.\, Lockport\, IL\, 60441\, United States
CATEGORIES:Music Showcase,Tribute Band
END:VEVENT
BEGIN:VEVENT
DTSTART;TZID=America/Chicago:20241109T193000
DTEND;TZID=America/Chicago:20241109T193000
DTSTAMP:20260424T162758
CREATED:20241004T042911Z
LAST-MODIFIED:20241004T042911Z
UID:10000888-1731180600-1731180600@www.roxylockport.com
SUMMARY:Chicago's Own Piano ManBilly Joel Tribute
DESCRIPTION:Doors at 6:30pm \nClick here for tickets
URL:https://www.roxylockport.com/calendar/chicagos-own-piano-manbilly-joel-tribute/
LOCATION:ROXY Lockport\, 1017 S. State St.\, Lockport\, IL\, 60441\, United States
CATEGORIES:Music Showcase,Tribute Band
ORGANIZER;CN="UAP Event Services":MAILTO:tom@uapenterprises.com
END:VEVENT
BEGIN:VEVENT
DTSTART;TZID=America/Chicago:20241110T190000
DTEND;TZID=America/Chicago:20241110T210000
DTSTAMP:20260424T162758
CREATED:20241004T043601Z
LAST-MODIFIED:20241031T233926Z
UID:10000889-1731265200-1731272400@www.roxylockport.com
SUMMARY:CANCELEDGary Thomas & the Tom-TomsFrank Sinatra Tribute
DESCRIPTION:Join us at ROXY Lockport for a night of timeless music and smooth crooning. Get ready to be transported back in time as Gary Thomas pays tribute to the legendary Frank Sinatra with his swinging jazz ensemble The Tom-Toms. This in person event promises to be a night to remember\, filled with classic tunes and unforgettable melodies. Don’t miss your chance to experience the magic of Sinatra’s music brought to life by Gary Thomas. Grab your tickets now and get ready to swing the night away! And the dance floor WILL be open! \nClick here for tickets
URL:https://www.roxylockport.com/calendar/gary-thomas-the-tom-tomsfrank-sinatra-tribute-2/
LOCATION:ROXY Lockport\, 1017 S. State St.\, Lockport\, IL\, 60441\, United States
CATEGORIES:Dance,Jazz/Crooner,Music Showcase,Swing Dance,Tribute Band
END:VEVENT
BEGIN:VEVENT
DTSTART;TZID=America/Chicago:20241116T200000
DTEND;TZID=America/Chicago:20241116T220000
DTSTAMP:20260424T162758
CREATED:20240725T000317Z
LAST-MODIFIED:20240725T000317Z
UID:10000779-1731787200-1731794400@www.roxylockport.com
SUMMARY:FreebyrdA Lyndyrd Skynyrd Tributedoors open at 7pm
DESCRIPTION:Freebyrd debuts at The Roxy Theater. Ticket price TBD \nAt the heart of [their] commitment is a passion for replicating the nuances and stage presence that made Lynyrd Skynyrd iconic. From the unmistakable riffs of “Sweet Home Alabama” to the timeless epic of “Free Bird\,” [they] deliver a journey back in time to the golden era of 70s Southern rock. A must see performance.
URL:https://www.roxylockport.com/calendar/freebyrda-lyndyrd-skynyrd-tributedoors-open-at-7pm/
LOCATION:ROXY Lockport\, 1017 S. State St.\, Lockport\, IL\, 60441\, United States
CATEGORIES:Music Showcase,Tribute Band
ORGANIZER;CN="Ken Erickson":MAILTO:freebyrdrocks@gmail.com
END:VEVENT
END:VCALENDAR