BEGIN:VCALENDAR
VERSION:2.0
PRODID:-//ROXY Lockport - ECPv6.15.20//NONSGML v1.0//EN
CALSCALE:GREGORIAN
METHOD:PUBLISH
X-WR-CALNAME:ROXY Lockport
X-ORIGINAL-URL:https://www.roxylockport.com
X-WR-CALDESC:Events for ROXY Lockport
REFRESH-INTERVAL;VALUE=DURATION:PT1H
X-Robots-Tag:noindex
X-PUBLISHED-TTL:PT1H
BEGIN:VTIMEZONE
TZID:America/Chicago
BEGIN:DAYLIGHT
TZOFFSETFROM:-0600
TZOFFSETTO:-0500
TZNAME:CDT
DTSTART:20240310T080000
END:DAYLIGHT
BEGIN:STANDARD
TZOFFSETFROM:-0500
TZOFFSETTO:-0600
TZNAME:CST
DTSTART:20241103T070000
END:STANDARD
BEGIN:DAYLIGHT
TZOFFSETFROM:-0600
TZOFFSETTO:-0500
TZNAME:CDT
DTSTART:20250309T080000
END:DAYLIGHT
BEGIN:STANDARD
TZOFFSETFROM:-0500
TZOFFSETTO:-0600
TZNAME:CST
DTSTART:20251102T070000
END:STANDARD
BEGIN:DAYLIGHT
TZOFFSETFROM:-0600
TZOFFSETTO:-0500
TZNAME:CDT
DTSTART:20260308T080000
END:DAYLIGHT
BEGIN:STANDARD
TZOFFSETFROM:-0500
TZOFFSETTO:-0600
TZNAME:CST
DTSTART:20261101T070000
END:STANDARD
END:VTIMEZONE
BEGIN:VEVENT
DTSTART;TZID=America/Chicago:20250228T190000
DTEND;TZID=America/Chicago:20250228T220000
DTSTAMP:20260424T113614
CREATED:20250207T023442Z
LAST-MODIFIED:20250207T023442Z
UID:10000987-1740769200-1740780000@www.roxylockport.com
SUMMARY:The Dirty DeadGrateful Dead Tribute
DESCRIPTION:Join us in welcoming The Dirty Dead\, a Grateful Dead cover band out of Oswego\, IL\, to our stage for the first time! \nFor the price of FREE (donations to Trinity Services highly encouraged) you can enjoy three hours of live music! \nDoors open at 6:30pm
URL:https://www.roxylockport.com/calendar/the-dirty-deadgrateful-dead-tribute/
LOCATION:ROXY Lockport\, 1017 S. State St.\, Lockport\, IL\, 60441\, United States
CATEGORIES:Classic Rock,Music Showcase,Tribute Band
ORGANIZER;CN="The Dirty Dead":MAILTO:degzmail@gmail.com
END:VEVENT
END:VCALENDAR