BEGIN:VCALENDAR
VERSION:2.0
PRODID:-//ROXY Lockport - ECPv6.15.20//NONSGML v1.0//EN
CALSCALE:GREGORIAN
METHOD:PUBLISH
X-WR-CALNAME:ROXY Lockport
X-ORIGINAL-URL:https://www.roxylockport.com
X-WR-CALDESC:Events for ROXY Lockport
REFRESH-INTERVAL;VALUE=DURATION:PT1H
X-Robots-Tag:noindex
X-PUBLISHED-TTL:PT1H
BEGIN:VTIMEZONE
TZID:America/Chicago
BEGIN:DAYLIGHT
TZOFFSETFROM:-0600
TZOFFSETTO:-0500
TZNAME:CDT
DTSTART:20240310T080000
END:DAYLIGHT
BEGIN:STANDARD
TZOFFSETFROM:-0500
TZOFFSETTO:-0600
TZNAME:CST
DTSTART:20241103T070000
END:STANDARD
BEGIN:DAYLIGHT
TZOFFSETFROM:-0600
TZOFFSETTO:-0500
TZNAME:CDT
DTSTART:20250309T080000
END:DAYLIGHT
BEGIN:STANDARD
TZOFFSETFROM:-0500
TZOFFSETTO:-0600
TZNAME:CST
DTSTART:20251102T070000
END:STANDARD
BEGIN:DAYLIGHT
TZOFFSETFROM:-0600
TZOFFSETTO:-0500
TZNAME:CDT
DTSTART:20260308T080000
END:DAYLIGHT
BEGIN:STANDARD
TZOFFSETFROM:-0500
TZOFFSETTO:-0600
TZNAME:CST
DTSTART:20261101T070000
END:STANDARD
END:VTIMEZONE
BEGIN:VEVENT
DTSTART;TZID=America/Chicago:20250308T200000
DTEND;TZID=America/Chicago:20250308T200000
DTSTAMP:20260424T100056
CREATED:20250112T033549Z
LAST-MODIFIED:20250112T033549Z
UID:10000981-1741464000-1741464000@www.roxylockport.com
SUMMARY:Stevie McVieA Tribute to Stevie Nicks & Fleetwood MacDoors at 7:00pm
DESCRIPTION:Doors open at 7:00pm\nShow starts at 8:00pm \nGet your tickets here!
URL:https://www.roxylockport.com/calendar/stevie-mcviea-tribute-to-stevie-nicks-fleetwood-macdoors-at-700pm/
LOCATION:ROXY Lockport\, 1017 S. State St.\, Lockport\, IL\, 60441\, United States
CATEGORIES:Music Showcase,Tribute Band
ORGANIZER;CN="UAP Event Services":MAILTO:tom@uapenterprises.com
END:VEVENT
BEGIN:VEVENT
DTSTART;TZID=America/Chicago:20250321T193000
DTEND;TZID=America/Chicago:20250321T193000
DTSTAMP:20260424T100056
CREATED:20250112T034259Z
LAST-MODIFIED:20250317T175744Z
UID:10000982-1742585400-1742585400@www.roxylockport.com
SUMMARY:Sparks Fly ~ The T. Swift Experience
DESCRIPTION:Get your tickets here! \n“Sparks Fly is Chicagoland’s top tribute to the new queen of pop\, Taylor Swift. They will be performing a special acoustic show for one night only at the Roxy Theater in Lockport\, IL on Friday March 21\, 2025.  \nCome out to this historic and beautiful venue in Lockport\, IL for a special night of iconic T-Swift hits\, performed acoustically\, such as: Fearless\, Shake it Off\, You Belong With Me\, Cruel Summer\, Anti-Hero\, Blank Space\, Love Story and many more*.” \nDoors open at 6:30pm\nShow Starts at 7:30pm
URL:https://www.roxylockport.com/calendar/sparks-flythe-t-swift-experienceacoustic-show/
LOCATION:ROXY Lockport\, 1017 S. State St.\, Lockport\, IL\, 60441\, United States
CATEGORIES:Music Showcase,Tribute Band
ORGANIZER;CN="UAP Event Services":MAILTO:tom@uapenterprises.com
END:VEVENT
BEGIN:VEVENT
DTSTART;TZID=America/Chicago:20250329T200000
DTEND;TZID=America/Chicago:20250329T220000
DTSTAMP:20260424T100056
CREATED:20250112T034733Z
LAST-MODIFIED:20250317T181814Z
UID:10000983-1743278400-1743285600@www.roxylockport.com
SUMMARY:Eclipse Chicago ~ Pink Floyd Tribute
DESCRIPTION:The extraordinary Pink Floyd tribute show\, Eclipse Chicago\, is returning to the Roxy Theater in Lockport\, IL for another night of Floyd hits\, and maybe even some deep cuts for the hardcore fans. The last time Eclipse took the stage at the Roxy the night was sold out\, so their return visit is sure to be another full house of Pink Floyd lovers enjoying the music that put progressive rock on the map.  \nDoors open at 7:00pm\nShow Starts at 8:00pm \nGet your tickets here!
URL:https://www.roxylockport.com/calendar/eclipse-chicagopink-floyd-tributedoors-at-7pm-2/
LOCATION:ROXY Lockport\, 1017 S. State St.\, Lockport\, IL\, 60441\, United States
CATEGORIES:Tribute Band
ORGANIZER;CN="UAP Event Services":MAILTO:tom@uapenterprises.com
END:VEVENT
END:VCALENDAR