BEGIN:VCALENDAR
VERSION:2.0
PRODID:-//ROXY Lockport - ECPv6.15.20//NONSGML v1.0//EN
CALSCALE:GREGORIAN
METHOD:PUBLISH
X-ORIGINAL-URL:https://www.roxylockport.com
X-WR-CALDESC:Events for ROXY Lockport
REFRESH-INTERVAL;VALUE=DURATION:PT1H
X-Robots-Tag:noindex
X-PUBLISHED-TTL:PT1H
BEGIN:VTIMEZONE
TZID:America/Chicago
BEGIN:DAYLIGHT
TZOFFSETFROM:-0600
TZOFFSETTO:-0500
TZNAME:CDT
DTSTART:20240310T080000
END:DAYLIGHT
BEGIN:STANDARD
TZOFFSETFROM:-0500
TZOFFSETTO:-0600
TZNAME:CST
DTSTART:20241103T070000
END:STANDARD
BEGIN:DAYLIGHT
TZOFFSETFROM:-0600
TZOFFSETTO:-0500
TZNAME:CDT
DTSTART:20250309T080000
END:DAYLIGHT
BEGIN:STANDARD
TZOFFSETFROM:-0500
TZOFFSETTO:-0600
TZNAME:CST
DTSTART:20251102T070000
END:STANDARD
BEGIN:DAYLIGHT
TZOFFSETFROM:-0600
TZOFFSETTO:-0500
TZNAME:CDT
DTSTART:20260308T080000
END:DAYLIGHT
BEGIN:STANDARD
TZOFFSETFROM:-0500
TZOFFSETTO:-0600
TZNAME:CST
DTSTART:20261101T070000
END:STANDARD
END:VTIMEZONE
BEGIN:VEVENT
DTSTART;TZID=America/Chicago:20250418T200000
DTEND;TZID=America/Chicago:20250418T200000
DTSTAMP:20260424T084606
CREATED:20250323T001131Z
LAST-MODIFIED:20250323T004026Z
UID:10001142-1745006400-1745006400@www.roxylockport.com
SUMMARY:Smiling Politely and Savior
DESCRIPTION:Two Chicago area area bands team up to pay tribute to two legendary Chicago rock bands\, The Smashing Pumpkins and Rise Against\, in Lockport\, IL.  \nCome out to ROXY Lockport on Friday April 18\, 2025 when Smiling Politely (A Tribute to The Smashing Pumpkins) and Savior (A Tribute to Rise Against) join forces for a night of the hits you love and the fan favorites you crave.  \nPurchase tickets before April 4th for an early bird special of only $10 each. After April 4th the general admission price increases.  \nDoors open at 7pm\, show starts at 8pm.
URL:https://www.roxylockport.com/calendar/smiling-politely-and-savior/
LOCATION:ROXY Lockport\, 1017 S. State St.\, Lockport\, IL\, 60441\, United States
CATEGORIES:Rock,Tribute Band
ORGANIZER;CN="UAP Event Services":MAILTO:tom@uapenterprises.com
END:VEVENT
END:VCALENDAR