BEGIN:VCALENDAR
VERSION:2.0
PRODID:-//ROXY Lockport - ECPv6.15.20//NONSGML v1.0//EN
CALSCALE:GREGORIAN
METHOD:PUBLISH
X-ORIGINAL-URL:https://www.roxylockport.com
X-WR-CALDESC:Events for ROXY Lockport
REFRESH-INTERVAL;VALUE=DURATION:PT1H
X-Robots-Tag:noindex
X-PUBLISHED-TTL:PT1H
BEGIN:VTIMEZONE
TZID:America/Chicago
BEGIN:DAYLIGHT
TZOFFSETFROM:-0600
TZOFFSETTO:-0500
TZNAME:CDT
DTSTART:20230312T080000
END:DAYLIGHT
BEGIN:STANDARD
TZOFFSETFROM:-0500
TZOFFSETTO:-0600
TZNAME:CST
DTSTART:20231105T070000
END:STANDARD
BEGIN:DAYLIGHT
TZOFFSETFROM:-0600
TZOFFSETTO:-0500
TZNAME:CDT
DTSTART:20240310T080000
END:DAYLIGHT
BEGIN:STANDARD
TZOFFSETFROM:-0500
TZOFFSETTO:-0600
TZNAME:CST
DTSTART:20241103T070000
END:STANDARD
BEGIN:DAYLIGHT
TZOFFSETFROM:-0600
TZOFFSETTO:-0500
TZNAME:CDT
DTSTART:20250309T080000
END:DAYLIGHT
BEGIN:STANDARD
TZOFFSETFROM:-0500
TZOFFSETTO:-0600
TZNAME:CST
DTSTART:20251102T070000
END:STANDARD
END:VTIMEZONE
BEGIN:VEVENT
DTSTART;TZID=America/Chicago:20240810T123000
DTEND;TZID=America/Chicago:20240810T153000
DTSTAMP:20260424T183925
CREATED:20240724T214928Z
LAST-MODIFIED:20240724T214928Z
UID:10000780-1723293000-1723303800@www.roxylockport.com
SUMMARY:Lockport's Fire FestFilm Showings
DESCRIPTION:As part of Lockport’s Fire Fest\, ROXY will be hosting two showings of a documentary.\nThe first showing is at 12:30pm. after which people are encouraged to enjoy the live music provided by Simple Remedy at the Main Stage on 10th Street\, near Hamilton\, from 1-3pm.\nThe second showing is at 3pm. after which people are encouraged to enjoy the live music provided by Petty Cash at the Main Stage from 3:30-5:30pm.
URL:https://www.roxylockport.com/calendar/lockports-fire-festfilm-showings/
LOCATION:ROXY Lockport\, 1017 S. State St.\, Lockport\, IL\, 60441\, United States
CATEGORIES:Movie
END:VEVENT
END:VCALENDAR