BEGIN:VCALENDAR
VERSION:2.0
PRODID:-//ROXY Lockport - ECPv6.15.20//NONSGML v1.0//EN
CALSCALE:GREGORIAN
METHOD:PUBLISH
X-WR-CALNAME:ROXY Lockport
X-ORIGINAL-URL:https://www.roxylockport.com
X-WR-CALDESC:Events for ROXY Lockport
REFRESH-INTERVAL;VALUE=DURATION:PT1H
X-Robots-Tag:noindex
X-PUBLISHED-TTL:PT1H
BEGIN:VTIMEZONE
TZID:America/Chicago
BEGIN:DAYLIGHT
TZOFFSETFROM:-0600
TZOFFSETTO:-0500
TZNAME:CDT
DTSTART:20230312T080000
END:DAYLIGHT
BEGIN:STANDARD
TZOFFSETFROM:-0500
TZOFFSETTO:-0600
TZNAME:CST
DTSTART:20231105T070000
END:STANDARD
BEGIN:DAYLIGHT
TZOFFSETFROM:-0600
TZOFFSETTO:-0500
TZNAME:CDT
DTSTART:20240310T080000
END:DAYLIGHT
BEGIN:STANDARD
TZOFFSETFROM:-0500
TZOFFSETTO:-0600
TZNAME:CST
DTSTART:20241103T070000
END:STANDARD
BEGIN:DAYLIGHT
TZOFFSETFROM:-0600
TZOFFSETTO:-0500
TZNAME:CDT
DTSTART:20250309T080000
END:DAYLIGHT
BEGIN:STANDARD
TZOFFSETFROM:-0500
TZOFFSETTO:-0600
TZNAME:CST
DTSTART:20251102T070000
END:STANDARD
END:VTIMEZONE
BEGIN:VEVENT
DTSTART;TZID=America/Chicago:20240806T183000
DTEND;TZID=America/Chicago:20240806T213000
DTSTAMP:20260422T193658
CREATED:20230331T235433Z
LAST-MODIFIED:20250317T005702Z
UID:10000135-1722969000-1722979800@www.roxylockport.com
SUMMARY:The Lockport Swing Thing
DESCRIPTION:Free and family-friendly. No partner required. \nBeginner swing dance lesson: 6:30-7:30pm \nIntermediate swing dance lesson in separate room: 6:30-7:30pm \nPlease arrive between 6:00pm and 6:25pm so that the lessons may start on time. If you are late\, you are welcome to watch or follow along on your own. \nSocial dancing: 7:30-9:30pm
URL:https://www.roxylockport.com/calendar/the-lockport-swing-thing-20/2024-08-06/
LOCATION:ROXY Lockport\, 1017 S. State St.\, Lockport\, IL\, 60441\, United States
CATEGORIES:Dance
ATTACH;FMTTYPE=image/jpeg:https://www.roxylockport.com/wp-content/uploads/2022/12/Tuesdays-are-for-Swing.jpg
ORGANIZER;CN="R.J. and Jessica":MAILTO:thelockport.swingthing@gmail.com
END:VEVENT
BEGIN:VEVENT
DTSTART;TZID=America/Chicago:20240813T183000
DTEND;TZID=America/Chicago:20240813T213000
DTSTAMP:20260422T193658
CREATED:20230331T235433Z
LAST-MODIFIED:20250317T005702Z
UID:10000136-1723573800-1723584600@www.roxylockport.com
SUMMARY:The Lockport Swing Thing
DESCRIPTION:Free and family-friendly. No partner required. \nBeginner swing dance lesson: 6:30-7:30pm \nIntermediate swing dance lesson in separate room: 6:30-7:30pm \nPlease arrive between 6:00pm and 6:25pm so that the lessons may start on time. If you are late\, you are welcome to watch or follow along on your own. \nSocial dancing: 7:30-9:30pm
URL:https://www.roxylockport.com/calendar/the-lockport-swing-thing-20/2024-08-13/
LOCATION:ROXY Lockport\, 1017 S. State St.\, Lockport\, IL\, 60441\, United States
CATEGORIES:Dance
ATTACH;FMTTYPE=image/jpeg:https://www.roxylockport.com/wp-content/uploads/2022/12/Tuesdays-are-for-Swing.jpg
ORGANIZER;CN="R.J. and Jessica":MAILTO:thelockport.swingthing@gmail.com
END:VEVENT
BEGIN:VEVENT
DTSTART;TZID=America/Chicago:20240820T180000
DTEND;TZID=America/Chicago:20240820T213000
DTSTAMP:20260422T193658
CREATED:20240724T223103Z
LAST-MODIFIED:20240724T223103Z
UID:10000843-1724176800-1724189400@www.roxylockport.com
SUMMARY:Doug Horneand The Rhythm MakersOrchestraLesson 6-7pm
DESCRIPTION:Dance lesson with The Lockport Swing Thing 6-7pm \nBand: 7-9:30pm
URL:https://www.roxylockport.com/calendar/doug-horneand-the-rhythm-makersorchestralesson-6-7pm-3/
LOCATION:ROXY Lockport\, 1017 S. State St.\, Lockport\, IL\, 60441\, United States
CATEGORIES:Big Band/Swing,Dance,Music Showcase,Swing Dance
ATTACH;FMTTYPE=image/jpeg:https://www.roxylockport.com/wp-content/uploads/2023/01/277589784_5198700463525826_6322697650237205129_n-scaled.jpg
END:VEVENT
BEGIN:VEVENT
DTSTART;TZID=America/Chicago:20240827T183000
DTEND;TZID=America/Chicago:20240827T213000
DTSTAMP:20260422T193658
CREATED:20240817T013142Z
LAST-MODIFIED:20240817T013342Z
UID:10000137-1724783400-1724794200@www.roxylockport.com
SUMMARY:TLSTwith Molly Rose Quartet
DESCRIPTION:Free and family-friendly. No partner required. \nBeginner swing dance lesson: 6:30-7:30pm \nIntermediate swing dance lesson in separate room: 6:30-7:30pm \nPlease arrive between 6:00pm and 6:25pm so that the lessons may start on time. If you are late\, you are welcome to watch or follow along on your own. \nSocial dancing with Molly Rose Quartet: 7:30-9:30pm \nThis event is free\, but please consider tipping the band
URL:https://www.roxylockport.com/calendar/the-lockportswing-thing-4/
LOCATION:ROXY Lockport\, 1017 S. State St.\, Lockport\, IL\, 60441\, United States
CATEGORIES:Dance,Jazz,Music Showcase,Swing,Swing Dance
ATTACH;FMTTYPE=image/jpeg:https://www.roxylockport.com/wp-content/uploads/2022/12/Tuesdays-are-for-Swing.jpg
ORGANIZER;CN="R.J. and Jessica":MAILTO:thelockport.swingthing@gmail.com
END:VEVENT
END:VCALENDAR