BEGIN:VCALENDAR
VERSION:2.0
PRODID:-//ROXY Lockport - ECPv6.15.20//NONSGML v1.0//EN
CALSCALE:GREGORIAN
METHOD:PUBLISH
X-WR-CALNAME:ROXY Lockport
X-ORIGINAL-URL:https://www.roxylockport.com
X-WR-CALDESC:Events for ROXY Lockport
REFRESH-INTERVAL;VALUE=DURATION:PT1H
X-Robots-Tag:noindex
X-PUBLISHED-TTL:PT1H
BEGIN:VTIMEZONE
TZID:America/Chicago
BEGIN:DAYLIGHT
TZOFFSETFROM:-0600
TZOFFSETTO:-0500
TZNAME:CDT
DTSTART:20230312T080000
END:DAYLIGHT
BEGIN:STANDARD
TZOFFSETFROM:-0500
TZOFFSETTO:-0600
TZNAME:CST
DTSTART:20231105T070000
END:STANDARD
BEGIN:DAYLIGHT
TZOFFSETFROM:-0600
TZOFFSETTO:-0500
TZNAME:CDT
DTSTART:20240310T080000
END:DAYLIGHT
BEGIN:STANDARD
TZOFFSETFROM:-0500
TZOFFSETTO:-0600
TZNAME:CST
DTSTART:20241103T070000
END:STANDARD
BEGIN:DAYLIGHT
TZOFFSETFROM:-0600
TZOFFSETTO:-0500
TZNAME:CDT
DTSTART:20250309T080000
END:DAYLIGHT
BEGIN:STANDARD
TZOFFSETFROM:-0500
TZOFFSETTO:-0600
TZNAME:CST
DTSTART:20251102T070000
END:STANDARD
END:VTIMEZONE
BEGIN:VEVENT
DTSTART;TZID=America/Chicago:20240903T183000
DTEND;TZID=America/Chicago:20240903T213000
DTSTAMP:20260422T112254
CREATED:20240817T013418Z
LAST-MODIFIED:20240817T013630Z
UID:10000138-1725388200-1725399000@www.roxylockport.com
SUMMARY:TLSTwith Sonny & the SwingRolls
DESCRIPTION:Free and family-friendly. No partner required. \nBeginner swing dance lesson: 6:30-7:30pm \nIntermediate swing dance lesson in separate room: 6:30-7:30pm \nPlease arrive between 6:00pm and 6:25pm so that the lessons may start on time. If you are late\, you are welcome to watch or follow along on your own. \nSocial dancing with Sonny & the SwingRolls: 7:30-9:30pm \nThis event is free\, but please consider tipping the band
URL:https://www.roxylockport.com/calendar/the-lockportswing-thing-5/
LOCATION:ROXY Lockport\, 1017 S. State St.\, Lockport\, IL\, 60441\, United States
CATEGORIES:Blues,Dance,Music Showcase,Rock,Rockabilly,Swing,Swing Dance
ATTACH;FMTTYPE=image/jpeg:https://www.roxylockport.com/wp-content/uploads/2022/12/Tuesdays-are-for-Swing.jpg
ORGANIZER;CN="R.J. and Jessica":MAILTO:thelockport.swingthing@gmail.com
END:VEVENT
BEGIN:VEVENT
DTSTART;TZID=America/Chicago:20240910T183000
DTEND;TZID=America/Chicago:20240910T213000
DTSTAMP:20260422T112254
CREATED:20230331T235433Z
LAST-MODIFIED:20250317T005702Z
UID:10000139-1725993000-1726003800@www.roxylockport.com
SUMMARY:The Lockport Swing Thing
DESCRIPTION:Free and family-friendly. No partner required. \nBeginner swing dance lesson: 6:30-7:30pm \nIntermediate swing dance lesson in separate room: 6:30-7:30pm \nPlease arrive between 6:00pm and 6:25pm so that the lessons may start on time. If you are late\, you are welcome to watch or follow along on your own. \nSocial dancing: 7:30-9:30pm
URL:https://www.roxylockport.com/calendar/the-lockport-swing-thing-20/2024-09-10/
LOCATION:ROXY Lockport\, 1017 S. State St.\, Lockport\, IL\, 60441\, United States
CATEGORIES:Dance
ATTACH;FMTTYPE=image/jpeg:https://www.roxylockport.com/wp-content/uploads/2022/12/Tuesdays-are-for-Swing.jpg
ORGANIZER;CN="R.J. and Jessica":MAILTO:thelockport.swingthing@gmail.com
END:VEVENT
BEGIN:VEVENT
DTSTART;TZID=America/Chicago:20240914T190000
DTEND;TZID=America/Chicago:20240914T220000
DTSTAMP:20260422T112254
CREATED:20240725T003122Z
LAST-MODIFIED:20240725T003245Z
UID:10000846-1726340400-1726351200@www.roxylockport.com
SUMMARY:Rosie & the Rivetsfor TLST's 9-year Anniversary!
DESCRIPTION:Rosie & the Rivets are helping The Lockport Swing Thing celebrate 9 years of connecting the community through free dance lessons! \nPlease note: this is a dance\, not a concert. There will be tables available in the bar\, not in the theater itself. \nBeginner swing dance lesson\, free with paid admission: 6-7pm \nRosie & the Rivets\, $15 cash at the door: 7-10pm \nROXY Lockport is not a restaurant. Feel free to bring in food. Outside beverages are *not* allowed.\nSupporting our bar helps Trinity Services\, a nonprofit that helps adults with developmental disabilities\, serve their clients.
URL:https://www.roxylockport.com/calendar/rosie-the-rivetsfor-tlsts-9-year-anniversary/
LOCATION:ROXY Lockport\, 1017 S. State St.\, Lockport\, IL\, 60441\, United States
CATEGORIES:Dance,Music Showcase,Rockabilly,Swing,Swing Dance
ORGANIZER;CN="Rosie & the Rivets":MAILTO:rosieandtherivets@gmail.com
END:VEVENT
BEGIN:VEVENT
DTSTART;TZID=America/Chicago:20240917T180000
DTEND;TZID=America/Chicago:20240917T213000
DTSTAMP:20260422T112254
CREATED:20230331T224119Z
LAST-MODIFIED:20230612T222130Z
UID:10000476-1726596000-1726608600@www.roxylockport.com
SUMMARY:The Falconaires OrchestraDance Lesson with TLST
DESCRIPTION:Dance lesson with The Lockport Swing Thing: 6-7pm\nBand plays 7-9:30pm
URL:https://www.roxylockport.com/calendar/the-falconaires-orchestrawith-dance-lesson-by-tlst/2024-09-17/
LOCATION:ROXY Lockport\, 1017 S. State St.\, Lockport\, IL\, 60441\, United States
CATEGORIES:Dance,Music Showcase
ATTACH;FMTTYPE=image/jpeg:https://www.roxylockport.com/wp-content/uploads/2022/12/The-Falconaires-FB-Event3-scaled.jpg
END:VEVENT
BEGIN:VEVENT
DTSTART;TZID=America/Chicago:20240924T183000
DTEND;TZID=America/Chicago:20240924T213000
DTSTAMP:20260422T112254
CREATED:20230331T235433Z
LAST-MODIFIED:20250317T005702Z
UID:10000140-1727202600-1727213400@www.roxylockport.com
SUMMARY:The Lockport Swing Thing
DESCRIPTION:Free and family-friendly. No partner required. \nBeginner swing dance lesson: 6:30-7:30pm \nIntermediate swing dance lesson in separate room: 6:30-7:30pm \nPlease arrive between 6:00pm and 6:25pm so that the lessons may start on time. If you are late\, you are welcome to watch or follow along on your own. \nSocial dancing: 7:30-9:30pm
URL:https://www.roxylockport.com/calendar/the-lockport-swing-thing-20/2024-09-24/
LOCATION:ROXY Lockport\, 1017 S. State St.\, Lockport\, IL\, 60441\, United States
CATEGORIES:Dance
ATTACH;FMTTYPE=image/jpeg:https://www.roxylockport.com/wp-content/uploads/2022/12/Tuesdays-are-for-Swing.jpg
ORGANIZER;CN="R.J. and Jessica":MAILTO:thelockport.swingthing@gmail.com
END:VEVENT
END:VCALENDAR