BEGIN:VCALENDAR
VERSION:2.0
PRODID:-//ROXY Lockport - ECPv6.15.20//NONSGML v1.0//EN
CALSCALE:GREGORIAN
METHOD:PUBLISH
X-ORIGINAL-URL:https://www.roxylockport.com
X-WR-CALDESC:Events for ROXY Lockport
REFRESH-INTERVAL;VALUE=DURATION:PT1H
X-Robots-Tag:noindex
X-PUBLISHED-TTL:PT1H
BEGIN:VTIMEZONE
TZID:America/Chicago
BEGIN:DAYLIGHT
TZOFFSETFROM:-0600
TZOFFSETTO:-0500
TZNAME:CDT
DTSTART:20230312T080000
END:DAYLIGHT
BEGIN:STANDARD
TZOFFSETFROM:-0500
TZOFFSETTO:-0600
TZNAME:CST
DTSTART:20231105T070000
END:STANDARD
BEGIN:DAYLIGHT
TZOFFSETFROM:-0600
TZOFFSETTO:-0500
TZNAME:CDT
DTSTART:20240310T080000
END:DAYLIGHT
BEGIN:STANDARD
TZOFFSETFROM:-0500
TZOFFSETTO:-0600
TZNAME:CST
DTSTART:20241103T070000
END:STANDARD
BEGIN:DAYLIGHT
TZOFFSETFROM:-0600
TZOFFSETTO:-0500
TZNAME:CDT
DTSTART:20250309T080000
END:DAYLIGHT
BEGIN:STANDARD
TZOFFSETFROM:-0500
TZOFFSETTO:-0600
TZNAME:CST
DTSTART:20251102T070000
END:STANDARD
END:VTIMEZONE
BEGIN:VEVENT
DTSTART;TZID=America/Chicago:20241001T183000
DTEND;TZID=America/Chicago:20241001T213000
DTSTAMP:20260422T112639
CREATED:20240929T212154Z
LAST-MODIFIED:20240929T212154Z
UID:10000141-1727807400-1727818200@www.roxylockport.com
SUMMARY:TLST Dancing Through the Decades1920s-1940s
DESCRIPTION:Free and family-friendly. No partner required. People are encouraged to dress the part for each week of Dancing Through the Decades. \nThere will be one dance lesson tonight. R.J. and Jessica will be teaching dance lessons from the era such as Fox Trot and Charleston.  \nPlease arrive between 6:00pm and 6:25pm so that the lesson may start on time. If you are late\, you are welcome to watch or follow along on your own. \nSocial dancing: 7:30-9:30pm
URL:https://www.roxylockport.com/calendar/the-lockport-swing-thing-20-3/
LOCATION:ROXY Lockport\, 1017 S. State St.\, Lockport\, IL\, 60441\, United States
CATEGORIES:Dance
ORGANIZER;CN="R.J. and Jessica":MAILTO:thelockport.swingthing@gmail.com
END:VEVENT
BEGIN:VEVENT
DTSTART;TZID=America/Chicago:20241008T183000
DTEND;TZID=America/Chicago:20241008T213000
DTSTAMP:20260422T112639
CREATED:20240929T212544Z
LAST-MODIFIED:20240929T213252Z
UID:10000142-1728412200-1728423000@www.roxylockport.com
SUMMARY:TLST Dancing Through the Decades1950s Sock Hop
DESCRIPTION:Free and family-friendly. No partner required. People are encouraged to dress the part for each week of Dancing Through the Decades. \nThere will be one dance lesson tonight from 6:30-7:30pm. R.J. and Jessica will be teaching dances from the era. \nPlease arrive between 6:00pm and 6:25pm so that the lessons may start on time. If you are late\, you are welcome to watch or follow along on your own. \nSocial dancing: 7:30-9:30pm
URL:https://www.roxylockport.com/calendar/the-lockport-swing-thing-20-4/
LOCATION:ROXY Lockport\, 1017 S. State St.\, Lockport\, IL\, 60441\, United States
CATEGORIES:Dance
ATTACH;FMTTYPE=image/jpeg:https://www.roxylockport.com/wp-content/uploads/2023/03/1950s-Event-Logo.jpg
ORGANIZER;CN="R.J. and Jessica":MAILTO:thelockport.swingthing@gmail.com
END:VEVENT
BEGIN:VEVENT
DTSTART;TZID=America/Chicago:20241015T180000
DTEND;TZID=America/Chicago:20241015T213000
DTSTAMP:20260422T112639
CREATED:20240914T232304Z
LAST-MODIFIED:20240914T232304Z
UID:10000874-1729015200-1729027800@www.roxylockport.com
SUMMARY:Doug Horneand The Rhythm MakersOrchestraLesson 6-7pm
DESCRIPTION:Dance lesson with The Lockport Swing Thing 6-7pm \nBand: 7-9:30pm
URL:https://www.roxylockport.com/calendar/doug-horneand-the-rhythm-makersorchestralesson-6-7pm-4/
LOCATION:ROXY Lockport\, 1017 S. State St.\, Lockport\, IL\, 60441\, United States
CATEGORIES:Big Band/Swing,Dance,Music Showcase,Swing Dance
ATTACH;FMTTYPE=image/jpeg:https://www.roxylockport.com/wp-content/uploads/2023/01/277589784_5198700463525826_6322697650237205129_n-scaled.jpg
END:VEVENT
BEGIN:VEVENT
DTSTART;TZID=America/Chicago:20241022T183000
DTEND;TZID=America/Chicago:20241022T213000
DTSTAMP:20260422T112639
CREATED:20240929T213210Z
LAST-MODIFIED:20240929T213211Z
UID:10000143-1729621800-1729632600@www.roxylockport.com
SUMMARY:TLST Dancing Through the Decades1960s-1970s
DESCRIPTION:Free and family-friendly. No partner required. People are encouraged to dress the part for each week of Dancing Through the Decades.  \nThere will be one lesson tonight from 6:30-7:30pm. R.J. and Jessica will be teaching dances from the era. \nPlease arrive between 6:00pm and 6:25pm so that the lessons may start on time. If you are late\, you are welcome to watch or follow along on your own. \nSocial dancing: 7:30-9:30pm
URL:https://www.roxylockport.com/calendar/the-lockport-swing-thing-20-5/
LOCATION:ROXY Lockport\, 1017 S. State St.\, Lockport\, IL\, 60441\, United States
CATEGORIES:Dance
ATTACH;FMTTYPE=image/jpeg:https://www.roxylockport.com/wp-content/uploads/2023/03/60s-70s-Event-Logo-scaled.jpg
ORGANIZER;CN="R.J. and Jessica":MAILTO:thelockport.swingthing@gmail.com
END:VEVENT
BEGIN:VEVENT
DTSTART;TZID=America/Chicago:20241029T183000
DTEND;TZID=America/Chicago:20241029T213000
DTSTAMP:20260422T112639
CREATED:20240929T224508Z
LAST-MODIFIED:20240929T224508Z
UID:10000144-1730226600-1730237400@www.roxylockport.com
SUMMARY:TLST Dancing Through the Decades1980s-1990s Halloween Party
DESCRIPTION:Free and family-friendly. No partner required. Please dress up for Halloween or dress the part for 80s/90s. \nThere will be one lesson tonight from 6:30-7:30pm. R.J. and Jessica will be teaching dances from the era. \nPlease arrive between 6:00pm and 6:25pm so that the lessons may start on time. If you are late\, you are welcome to watch or follow along on your own. \nSocial dancing: 7:30-9:30pm
URL:https://www.roxylockport.com/calendar/the-lockport-swing-thing-20-6/
LOCATION:ROXY Lockport\, 1017 S. State St.\, Lockport\, IL\, 60441\, United States
CATEGORIES:Dance
ATTACH;FMTTYPE=image/png:https://www.roxylockport.com/wp-content/uploads/2023/03/Tuesdays-are-for-Swing-Halloween.png
ORGANIZER;CN="R.J. and Jessica":MAILTO:thelockport.swingthing@gmail.com
END:VEVENT
END:VCALENDAR