BEGIN:VCALENDAR
VERSION:2.0
PRODID:-//ROXY Lockport - ECPv6.15.20//NONSGML v1.0//EN
CALSCALE:GREGORIAN
METHOD:PUBLISH
X-WR-CALNAME:ROXY Lockport
X-ORIGINAL-URL:https://www.roxylockport.com
X-WR-CALDESC:Events for ROXY Lockport
REFRESH-INTERVAL;VALUE=DURATION:PT1H
X-Robots-Tag:noindex
X-PUBLISHED-TTL:PT1H
BEGIN:VTIMEZONE
TZID:America/Chicago
BEGIN:DAYLIGHT
TZOFFSETFROM:-0600
TZOFFSETTO:-0500
TZNAME:CDT
DTSTART:20240310T080000
END:DAYLIGHT
BEGIN:STANDARD
TZOFFSETFROM:-0500
TZOFFSETTO:-0600
TZNAME:CST
DTSTART:20241103T070000
END:STANDARD
BEGIN:DAYLIGHT
TZOFFSETFROM:-0600
TZOFFSETTO:-0500
TZNAME:CDT
DTSTART:20250309T080000
END:DAYLIGHT
BEGIN:STANDARD
TZOFFSETFROM:-0500
TZOFFSETTO:-0600
TZNAME:CST
DTSTART:20251102T070000
END:STANDARD
BEGIN:DAYLIGHT
TZOFFSETFROM:-0600
TZOFFSETTO:-0500
TZNAME:CDT
DTSTART:20260308T080000
END:DAYLIGHT
BEGIN:STANDARD
TZOFFSETFROM:-0500
TZOFFSETTO:-0600
TZNAME:CST
DTSTART:20261101T070000
END:STANDARD
END:VTIMEZONE
BEGIN:VEVENT
DTSTART;TZID=America/Chicago:20250401T183000
DTEND;TZID=America/Chicago:20250401T213000
DTSTAMP:20260419T204629
CREATED:20250317T180950Z
LAST-MODIFIED:20250317T180951Z
UID:10000161-1743532200-1743543000@www.roxylockport.com
SUMMARY:The Lockport Swing Thing
DESCRIPTION:Free and family-friendly. No partner required. \nBeginner swing dance lesson: 6:30-7:30pm \nIntermediate swing dance lesson in separate room: 6:30-7:30pm \nPlease arrive between 6:00pm and 6:25pm so that the lessons may start on time. If you are late\, you are welcome to watch or follow along on your own. \nSocial dancing: 7:30-9:30pm
URL:https://www.roxylockport.com/calendar/the-lockport-swing-thing-20-7/2025-04-01/
LOCATION:ROXY Lockport\, 1017 S. State St.\, Lockport\, IL\, 60441\, United States
CATEGORIES:Dance
ATTACH;FMTTYPE=image/jpeg:https://www.roxylockport.com/wp-content/uploads/2022/12/Tuesdays-are-for-Swing.jpg
ORGANIZER;CN="R.J. and Jessica":MAILTO:thelockport.swingthing@gmail.com
END:VEVENT
BEGIN:VEVENT
DTSTART;TZID=America/Chicago:20250408T183000
DTEND;TZID=America/Chicago:20250408T213000
DTSTAMP:20260419T204629
CREATED:20250317T180950Z
LAST-MODIFIED:20250317T180951Z
UID:10000162-1744137000-1744147800@www.roxylockport.com
SUMMARY:The Lockport Swing Thing
DESCRIPTION:Free and family-friendly. No partner required. \nBeginner swing dance lesson: 6:30-7:30pm \nIntermediate swing dance lesson in separate room: 6:30-7:30pm \nPlease arrive between 6:00pm and 6:25pm so that the lessons may start on time. If you are late\, you are welcome to watch or follow along on your own. \nSocial dancing: 7:30-9:30pm
URL:https://www.roxylockport.com/calendar/the-lockport-swing-thing-20-7/2025-04-08/
LOCATION:ROXY Lockport\, 1017 S. State St.\, Lockport\, IL\, 60441\, United States
CATEGORIES:Dance
ATTACH;FMTTYPE=image/jpeg:https://www.roxylockport.com/wp-content/uploads/2022/12/Tuesdays-are-for-Swing.jpg
ORGANIZER;CN="R.J. and Jessica":MAILTO:thelockport.swingthing@gmail.com
END:VEVENT
BEGIN:VEVENT
DTSTART;TZID=America/Chicago:20250415T180000
DTEND;TZID=America/Chicago:20250415T213000
DTSTAMP:20260419T204629
CREATED:20250317T180109Z
LAST-MODIFIED:20250317T180109Z
UID:10000922-1744740000-1744752600@www.roxylockport.com
SUMMARY:The Falconaires Orchestra
DESCRIPTION:Dance lesson with The Lockport Swing Thing: 6-7pm\nBand plays 7-9:30pm \n$10 cash at the door
URL:https://www.roxylockport.com/calendar/the-falconaires-orchestrawith-dance-lesson-by-tlst-2-2/2025-04-15/
LOCATION:ROXY Lockport\, 1017 S. State St.\, Lockport\, IL\, 60441\, United States
CATEGORIES:Dance,Music Showcase
ATTACH;FMTTYPE=image/jpeg:https://www.roxylockport.com/wp-content/uploads/2022/12/The-Falconaires-FB-Event3-scaled.jpg
END:VEVENT
BEGIN:VEVENT
DTSTART;TZID=America/Chicago:20250422T183000
DTEND;TZID=America/Chicago:20250422T213000
DTSTAMP:20260419T204629
CREATED:20250317T180950Z
LAST-MODIFIED:20250317T180951Z
UID:10000163-1745346600-1745357400@www.roxylockport.com
SUMMARY:The Lockport Swing Thing
DESCRIPTION:Free and family-friendly. No partner required. \nBeginner swing dance lesson: 6:30-7:30pm \nIntermediate swing dance lesson in separate room: 6:30-7:30pm \nPlease arrive between 6:00pm and 6:25pm so that the lessons may start on time. If you are late\, you are welcome to watch or follow along on your own. \nSocial dancing: 7:30-9:30pm
URL:https://www.roxylockport.com/calendar/the-lockport-swing-thing-20-7/2025-04-22/
LOCATION:ROXY Lockport\, 1017 S. State St.\, Lockport\, IL\, 60441\, United States
CATEGORIES:Dance
ATTACH;FMTTYPE=image/jpeg:https://www.roxylockport.com/wp-content/uploads/2022/12/Tuesdays-are-for-Swing.jpg
ORGANIZER;CN="R.J. and Jessica":MAILTO:thelockport.swingthing@gmail.com
END:VEVENT
BEGIN:VEVENT
DTSTART;TZID=America/Chicago:20250429T183000
DTEND;TZID=America/Chicago:20250429T213000
DTSTAMP:20260419T204629
CREATED:20250317T180950Z
LAST-MODIFIED:20250317T180951Z
UID:10000164-1745951400-1745962200@www.roxylockport.com
SUMMARY:The Lockport Swing Thing
DESCRIPTION:Free and family-friendly. No partner required. \nBeginner swing dance lesson: 6:30-7:30pm \nIntermediate swing dance lesson in separate room: 6:30-7:30pm \nPlease arrive between 6:00pm and 6:25pm so that the lessons may start on time. If you are late\, you are welcome to watch or follow along on your own. \nSocial dancing: 7:30-9:30pm
URL:https://www.roxylockport.com/calendar/the-lockport-swing-thing-20-7/2025-04-29/
LOCATION:ROXY Lockport\, 1017 S. State St.\, Lockport\, IL\, 60441\, United States
CATEGORIES:Dance
ATTACH;FMTTYPE=image/jpeg:https://www.roxylockport.com/wp-content/uploads/2022/12/Tuesdays-are-for-Swing.jpg
ORGANIZER;CN="R.J. and Jessica":MAILTO:thelockport.swingthing@gmail.com
END:VEVENT
END:VCALENDAR