BEGIN:VCALENDAR
VERSION:2.0
PRODID:-//ROXY Lockport - ECPv6.15.20//NONSGML v1.0//EN
CALSCALE:GREGORIAN
METHOD:PUBLISH
X-WR-CALNAME:ROXY Lockport
X-ORIGINAL-URL:https://www.roxylockport.com
X-WR-CALDESC:Events for ROXY Lockport
REFRESH-INTERVAL;VALUE=DURATION:PT1H
X-Robots-Tag:noindex
X-PUBLISHED-TTL:PT1H
BEGIN:VTIMEZONE
TZID:America/Chicago
BEGIN:DAYLIGHT
TZOFFSETFROM:-0600
TZOFFSETTO:-0500
TZNAME:CDT
DTSTART:20240310T080000
END:DAYLIGHT
BEGIN:STANDARD
TZOFFSETFROM:-0500
TZOFFSETTO:-0600
TZNAME:CST
DTSTART:20241103T070000
END:STANDARD
BEGIN:DAYLIGHT
TZOFFSETFROM:-0600
TZOFFSETTO:-0500
TZNAME:CDT
DTSTART:20250309T080000
END:DAYLIGHT
BEGIN:STANDARD
TZOFFSETFROM:-0500
TZOFFSETTO:-0600
TZNAME:CST
DTSTART:20251102T070000
END:STANDARD
BEGIN:DAYLIGHT
TZOFFSETFROM:-0600
TZOFFSETTO:-0500
TZNAME:CDT
DTSTART:20260308T080000
END:DAYLIGHT
BEGIN:STANDARD
TZOFFSETFROM:-0500
TZOFFSETTO:-0600
TZNAME:CST
DTSTART:20261101T070000
END:STANDARD
END:VTIMEZONE
BEGIN:VEVENT
DTSTART;TZID=America/Chicago:20251102T180000
DTEND;TZID=America/Chicago:20251102T210000
DTSTAMP:20260424T014518
CREATED:20250317T180647Z
LAST-MODIFIED:20250317T180647Z
UID:10000605-1762106400-1762117200@www.roxylockport.com
SUMMARY:Shout Section Big Band
DESCRIPTION:
URL:https://www.roxylockport.com/calendar/shout-section-big-band-7-2-2-2-2/2025-11-02/
LOCATION:ROXY Lockport\, 1017 S. State St.\, Lockport\, IL\, 60441\, United States
CATEGORIES:Dance,Music Showcase,Swing Dance
ATTACH;FMTTYPE=image/jpeg:https://www.roxylockport.com/wp-content/uploads/2024/04/Shout-Section-FB-Event.jpg
END:VEVENT
BEGIN:VEVENT
DTSTART;TZID=America/Chicago:20251104T183000
DTEND;TZID=America/Chicago:20251104T213000
DTSTAMP:20260424T014518
CREATED:20250317T180950Z
LAST-MODIFIED:20250317T180951Z
UID:10000185-1762281000-1762291800@www.roxylockport.com
SUMMARY:The Lockport Swing Thing
DESCRIPTION:Free and family-friendly. No partner required. \nBeginner swing dance lesson: 6:30-7:30pm \nIntermediate swing dance lesson in separate room: 6:30-7:30pm \nPlease arrive between 6:00pm and 6:25pm so that the lessons may start on time. If you are late\, you are welcome to watch or follow along on your own. \nSocial dancing: 7:30-9:30pm
URL:https://www.roxylockport.com/calendar/the-lockport-swing-thing-20-7/2025-11-04/
LOCATION:ROXY Lockport\, 1017 S. State St.\, Lockport\, IL\, 60441\, United States
CATEGORIES:Dance
ATTACH;FMTTYPE=image/jpeg:https://www.roxylockport.com/wp-content/uploads/2022/12/Tuesdays-are-for-Swing.jpg
ORGANIZER;CN="R.J. and Jessica":MAILTO:thelockport.swingthing@gmail.com
END:VEVENT
BEGIN:VEVENT
DTSTART;TZID=America/Chicago:20251107T193000
DTEND;TZID=America/Chicago:20251107T213000
DTSTAMP:20260424T014518
CREATED:20251005T003529Z
LAST-MODIFIED:20251005T003529Z
UID:10001220-1762543800-1762551000@www.roxylockport.com
SUMMARY:Sweet Reminder's Andrews Sisters Revue
DESCRIPTION:In honor of Veterans Day\, Sweet Reminder singers\, Nancy Baumet and Dia Madden will be presenting their energetic show featuring the toe-tappin’ hits of “America’s Wartime Sweethearts”\, The Andrews Sisters! With their beautiful vocals\, close harmony\, choreography\, quick wit and patriotic hearts\, you’ll experience the reason their music meant so much to so many! \nLaugh and sing along as so many memorable melodies are brought back to life in their signature playful style! \nDance floor available \n$20 cash at the door \nDoors open at 7pm \nLimited seating. Please call Nancy at 630-375-9717 for reservations.
URL:https://www.roxylockport.com/calendar/sweet-reminders-andrews-sisters-revue/
LOCATION:ROXY Lockport\, 1017 S. State St.\, Lockport\, IL\, 60441\, United States
CATEGORIES:Dance,Music Showcase
END:VEVENT
BEGIN:VEVENT
DTSTART;TZID=America/Chicago:20251109T190000
DTEND;TZID=America/Chicago:20251109T210000
DTSTAMP:20260424T014518
CREATED:20251011T044323Z
LAST-MODIFIED:20251011T044323Z
UID:10001221-1762714800-1762722000@www.roxylockport.com
SUMMARY:Hugo's Elvis - Tribute Artist
DESCRIPTION:We are thrilled to welcome Hugo back to our stage! If you like Elvis Presley\, you do not want to miss this! \nThis event offers a full dance floor with theater-style seating on the “upper” floor. \n$10 cash at the door
URL:https://www.roxylockport.com/calendar/hugos-elvis-tribute-artist/
LOCATION:ROXY Lockport\, 1017 S. State St.\, Lockport\, IL\, 60441\, United States
CATEGORIES:Dance,Music Showcase,Tribute Artist
ORGANIZER;CN="Paula & Hugo Colin":MAILTO:hugoselvis2000@yahoo.com
END:VEVENT
BEGIN:VEVENT
DTSTART;TZID=America/Chicago:20251111T183000
DTEND;TZID=America/Chicago:20251111T213000
DTSTAMP:20260424T014518
CREATED:20250317T180950Z
LAST-MODIFIED:20250317T180951Z
UID:10000186-1762885800-1762896600@www.roxylockport.com
SUMMARY:The Lockport Swing Thing
DESCRIPTION:Free and family-friendly. No partner required. \nBeginner swing dance lesson: 6:30-7:30pm \nIntermediate swing dance lesson in separate room: 6:30-7:30pm \nPlease arrive between 6:00pm and 6:25pm so that the lessons may start on time. If you are late\, you are welcome to watch or follow along on your own. \nSocial dancing: 7:30-9:30pm
URL:https://www.roxylockport.com/calendar/the-lockport-swing-thing-20-7/2025-11-11/
LOCATION:ROXY Lockport\, 1017 S. State St.\, Lockport\, IL\, 60441\, United States
CATEGORIES:Dance
ATTACH;FMTTYPE=image/jpeg:https://www.roxylockport.com/wp-content/uploads/2022/12/Tuesdays-are-for-Swing.jpg
ORGANIZER;CN="R.J. and Jessica":MAILTO:thelockport.swingthing@gmail.com
END:VEVENT
BEGIN:VEVENT
DTSTART;TZID=America/Chicago:20251112T200000
DTEND;TZID=America/Chicago:20251112T230000
DTSTAMP:20260424T014518
CREATED:20250317T181302Z
LAST-MODIFIED:20250317T181303Z
UID:10000796-1762977600-1762988400@www.roxylockport.com
SUMMARY:Jazz Manouche (Gypsy) Jam
DESCRIPTION:Whether you bring an instrument and participate in the jam\, feel like dancing\, or just want to listen and watch\, with no cover charge\, ROXY is the place to be on the 2nd Wednesday of the month! \nPlease support ROXY by making a purchase at the bar.
URL:https://www.roxylockport.com/calendar/manouche-gypsy-jazz-jam-2/2025-11-12/
LOCATION:ROXY Lockport\, 1017 S. State St.\, Lockport\, IL\, 60441\, United States
CATEGORIES:Dance,Jazz,Music Jam (anyone can participate),Music Showcase,Swing,Swing Dance
ATTACH;FMTTYPE=image/jpeg:https://www.roxylockport.com/wp-content/uploads/2024/07/Jazz-Manouche-Jam.jpg
END:VEVENT
BEGIN:VEVENT
DTSTART;TZID=America/Chicago:20251113T190000
DTEND;TZID=America/Chicago:20251113T213000
DTSTAMP:20260424T014518
CREATED:20250317T180806Z
LAST-MODIFIED:20250317T180806Z
UID:10000318-1763060400-1763069400@www.roxylockport.com
SUMMARY:Mr. Lucky & his Orchestra of Tomorrow
DESCRIPTION:
URL:https://www.roxylockport.com/calendar/mr-lucky-hisorchestra-of-tomorrow-3/2025-11-13/
LOCATION:ROXY Lockport\, 1017 S. State St.\, Lockport\, IL\, 60441\, United States
CATEGORIES:Dance,Music Showcase
ATTACH;FMTTYPE=image/jpeg:https://www.roxylockport.com/wp-content/uploads/2022/12/luckytux-scaled.jpg
END:VEVENT
BEGIN:VEVENT
DTSTART;TZID=America/Chicago:20251118T180000
DTEND;TZID=America/Chicago:20251118T213000
DTSTAMP:20260424T014518
CREATED:20250317T180202Z
LAST-MODIFIED:20250317T180202Z
UID:10000937-1763488800-1763501400@www.roxylockport.com
SUMMARY:Del Bergeson Swing Orchestra
DESCRIPTION:Joining the 3rd Tuesday band rotation is the Del Bergeson Swing Orchestra. They offer a wide variety of danceable tunes\, but this will be geared towards swing dancing\, not ballroom\, for those of you who follow them and may be accustomed to them playing for ballroom dancers. \nBeginner swing dance lesson provided by TLST: 6-7pm\nSocial dance feat Del Bergeson Swing Orchestra: 7-9:30pm \n$10 cash at the door
URL:https://www.roxylockport.com/calendar/del-bergeson-swing-orchestra-2-2/2025-11-18/
LOCATION:ROXY Lockport\, 1017 S. State St.\, Lockport\, IL\, 60441\, United States
CATEGORIES:Big Band/Swing,Dance,Music Showcase,Swing Dance
ATTACH;FMTTYPE=image/jpeg:https://www.roxylockport.com/wp-content/uploads/2024/01/411719822_10225744345888890_4027918909902868269_n.jpg
END:VEVENT
BEGIN:VEVENT
DTSTART;TZID=America/Chicago:20251124T200000
DTEND;TZID=America/Chicago:20251124T220000
DTSTAMP:20260424T014518
CREATED:20250317T180342Z
LAST-MODIFIED:20250317T180342Z
UID:10000378-1764014400-1764021600@www.roxylockport.com
SUMMARY:Outcast Jazz Band
DESCRIPTION:$10 cash only at the door
URL:https://www.roxylockport.com/calendar/outcast-jazz-band-6-2/2025-11-24/
LOCATION:ROXY Lockport\, 1017 S. State St.\, Lockport\, IL\, 60441\, United States
CATEGORIES:Dance,Music Showcase,Swing Dance
ATTACH;FMTTYPE=image/jpeg:https://www.roxylockport.com/wp-content/uploads/2022/12/OJB3.jpg
ORGANIZER;CN="Vince Clark":MAILTO:ojb@ojbmusic.com
END:VEVENT
BEGIN:VEVENT
DTSTART;TZID=America/Chicago:20251125T183000
DTEND;TZID=America/Chicago:20251125T213000
DTSTAMP:20260424T014518
CREATED:20250317T180950Z
LAST-MODIFIED:20250317T180951Z
UID:10000187-1764095400-1764106200@www.roxylockport.com
SUMMARY:The Lockport Swing Thing
DESCRIPTION:Free and family-friendly. No partner required. \nBeginner swing dance lesson: 6:30-7:30pm \nIntermediate swing dance lesson in separate room: 6:30-7:30pm \nPlease arrive between 6:00pm and 6:25pm so that the lessons may start on time. If you are late\, you are welcome to watch or follow along on your own. \nSocial dancing: 7:30-9:30pm
URL:https://www.roxylockport.com/calendar/the-lockport-swing-thing-20-7/2025-11-25/
LOCATION:ROXY Lockport\, 1017 S. State St.\, Lockport\, IL\, 60441\, United States
CATEGORIES:Dance
ATTACH;FMTTYPE=image/jpeg:https://www.roxylockport.com/wp-content/uploads/2022/12/Tuesdays-are-for-Swing.jpg
ORGANIZER;CN="R.J. and Jessica":MAILTO:thelockport.swingthing@gmail.com
END:VEVENT
END:VCALENDAR