BEGIN:VCALENDAR
VERSION:2.0
PRODID:-//ROXY Lockport - ECPv6.15.20//NONSGML v1.0//EN
CALSCALE:GREGORIAN
METHOD:PUBLISH
X-ORIGINAL-URL:https://www.roxylockport.com
X-WR-CALDESC:Events for ROXY Lockport
REFRESH-INTERVAL;VALUE=DURATION:PT1H
X-Robots-Tag:noindex
X-PUBLISHED-TTL:PT1H
BEGIN:VTIMEZONE
TZID:America/Chicago
BEGIN:DAYLIGHT
TZOFFSETFROM:-0600
TZOFFSETTO:-0500
TZNAME:CDT
DTSTART:20240310T080000
END:DAYLIGHT
BEGIN:STANDARD
TZOFFSETFROM:-0500
TZOFFSETTO:-0600
TZNAME:CST
DTSTART:20241103T070000
END:STANDARD
BEGIN:DAYLIGHT
TZOFFSETFROM:-0600
TZOFFSETTO:-0500
TZNAME:CDT
DTSTART:20250309T080000
END:DAYLIGHT
BEGIN:STANDARD
TZOFFSETFROM:-0500
TZOFFSETTO:-0600
TZNAME:CST
DTSTART:20251102T070000
END:STANDARD
BEGIN:DAYLIGHT
TZOFFSETFROM:-0600
TZOFFSETTO:-0500
TZNAME:CDT
DTSTART:20260308T080000
END:DAYLIGHT
BEGIN:STANDARD
TZOFFSETFROM:-0500
TZOFFSETTO:-0600
TZNAME:CST
DTSTART:20261101T070000
END:STANDARD
END:VTIMEZONE
BEGIN:VEVENT
DTSTART;TZID=America/Chicago:20251202T183000
DTEND;TZID=America/Chicago:20251202T213000
DTSTAMP:20260423T183528
CREATED:20250317T180950Z
LAST-MODIFIED:20250317T180951Z
UID:10000188-1764700200-1764711000@www.roxylockport.com
SUMMARY:The Lockport Swing Thing
DESCRIPTION:Free and family-friendly. No partner required. \nBeginner swing dance lesson: 6:30-7:30pm \nIntermediate swing dance lesson in separate room: 6:30-7:30pm \nPlease arrive between 6:00pm and 6:25pm so that the lessons may start on time. If you are late\, you are welcome to watch or follow along on your own. \nSocial dancing: 7:30-9:30pm
URL:https://www.roxylockport.com/calendar/the-lockport-swing-thing-20-7/2025-12-02/
LOCATION:ROXY Lockport\, 1017 S. State St.\, Lockport\, IL\, 60441\, United States
CATEGORIES:Dance
ATTACH;FMTTYPE=image/jpeg:https://www.roxylockport.com/wp-content/uploads/2022/12/Tuesdays-are-for-Swing.jpg
ORGANIZER;CN="R.J. and Jessica":MAILTO:thelockport.swingthing@gmail.com
END:VEVENT
BEGIN:VEVENT
DTSTART;TZID=America/Chicago:20251207T180000
DTEND;TZID=America/Chicago:20251207T210000
DTSTAMP:20260423T183528
CREATED:20250317T180647Z
LAST-MODIFIED:20250317T180647Z
UID:10000606-1765130400-1765141200@www.roxylockport.com
SUMMARY:Shout Section Big Band
DESCRIPTION:
URL:https://www.roxylockport.com/calendar/shout-section-big-band-7-2-2-2-2/2025-12-07/
LOCATION:ROXY Lockport\, 1017 S. State St.\, Lockport\, IL\, 60441\, United States
CATEGORIES:Dance,Music Showcase,Swing Dance
ATTACH;FMTTYPE=image/jpeg:https://www.roxylockport.com/wp-content/uploads/2024/04/Shout-Section-FB-Event.jpg
END:VEVENT
BEGIN:VEVENT
DTSTART;TZID=America/Chicago:20251209T183000
DTEND;TZID=America/Chicago:20251209T213000
DTSTAMP:20260423T183528
CREATED:20250317T180950Z
LAST-MODIFIED:20250317T180951Z
UID:10000189-1765305000-1765315800@www.roxylockport.com
SUMMARY:The Lockport Swing Thing
DESCRIPTION:Free and family-friendly. No partner required. \nBeginner swing dance lesson: 6:30-7:30pm \nIntermediate swing dance lesson in separate room: 6:30-7:30pm \nPlease arrive between 6:00pm and 6:25pm so that the lessons may start on time. If you are late\, you are welcome to watch or follow along on your own. \nSocial dancing: 7:30-9:30pm
URL:https://www.roxylockport.com/calendar/the-lockport-swing-thing-20-7/2025-12-09/
LOCATION:ROXY Lockport\, 1017 S. State St.\, Lockport\, IL\, 60441\, United States
CATEGORIES:Dance
ATTACH;FMTTYPE=image/jpeg:https://www.roxylockport.com/wp-content/uploads/2022/12/Tuesdays-are-for-Swing.jpg
ORGANIZER;CN="R.J. and Jessica":MAILTO:thelockport.swingthing@gmail.com
END:VEVENT
BEGIN:VEVENT
DTSTART;TZID=America/Chicago:20251210T200000
DTEND;TZID=America/Chicago:20251210T230000
DTSTAMP:20260423T183528
CREATED:20250317T181302Z
LAST-MODIFIED:20250317T181303Z
UID:10000797-1765396800-1765407600@www.roxylockport.com
SUMMARY:Jazz Manouche (Gypsy) Jam
DESCRIPTION:Whether you bring an instrument and participate in the jam\, feel like dancing\, or just want to listen and watch\, with no cover charge\, ROXY is the place to be on the 2nd Wednesday of the month! \nPlease support ROXY by making a purchase at the bar.
URL:https://www.roxylockport.com/calendar/manouche-gypsy-jazz-jam-2/2025-12-10/
LOCATION:ROXY Lockport\, 1017 S. State St.\, Lockport\, IL\, 60441\, United States
CATEGORIES:Dance,Jazz,Music Jam (anyone can participate),Music Showcase,Swing,Swing Dance
ATTACH;FMTTYPE=image/jpeg:https://www.roxylockport.com/wp-content/uploads/2024/07/Jazz-Manouche-Jam.jpg
END:VEVENT
BEGIN:VEVENT
DTSTART;TZID=America/Chicago:20251211T190000
DTEND;TZID=America/Chicago:20251211T213000
DTSTAMP:20260423T183528
CREATED:20250317T180806Z
LAST-MODIFIED:20250317T180806Z
UID:10000319-1765479600-1765488600@www.roxylockport.com
SUMMARY:Mr. Lucky & his Orchestra of Tomorrow
DESCRIPTION:
URL:https://www.roxylockport.com/calendar/mr-lucky-hisorchestra-of-tomorrow-3/2025-12-11/
LOCATION:ROXY Lockport\, 1017 S. State St.\, Lockport\, IL\, 60441\, United States
CATEGORIES:Dance,Music Showcase
ATTACH;FMTTYPE=image/jpeg:https://www.roxylockport.com/wp-content/uploads/2022/12/luckytux-scaled.jpg
END:VEVENT
BEGIN:VEVENT
DTSTART;TZID=America/Chicago:20251216T180000
DTEND;TZID=America/Chicago:20251216T213000
DTSTAMP:20260423T183528
CREATED:20250104T034803Z
LAST-MODIFIED:20250317T180017Z
UID:10000958-1765908000-1765920600@www.roxylockport.com
SUMMARY:Doug Horne and The Rhythm Makers Orchestra
DESCRIPTION:Dance lesson with The Lockport Swing Thing 6-7pm \nBand: 7-9:30pm
URL:https://www.roxylockport.com/calendar/doug-horneand-the-rhythm-makersorchestralesson-6-7pm-6/2025-12-16/
LOCATION:ROXY Lockport\, 1017 S. State St.\, Lockport\, IL\, 60441\, United States
CATEGORIES:Big Band/Swing,Dance,Music Showcase,Swing Dance
ATTACH;FMTTYPE=image/jpeg:https://www.roxylockport.com/wp-content/uploads/2025/01/472867048_1143524031112261_6286150605293531502_n.jpg
END:VEVENT
BEGIN:VEVENT
DTSTART;TZID=America/Chicago:20251222T200000
DTEND;TZID=America/Chicago:20251222T220000
DTSTAMP:20260423T183528
CREATED:20250317T180342Z
LAST-MODIFIED:20250317T180342Z
UID:10000379-1766433600-1766440800@www.roxylockport.com
SUMMARY:Outcast Jazz Band
DESCRIPTION:$10 cash only at the door
URL:https://www.roxylockport.com/calendar/outcast-jazz-band-6-2/2025-12-22/
LOCATION:ROXY Lockport\, 1017 S. State St.\, Lockport\, IL\, 60441\, United States
CATEGORIES:Dance,Music Showcase,Swing Dance
ATTACH;FMTTYPE=image/jpeg:https://www.roxylockport.com/wp-content/uploads/2022/12/OJB3.jpg
ORGANIZER;CN="Vince Clark":MAILTO:ojb@ojbmusic.com
END:VEVENT
BEGIN:VEVENT
DTSTART;TZID=America/Chicago:20251223T183000
DTEND;TZID=America/Chicago:20251223T213000
DTSTAMP:20260423T183528
CREATED:20250317T180950Z
LAST-MODIFIED:20250317T180951Z
UID:10000190-1766514600-1766525400@www.roxylockport.com
SUMMARY:The Lockport Swing Thing
DESCRIPTION:Free and family-friendly. No partner required. \nBeginner swing dance lesson: 6:30-7:30pm \nIntermediate swing dance lesson in separate room: 6:30-7:30pm \nPlease arrive between 6:00pm and 6:25pm so that the lessons may start on time. If you are late\, you are welcome to watch or follow along on your own. \nSocial dancing: 7:30-9:30pm
URL:https://www.roxylockport.com/calendar/the-lockport-swing-thing-20-7/2025-12-23/
LOCATION:ROXY Lockport\, 1017 S. State St.\, Lockport\, IL\, 60441\, United States
CATEGORIES:Dance
ATTACH;FMTTYPE=image/jpeg:https://www.roxylockport.com/wp-content/uploads/2022/12/Tuesdays-are-for-Swing.jpg
ORGANIZER;CN="R.J. and Jessica":MAILTO:thelockport.swingthing@gmail.com
END:VEVENT
BEGIN:VEVENT
DTSTART;TZID=America/Chicago:20251230T183000
DTEND;TZID=America/Chicago:20251230T213000
DTSTAMP:20260423T183528
CREATED:20250317T180950Z
LAST-MODIFIED:20250317T180951Z
UID:10001332-1767119400-1767130200@www.roxylockport.com
SUMMARY:The Lockport Swing Thing
DESCRIPTION:Free and family-friendly. No partner required. \nBeginner swing dance lesson: 6:30-7:30pm \nIntermediate swing dance lesson in separate room: 6:30-7:30pm \nPlease arrive between 6:00pm and 6:25pm so that the lessons may start on time. If you are late\, you are welcome to watch or follow along on your own. \nSocial dancing: 7:30-9:30pm
URL:https://www.roxylockport.com/calendar/the-lockport-swing-thing-20-7/2025-12-30/
LOCATION:ROXY Lockport\, 1017 S. State St.\, Lockport\, IL\, 60441\, United States
CATEGORIES:Dance
ATTACH;FMTTYPE=image/jpeg:https://www.roxylockport.com/wp-content/uploads/2022/12/Tuesdays-are-for-Swing.jpg
ORGANIZER;CN="R.J. and Jessica":MAILTO:thelockport.swingthing@gmail.com
END:VEVENT
BEGIN:VEVENT
DTSTART;TZID=America/Chicago:20251230T183000
DTEND;TZID=America/Chicago:20251230T213000
DTSTAMP:20260423T183528
CREATED:20251201T023930Z
LAST-MODIFIED:20251201T024758Z
UID:10000191-1767119400-1767130200@www.roxylockport.com
SUMMARY:No TLST Tonight!
DESCRIPTION:There is no TLST on Tuesday\, Dec 30th. Please consider attending our NYE dance with Mr. Lucky & his Orchestra of Tomorrow.
URL:https://www.roxylockport.com/calendar/the-lockport-swing-thing-23/
LOCATION:ROXY Lockport\, 1017 S. State St.\, Lockport\, IL\, 60441\, United States
CATEGORIES:Dance
ATTACH;FMTTYPE=image/jpeg:https://www.roxylockport.com/wp-content/uploads/2022/12/Tuesdays-are-for-Swing.jpg
ORGANIZER;CN="R.J. and Jessica":MAILTO:thelockport.swingthing@gmail.com
END:VEVENT
BEGIN:VEVENT
DTSTART;TZID=America/Chicago:20251231T193000
DTEND;TZID=America/Chicago:20251231T193000
DTSTAMP:20260423T183528
CREATED:20251026T010929Z
LAST-MODIFIED:20251026T010929Z
UID:10001224-1767209400-1767209400@www.roxylockport.com
SUMMARY:NYE Bash feat Mr. Lucky & his Orchestra of Tomorrow
DESCRIPTION:Please join us for another swingin’ New Year’s Eve!\nThis year\, we’ve got Mr. Lucky & his Orchestra of Tomorrow gracing our stage while we tear up the dance floor! \n$20 cash at the door; includes Prosecco/Sparkling Cider toast at midnight as well as snacks throughout the event.  \nFormal attire highly encouraged \nDance lesson provided by The Lockport Swing Thing: 7:45-8:45pm \nLive music provided by Mr Lucky: 9pm-midnight
URL:https://www.roxylockport.com/calendar/nye-bash-feat-mr-lucky-his-orchestra-of-tomorrow/
LOCATION:ROXY Lockport\, 1017 S. State St.\, Lockport\, IL\, 60441\, United States
CATEGORIES:Dance,Dance Party,Jazz,Music Showcase,Swing,Swing Dance
END:VEVENT
END:VCALENDAR