BEGIN:VCALENDAR
VERSION:2.0
PRODID:-//ROXY Lockport - ECPv6.15.20//NONSGML v1.0//EN
CALSCALE:GREGORIAN
METHOD:PUBLISH
X-ORIGINAL-URL:https://www.roxylockport.com
X-WR-CALDESC:Events for ROXY Lockport
REFRESH-INTERVAL;VALUE=DURATION:PT1H
X-Robots-Tag:noindex
X-PUBLISHED-TTL:PT1H
BEGIN:VTIMEZONE
TZID:America/Chicago
BEGIN:DAYLIGHT
TZOFFSETFROM:-0600
TZOFFSETTO:-0500
TZNAME:CDT
DTSTART:20240310T080000
END:DAYLIGHT
BEGIN:STANDARD
TZOFFSETFROM:-0500
TZOFFSETTO:-0600
TZNAME:CST
DTSTART:20241103T070000
END:STANDARD
BEGIN:DAYLIGHT
TZOFFSETFROM:-0600
TZOFFSETTO:-0500
TZNAME:CDT
DTSTART:20250309T080000
END:DAYLIGHT
BEGIN:STANDARD
TZOFFSETFROM:-0500
TZOFFSETTO:-0600
TZNAME:CST
DTSTART:20251102T070000
END:STANDARD
BEGIN:DAYLIGHT
TZOFFSETFROM:-0600
TZOFFSETTO:-0500
TZNAME:CDT
DTSTART:20260308T080000
END:DAYLIGHT
BEGIN:STANDARD
TZOFFSETFROM:-0500
TZOFFSETTO:-0600
TZNAME:CST
DTSTART:20261101T070000
END:STANDARD
END:VTIMEZONE
BEGIN:VEVENT
DTSTART;TZID=America/Chicago:20251129T183000
DTEND;TZID=America/Chicago:20251129T183000
DTSTAMP:20260424T214601
CREATED:20251025T234853Z
LAST-MODIFIED:20251104T193445Z
UID:10001223-1764441000-1764441000@www.roxylockport.com
SUMMARY:The Muppet Christmas Carol
DESCRIPTION:Tickets went on sale Saturday\, November 1st! \nClick here for tickets  \nJoin us for a screening of the 1992 musical film “The Muppet Christmas Carol” (G) at the historic ROXY Lockport Theater. Bring items for the Winter Coat Drive to donate to One Family Illinois. \nThe Muppets put their spin on the tale of an elder\, Christmas-hating miser who is visited by spirits who foretell his future and share secrets from his past and present\, which helps change his view on life. \nCome early to enjoy the caroling! Sit in the lounge and enjoy a beverage from the full-service bar with light snacks available for purchase. \n6:30pm – Carolers & Winter Coat Drive\n7:00pm – Movie Showing; Running Time 1h 25m
URL:https://www.roxylockport.com/calendar/the-muppet-christmas-carol/
LOCATION:ROXY Lockport\, 1017 S. State St.\, Lockport\, IL\, 60441\, United States
CATEGORIES:Movie
END:VEVENT
END:VCALENDAR