BEGIN:VCALENDAR
VERSION:2.0
PRODID:-//ROXY Lockport - ECPv6.15.20//NONSGML v1.0//EN
CALSCALE:GREGORIAN
METHOD:PUBLISH
X-ORIGINAL-URL:https://www.roxylockport.com
X-WR-CALDESC:Events for ROXY Lockport
REFRESH-INTERVAL;VALUE=DURATION:PT1H
X-Robots-Tag:noindex
X-PUBLISHED-TTL:PT1H
BEGIN:VTIMEZONE
TZID:America/Chicago
BEGIN:DAYLIGHT
TZOFFSETFROM:-0600
TZOFFSETTO:-0500
TZNAME:CDT
DTSTART:20220313T080000
END:DAYLIGHT
BEGIN:STANDARD
TZOFFSETFROM:-0500
TZOFFSETTO:-0600
TZNAME:CST
DTSTART:20221106T070000
END:STANDARD
BEGIN:DAYLIGHT
TZOFFSETFROM:-0600
TZOFFSETTO:-0500
TZNAME:CDT
DTSTART:20230312T080000
END:DAYLIGHT
BEGIN:STANDARD
TZOFFSETFROM:-0500
TZOFFSETTO:-0600
TZNAME:CST
DTSTART:20231105T070000
END:STANDARD
BEGIN:DAYLIGHT
TZOFFSETFROM:-0600
TZOFFSETTO:-0500
TZNAME:CDT
DTSTART:20240310T080000
END:DAYLIGHT
BEGIN:STANDARD
TZOFFSETFROM:-0500
TZOFFSETTO:-0600
TZNAME:CST
DTSTART:20241103T070000
END:STANDARD
END:VTIMEZONE
BEGIN:VEVENT
DTSTART;TZID=America/Chicago:20230310T190000
DTEND;TZID=America/Chicago:20230310T220000
DTSTAMP:20260423T102033
CREATED:20230130T203533Z
LAST-MODIFIED:20230130T203533Z
UID:10000056-1678474800-1678485600@www.roxylockport.com
SUMMARY:Brad RedlichCountry-Rock Music Showcase
DESCRIPTION:Brad Redlich is a local country-rock artist from Bolingbrook\, IL. #BRNation and join our fast-growing\, passionate fan base while we enjoy upbeat\, catchy and soulful original songs such as\, “Modern Classic”\, “Saturday”\, “You Give Me Lovin’ All the Time”\, “Bottle Down”\, “On The Road”\, “Summer Never Ends”\, and much more. Brad will also work in requests\, classic rock and country hits.\nBrad has performed 30+ full-band/acoustic shows in 2022 in the ChicagoLand area. Performances include\, Bub City\, BaseCamp\, Homegrown Music Festival\, DeMito’s Saloon\, Ballydoyle\, Black Dog Vinyl Cafe\, O’Neill’s Pub\, Dockside\, etc.
URL:https://www.roxylockport.com/calendar/brad-redlichcountry-rock-music-showcase/
LOCATION:ROXY Lockport\, 1017 S. State St.\, Lockport\, IL\, 60441\, United States
CATEGORIES:Music Showcase
ORGANIZER;CN="Brad Redlich":MAILTO:booking@bradredlich.com
END:VEVENT
END:VCALENDAR