BEGIN:VCALENDAR
VERSION:2.0
PRODID:-//ROXY Lockport - ECPv6.15.20//NONSGML v1.0//EN
CALSCALE:GREGORIAN
METHOD:PUBLISH
X-WR-CALNAME:ROXY Lockport
X-ORIGINAL-URL:https://www.roxylockport.com
X-WR-CALDESC:Events for ROXY Lockport
REFRESH-INTERVAL;VALUE=DURATION:PT1H
X-Robots-Tag:noindex
X-PUBLISHED-TTL:PT1H
BEGIN:VTIMEZONE
TZID:America/Chicago
BEGIN:DAYLIGHT
TZOFFSETFROM:-0600
TZOFFSETTO:-0500
TZNAME:CDT
DTSTART:20220313T080000
END:DAYLIGHT
BEGIN:STANDARD
TZOFFSETFROM:-0500
TZOFFSETTO:-0600
TZNAME:CST
DTSTART:20221106T070000
END:STANDARD
BEGIN:DAYLIGHT
TZOFFSETFROM:-0600
TZOFFSETTO:-0500
TZNAME:CDT
DTSTART:20230312T080000
END:DAYLIGHT
BEGIN:STANDARD
TZOFFSETFROM:-0500
TZOFFSETTO:-0600
TZNAME:CST
DTSTART:20231105T070000
END:STANDARD
BEGIN:DAYLIGHT
TZOFFSETFROM:-0600
TZOFFSETTO:-0500
TZNAME:CDT
DTSTART:20240310T080000
END:DAYLIGHT
BEGIN:STANDARD
TZOFFSETFROM:-0500
TZOFFSETTO:-0600
TZNAME:CST
DTSTART:20241103T070000
END:STANDARD
BEGIN:DAYLIGHT
TZOFFSETFROM:-0600
TZOFFSETTO:-0500
TZNAME:CDT
DTSTART:20250309T080000
END:DAYLIGHT
BEGIN:STANDARD
TZOFFSETFROM:-0500
TZOFFSETTO:-0600
TZNAME:CST
DTSTART:20251102T070000
END:STANDARD
END:VTIMEZONE
BEGIN:VEVENT
DTSTART;TZID=America/Chicago:20240510T190000
DTEND;TZID=America/Chicago:20240510T230000
DTSTAMP:20260419T172817
CREATED:20240414T013022Z
LAST-MODIFIED:20240414T013022Z
UID:10000742-1715367600-1715382000@www.roxylockport.com
SUMMARY:Gina Marie & theGolden BucksJason BenefieldMichelle McCarthy
DESCRIPTION:An evening of live\, local music with Gina Marie & the Golden Bucks\, Jason Benefield\, and Michelle McCarthy.\nBring your dancing feet\, as Gina Marie is sure to get you swinging and two-stepping! \nThere will be a full open dance floor on the lower floor. Seating will be available on the upper floor. \nClick here for tickets or pay cash at the door
URL:https://www.roxylockport.com/calendar/gina-marie-thegolden-bucksjason-benefieldmichelle-mccarthy/
LOCATION:ROXY Lockport\, 1017 S. State St.\, Lockport\, IL\, 60441\, United States
CATEGORIES:Americana,Country,Dance,Music Showcase,Singer-Songwriter,Swing Dance
END:VEVENT
BEGIN:VEVENT
DTSTART;TZID=America/Chicago:20231210T180000
DTEND;TZID=America/Chicago:20231210T220000
DTSTAMP:20260419T172817
CREATED:20231106T192441Z
LAST-MODIFIED:20231106T192441Z
UID:10000678-1702231200-1702245600@www.roxylockport.com
SUMMARY:Captain ThunderbirdPresentsDynamic Duos
DESCRIPTION:C﻿aptain Thunderbeard Presents: Dynamic Duos\nJ﻿oin some of the finest acoustic duos in the Chicagoland area for an evening of songs and stories at the iconic ROXY in Lockport\, IL on December 10th\, 2023. Tickets only $10. \nFeatured Performers:\nE﻿cho and Ransom\nA﻿aron Kelly and Demi Clara\nD﻿arling Victory\nT﻿he Simple Remedy (duo) \nS﻿upport Local Music! Listen Local!
URL:https://www.roxylockport.com/calendar/captain-thunderbirdpresentsdynamic-duos/
LOCATION:ROXY Lockport\, 1017 S. State St.\, Lockport\, IL\, 60441\, United States
CATEGORIES:Music Showcase,Singer-Songwriter
END:VEVENT
END:VCALENDAR