BEGIN:VCALENDAR
VERSION:2.0
PRODID:-//ROXY Lockport - ECPv6.15.20//NONSGML v1.0//EN
CALSCALE:GREGORIAN
METHOD:PUBLISH
X-WR-CALNAME:ROXY Lockport
X-ORIGINAL-URL:https://www.roxylockport.com
X-WR-CALDESC:Events for ROXY Lockport
REFRESH-INTERVAL;VALUE=DURATION:PT1H
X-Robots-Tag:noindex
X-PUBLISHED-TTL:PT1H
BEGIN:VTIMEZONE
TZID:America/Chicago
BEGIN:DAYLIGHT
TZOFFSETFROM:-0600
TZOFFSETTO:-0500
TZNAME:CDT
DTSTART:20230312T080000
END:DAYLIGHT
BEGIN:STANDARD
TZOFFSETFROM:-0500
TZOFFSETTO:-0600
TZNAME:CST
DTSTART:20231105T070000
END:STANDARD
BEGIN:DAYLIGHT
TZOFFSETFROM:-0600
TZOFFSETTO:-0500
TZNAME:CDT
DTSTART:20240310T080000
END:DAYLIGHT
BEGIN:STANDARD
TZOFFSETFROM:-0500
TZOFFSETTO:-0600
TZNAME:CST
DTSTART:20241103T070000
END:STANDARD
BEGIN:DAYLIGHT
TZOFFSETFROM:-0600
TZOFFSETTO:-0500
TZNAME:CDT
DTSTART:20250309T080000
END:DAYLIGHT
BEGIN:STANDARD
TZOFFSETFROM:-0500
TZOFFSETTO:-0600
TZNAME:CST
DTSTART:20251102T070000
END:STANDARD
BEGIN:DAYLIGHT
TZOFFSETFROM:-0600
TZOFFSETTO:-0500
TZNAME:CDT
DTSTART:20260308T080000
END:DAYLIGHT
BEGIN:STANDARD
TZOFFSETFROM:-0500
TZOFFSETTO:-0600
TZNAME:CST
DTSTART:20261101T070000
END:STANDARD
END:VTIMEZONE
BEGIN:VEVENT
DTSTART;TZID=America/Chicago:20250516T180000
DTEND;TZID=America/Chicago:20250516T220000
DTSTAMP:20260423T101542
CREATED:20250407T215408Z
LAST-MODIFIED:20250407T215408Z
UID:10001149-1747418400-1747432800@www.roxylockport.com
SUMMARY:CBAM! 3: A Night of Comic Books and Music
DESCRIPTION:It’s our third installment of CBAM and we have quite the lineup of comic artists and musicians for you!\nJoin us in this intimate setting where professional creators Jill Thompson (Scary Godmother\, DC Comics)\, Gene Ha (Wonder Woman\, Mae\, Top Ten)\, Jon Westhoff (Drumsticks of Doom\, LCS) The Satrun Twins (Fae and the Moon)\, Justin Castaneda (Wonder Care\, Heart)\, Dan Dougherty (Beardo\, A Thousand No’s) are available with comics\, autographs and more!\nFor our live music we have the debut of The Man Upstairs as well as headlining act the Dan Dougherty Band! \nTickets are only $10 on Eventbrite or $15 at the door.
URL:https://www.roxylockport.com/calendar/cbam-3-a-night-of-comic-books-and-music/
LOCATION:ROXY Lockport\, 1017 S. State St.\, Lockport\, IL\, 60441\, United States
CATEGORIES:Music Showcase
END:VEVENT
BEGIN:VEVENT
DTSTART;TZID=America/Chicago:20241123T180000
DTEND;TZID=America/Chicago:20241123T220000
DTSTAMP:20260423T101542
CREATED:20241105T055015Z
LAST-MODIFIED:20241105T055036Z
UID:10000896-1732384800-1732399200@www.roxylockport.com
SUMMARY:CBAM! 2Comic Books & Music
DESCRIPTION:Immerse yourself in a day filled with the best of both worlds – comic books and live music! This unique event will bring together artists\, musicians\, and fans under one roof. Explore a diverse collection of comics\, graphic novels\, and merchandise while enjoying live performances from talented musicians. \nTickets are $10 online (see link above)\, $15 at the door. \nFeaturing: Gene Ha (Wonder Woman\, Top Ten\, Mae)\, Mike Norton ( Revival\, Battlepug\, Marvel Comics)\, Jim Terry (The Crow\, Come Home Indio)\, Catherine and Sarah Satrun (Fae and the Moon)\, DJ Corchin (A Thousand No’s\, Shut Up and Feel)\, Jon Westhoff (Drumsticks of Doom\, Depowered) and Serena Guerr (The Mice Templar) and music from opener Kendall Colette and headlining act the Dan Dougherty Band.\nWhether you are a die-hard comic book enthusiast or a music lover looking for a new experience\, CB&M is the place to be. Don’t miss out on this exciting fusion of two creative universes – save the date and get ready for a day of fun\, entertainment\, and creativity!
URL:https://www.roxylockport.com/calendar/cbam-2comic-books-music/
LOCATION:ROXY Lockport\, 1017 S. State St.\, Lockport\, IL\, 60441\, United States
CATEGORIES:Music Showcase
END:VEVENT
BEGIN:VEVENT
DTSTART;TZID=America/Chicago:20240601T180000
DTEND;TZID=America/Chicago:20240601T210000
DTSTAMP:20260423T101542
CREATED:20240421T011611Z
LAST-MODIFIED:20240515T230618Z
UID:10000745-1717264800-1717275600@www.roxylockport.com
SUMMARY:C-BAM!Comic Books and Music!
DESCRIPTION:We’re trying something incredible here: a hybrid of a comic convention and a live music performance! We have an incredible lineup of comic creators from the Chicago area\, including\nGene Ha! – Wonder Woman Historia\, Mae\, Top Ten\nJill Thompson! – Sandman\, Wonder Woman\, Scary Godmother\nTim Seeley! – Hack/Slash\, Nightwing\, Batman Eternal\, Revival\nPaola Seeley! – Hack/Slash\, Fine Artist\nThe Satrun Twins! – Fae and the Moon\nJustin Castaneda! – The Kinder Guardians\, Juju’s World of Play\nDan Dougherty! – Beardo\, Touching Evil\, Do You Speak Fish?\nAND! Music all night from the Dan Dougherty Band with opening solo performances from the mighty John Condron and the incredible Mister Rees!\nIt’s only $10 at the door and it’s all ages! Bar area will be open to serve all types of beverages (they have an awesome and affordable beer menu too) Come to this historical landmark building for a one of a kind art and music experience!
URL:https://www.roxylockport.com/calendar/dan-dougherty-music-showcasesave-the-date-2/
LOCATION:ROXY Lockport\, 1017 S. State St.\, Lockport\, IL\, 60441\, United States
CATEGORIES:Music Showcase
END:VEVENT
BEGIN:VEVENT
DTSTART;TZID=America/Chicago:20240127T200000
DTEND;TZID=America/Chicago:20240127T220000
DTSTAMP:20260423T101542
CREATED:20240106T020118Z
LAST-MODIFIED:20240125T195320Z
UID:10000690-1706385600-1706392800@www.roxylockport.com
SUMMARY:Dan Dougherty BandDoors open at 7pm
DESCRIPTION:Doors open at 7pm \nMusic starts at 8pm \n$10 cash at the door
URL:https://www.roxylockport.com/calendar/dan-dougherty-music-showcasesave-the-date/
LOCATION:ROXY Lockport\, 1017 S. State St.\, Lockport\, IL\, 60441\, United States
CATEGORIES:Music Showcase
END:VEVENT
END:VCALENDAR