BEGIN:VCALENDAR
VERSION:2.0
PRODID:-//ROXY Lockport - ECPv6.15.20//NONSGML v1.0//EN
CALSCALE:GREGORIAN
METHOD:PUBLISH
X-ORIGINAL-URL:https://www.roxylockport.com
X-WR-CALDESC:Events for ROXY Lockport
REFRESH-INTERVAL;VALUE=DURATION:PT1H
X-Robots-Tag:noindex
X-PUBLISHED-TTL:PT1H
BEGIN:VTIMEZONE
TZID:America/Chicago
BEGIN:DAYLIGHT
TZOFFSETFROM:-0600
TZOFFSETTO:-0500
TZNAME:CDT
DTSTART:20250309T080000
END:DAYLIGHT
BEGIN:STANDARD
TZOFFSETFROM:-0500
TZOFFSETTO:-0600
TZNAME:CST
DTSTART:20251102T070000
END:STANDARD
BEGIN:DAYLIGHT
TZOFFSETFROM:-0600
TZOFFSETTO:-0500
TZNAME:CDT
DTSTART:20260308T080000
END:DAYLIGHT
BEGIN:STANDARD
TZOFFSETFROM:-0500
TZOFFSETTO:-0600
TZNAME:CST
DTSTART:20261101T070000
END:STANDARD
BEGIN:DAYLIGHT
TZOFFSETFROM:-0600
TZOFFSETTO:-0500
TZNAME:CDT
DTSTART:20270314T080000
END:DAYLIGHT
BEGIN:STANDARD
TZOFFSETFROM:-0500
TZOFFSETTO:-0600
TZNAME:CST
DTSTART:20271107T070000
END:STANDARD
END:VTIMEZONE
BEGIN:VEVENT
DTSTART;TZID=America/Chicago:20260530T180000
DTEND;TZID=America/Chicago:20260530T180000
DTSTAMP:20260423T083140
CREATED:20260405T211214Z
LAST-MODIFIED:20260405T211214Z
UID:10001358-1780164000-1780164000@www.roxylockport.com
SUMMARY:CBAM! 4 ~ Comic Books and Music
DESCRIPTION:Join us in person for a fun-filled event where comic book lovers and music fans unite! Featuring comic creators Jill Thompson\, Dan Dougherty\, DJ Corchin\, Justin Castaneda\, Jon Westhoff\, the Satrun Twins and Becky Blue Designs\, and music from MG Bailey and Hobo Knife! \n$10 in advance\n$15 at the door \nClick here for tickets
URL:https://www.roxylockport.com/calendar/cbam-4-comic-books-and-music/
LOCATION:ROXY Lockport\, 1017 S. State St.\, Lockport\, IL\, 60441\, United States
CATEGORIES:Music Showcase
ATTACH;FMTTYPE=image/jpeg:https://www.roxylockport.com/wp-content/uploads/2026/04/648834821_1587270256197662_3140989897009263706_n.jpg
END:VEVENT
END:VCALENDAR