BEGIN:VCALENDAR
VERSION:2.0
PRODID:-//ROXY Lockport - ECPv6.15.20//NONSGML v1.0//EN
CALSCALE:GREGORIAN
METHOD:PUBLISH
X-ORIGINAL-URL:https://www.roxylockport.com
X-WR-CALDESC:Events for ROXY Lockport
REFRESH-INTERVAL;VALUE=DURATION:PT1H
X-Robots-Tag:noindex
X-PUBLISHED-TTL:PT1H
BEGIN:VTIMEZONE
TZID:America/Chicago
BEGIN:DAYLIGHT
TZOFFSETFROM:-0600
TZOFFSETTO:-0500
TZNAME:CDT
DTSTART:20240310T080000
END:DAYLIGHT
BEGIN:STANDARD
TZOFFSETFROM:-0500
TZOFFSETTO:-0600
TZNAME:CST
DTSTART:20241103T070000
END:STANDARD
BEGIN:DAYLIGHT
TZOFFSETFROM:-0600
TZOFFSETTO:-0500
TZNAME:CDT
DTSTART:20250309T080000
END:DAYLIGHT
BEGIN:STANDARD
TZOFFSETFROM:-0500
TZOFFSETTO:-0600
TZNAME:CST
DTSTART:20251102T070000
END:STANDARD
BEGIN:DAYLIGHT
TZOFFSETFROM:-0600
TZOFFSETTO:-0500
TZNAME:CDT
DTSTART:20260308T080000
END:DAYLIGHT
BEGIN:STANDARD
TZOFFSETFROM:-0500
TZOFFSETTO:-0600
TZNAME:CST
DTSTART:20261101T070000
END:STANDARD
END:VTIMEZONE
BEGIN:VEVENT
DTSTART;TZID=America/Chicago:20250531T190000
DTEND;TZID=America/Chicago:20250531T220000
DTSTAMP:20260420T152423
CREATED:20250323T013114Z
LAST-MODIFIED:20250601T002521Z
UID:10001146-1748718000-1748728800@www.roxylockport.com
SUMMARY:The Black HARMONIX
DESCRIPTION:“Pull up to ROXY Lockport on May 31 from 7 PM to 10 PM for a live show with Black HARMONIX bringing that fire! Tickets are $15 in advance\, $20 at the door. They’re teaming up with their people New Bad Animal and Out Past Midnight for a cold blend of rock\, soul\, blues\, and more—it’s a whole vibe.” \nClick here for tickets
URL:https://www.roxylockport.com/calendar/the-black-harmonix/
LOCATION:ROXY Lockport\, 1017 S. State St.\, Lockport\, IL\, 60441\, United States
CATEGORIES:Blues,Music Showcase,R&B,Rock
ORGANIZER;CN="Dee Martin":MAILTO:info@urbanluxecafe.com
END:VEVENT
END:VCALENDAR