BEGIN:VCALENDAR
VERSION:2.0
PRODID:-//ROXY Lockport - ECPv6.15.20//NONSGML v1.0//EN
CALSCALE:GREGORIAN
METHOD:PUBLISH
X-WR-CALNAME:ROXY Lockport
X-ORIGINAL-URL:https://www.roxylockport.com
X-WR-CALDESC:Events for ROXY Lockport
REFRESH-INTERVAL;VALUE=DURATION:PT1H
X-Robots-Tag:noindex
X-PUBLISHED-TTL:PT1H
BEGIN:VTIMEZONE
TZID:America/Chicago
BEGIN:DAYLIGHT
TZOFFSETFROM:-0600
TZOFFSETTO:-0500
TZNAME:CDT
DTSTART:20220313T080000
END:DAYLIGHT
BEGIN:STANDARD
TZOFFSETFROM:-0500
TZOFFSETTO:-0600
TZNAME:CST
DTSTART:20221106T070000
END:STANDARD
BEGIN:DAYLIGHT
TZOFFSETFROM:-0600
TZOFFSETTO:-0500
TZNAME:CDT
DTSTART:20230312T080000
END:DAYLIGHT
BEGIN:STANDARD
TZOFFSETFROM:-0500
TZOFFSETTO:-0600
TZNAME:CST
DTSTART:20231105T070000
END:STANDARD
BEGIN:DAYLIGHT
TZOFFSETFROM:-0600
TZOFFSETTO:-0500
TZNAME:CDT
DTSTART:20240310T080000
END:DAYLIGHT
BEGIN:STANDARD
TZOFFSETFROM:-0500
TZOFFSETTO:-0600
TZNAME:CST
DTSTART:20241103T070000
END:STANDARD
END:VTIMEZONE
BEGIN:VEVENT
DTSTART;TZID=America/Chicago:20231112T190000
DTEND;TZID=America/Chicago:20231112T220000
DTSTAMP:20260424T013437
CREATED:20231106T174043Z
LAST-MODIFIED:20231106T174043Z
UID:10000676-1699815600-1699826400@www.roxylockport.com
SUMMARY:Taylor MarshallDreaming Straight to YouFall Tour
DESCRIPTION:Featuring Alex Delzer and Adam Hernandez\, Taylor Marshall brings “Dreaming Straight to You” to Chicagoland for the first time ever\, and ROXY is proud to be hosting this leg of his tour. \nClick here for tickets
URL:https://www.roxylockport.com/calendar/taylor-marshalldreaming-straight-to-youfall-tour/
LOCATION:ROXY Lockport\, 1017 S. State St.\, Lockport\, IL\, 60441\, United States
CATEGORIES:Christian Pop,Music Showcase
ORGANIZER;CN="Jack Murray":MAILTO:jackmurraymedia@gmail.com
END:VEVENT
END:VCALENDAR