BEGIN:VCALENDAR
VERSION:2.0
PRODID:-//ROXY Lockport - ECPv6.15.20//NONSGML v1.0//EN
CALSCALE:GREGORIAN
METHOD:PUBLISH
X-WR-CALNAME:ROXY Lockport
X-ORIGINAL-URL:https://www.roxylockport.com
X-WR-CALDESC:Events for ROXY Lockport
REFRESH-INTERVAL;VALUE=DURATION:PT1H
X-Robots-Tag:noindex
X-PUBLISHED-TTL:PT1H
BEGIN:VTIMEZONE
TZID:America/Chicago
BEGIN:DAYLIGHT
TZOFFSETFROM:-0600
TZOFFSETTO:-0500
TZNAME:CDT
DTSTART:20230312T080000
END:DAYLIGHT
BEGIN:STANDARD
TZOFFSETFROM:-0500
TZOFFSETTO:-0600
TZNAME:CST
DTSTART:20231105T070000
END:STANDARD
BEGIN:DAYLIGHT
TZOFFSETFROM:-0600
TZOFFSETTO:-0500
TZNAME:CDT
DTSTART:20240310T080000
END:DAYLIGHT
BEGIN:STANDARD
TZOFFSETFROM:-0500
TZOFFSETTO:-0600
TZNAME:CST
DTSTART:20241103T070000
END:STANDARD
BEGIN:DAYLIGHT
TZOFFSETFROM:-0600
TZOFFSETTO:-0500
TZNAME:CDT
DTSTART:20250309T080000
END:DAYLIGHT
BEGIN:STANDARD
TZOFFSETFROM:-0500
TZOFFSETTO:-0600
TZNAME:CST
DTSTART:20251102T070000
END:STANDARD
BEGIN:DAYLIGHT
TZOFFSETFROM:-0600
TZOFFSETTO:-0500
TZNAME:CDT
DTSTART:20260308T080000
END:DAYLIGHT
BEGIN:STANDARD
TZOFFSETFROM:-0500
TZOFFSETTO:-0600
TZNAME:CST
DTSTART:20261101T070000
END:STANDARD
END:VTIMEZONE
BEGIN:VEVENT
DTSTART;TZID=America/Chicago:20250528T180000
DTEND;TZID=America/Chicago:20250528T213000
DTSTAMP:20260423T095941
CREATED:20250112T035206Z
LAST-MODIFIED:20250317T181438Z
UID:10001075-1748455200-1748467800@www.roxylockport.com
SUMMARY:Open Mic Night
DESCRIPTION:Bring your instrument\, read a poem\, do some comedy–whatever suits you!–and come to ROXY’s 4th Wednesday Open Mic Night!\nThere will be a Yamaha DGX-670 keyboard set up and ready for whomever may want to use it.\nSorry\, no drum set.   \nHosted by Mr. Rees \nSign-ups start at 6pm\nOpen mic runs from 6:30-9:30pm \nOutside drinks are not allowed\, though feel free to bring in food. Individually wrapped snacks are available for purchase as well.
URL:https://www.roxylockport.com/calendar/open-mic-night-7/2025-05-28/
LOCATION:ROXY Lockport\, 1017 S. State St.\, Lockport\, IL\, 60441\, United States
CATEGORIES:Music Showcase,Open Mic
ORGANIZER;CN="Mr. Rees":MAILTO:mr.rees.music@gmail.com
END:VEVENT
BEGIN:VEVENT
DTSTART;TZID=America/Chicago:20250423T180000
DTEND;TZID=America/Chicago:20250423T213000
DTSTAMP:20260423T095941
CREATED:20250112T035206Z
LAST-MODIFIED:20250317T181438Z
UID:10001074-1745431200-1745443800@www.roxylockport.com
SUMMARY:Open Mic Night
DESCRIPTION:Bring your instrument\, read a poem\, do some comedy–whatever suits you!–and come to ROXY’s 4th Wednesday Open Mic Night!\nThere will be a Yamaha DGX-670 keyboard set up and ready for whomever may want to use it.\nSorry\, no drum set.   \nHosted by Mr. Rees \nSign-ups start at 6pm\nOpen mic runs from 6:30-9:30pm \nOutside drinks are not allowed\, though feel free to bring in food. Individually wrapped snacks are available for purchase as well.
URL:https://www.roxylockport.com/calendar/open-mic-night-7/2025-04-23/
LOCATION:ROXY Lockport\, 1017 S. State St.\, Lockport\, IL\, 60441\, United States
CATEGORIES:Music Showcase,Open Mic
ORGANIZER;CN="Mr. Rees":MAILTO:mr.rees.music@gmail.com
END:VEVENT
BEGIN:VEVENT
DTSTART;TZID=America/Chicago:20250326T180000
DTEND;TZID=America/Chicago:20250326T213000
DTSTAMP:20260423T095941
CREATED:20250112T035206Z
LAST-MODIFIED:20250317T181438Z
UID:10000984-1743012000-1743024600@www.roxylockport.com
SUMMARY:Open Mic Night
DESCRIPTION:Bring your instrument\, read a poem\, do some comedy–whatever suits you!–and come to ROXY’s 4th Wednesday Open Mic Night!\nThere will be a Yamaha DGX-670 keyboard set up and ready for whomever may want to use it.\nSorry\, no drum set.   \nHosted by Mr. Rees \nSign-ups start at 6pm\nOpen mic runs from 6:30-9:30pm \nOutside drinks are not allowed\, though feel free to bring in food. Individually wrapped snacks are available for purchase as well.
URL:https://www.roxylockport.com/calendar/open-mic-night-7/2025-03-26/
LOCATION:ROXY Lockport\, 1017 S. State St.\, Lockport\, IL\, 60441\, United States
CATEGORIES:Music Showcase,Open Mic
ORGANIZER;CN="Mr. Rees":MAILTO:mr.rees.music@gmail.com
END:VEVENT
BEGIN:VEVENT
DTSTART;TZID=America/Chicago:20250226T180000
DTEND;TZID=America/Chicago:20250226T213000
DTSTAMP:20260423T095941
CREATED:20250112T032530Z
LAST-MODIFIED:20250226T213815Z
UID:10000978-1740592800-1740605400@www.roxylockport.com
SUMMARY:CANCELEDOpen Mic Night
DESCRIPTION:Bring your instrument\, read a poem\, do some comedy–whatever suits you!–and come to ROXY’s 4th Wednesday Open Mic Night!\nThere will be a Yamaha DGX-670 keyboard set up and ready for whomever may want to use it.\nSorry\, no drum set.   \nHosted by Mr. Rees \nSign-ups start at 6pm\nOpen mic runs from 6:30-9:30pm \nOutside drinks are not allowed\, though feel free to bring in food. Individually wrapped snacks are available for purchase as well.
URL:https://www.roxylockport.com/calendar/open-mic-night-6/
LOCATION:ROXY Lockport\, 1017 S. State St.\, Lockport\, IL\, 60441\, United States
CATEGORIES:Music Showcase,Open Mic
ORGANIZER;CN="Mr. Rees":MAILTO:mr.rees.music@gmail.com
END:VEVENT
BEGIN:VEVENT
DTSTART;TZID=America/Chicago:20250122T180000
DTEND;TZID=America/Chicago:20250122T213000
DTSTAMP:20260423T095941
CREATED:20241206T024726Z
LAST-MODIFIED:20241206T024745Z
UID:10000917-1737568800-1737581400@www.roxylockport.com
SUMMARY:Open Mic Night
DESCRIPTION:Bring your instrument\, read a poem\, do some comedy–whatever suits you!–and come to ROXY’s 4th Wednesday Open Mic Night!\nThere will be a Yamaha DGX-670 keyboard set up and ready for whomever may want to use it.\nSorry\, no drum set.   \nHosted by Mr. Rees \nSign-ups start at 6pm\nOpen mic runs from 6:30-9:30pm \nOutside drinks are not allowed\, though feel free to bring in food. Individually wrapped snacks are available for purchase as well.
URL:https://www.roxylockport.com/calendar/open-mic-night-5/
LOCATION:ROXY Lockport\, 1017 S. State St.\, Lockport\, IL\, 60441\, United States
CATEGORIES:Music Showcase,Open Mic
ORGANIZER;CN="Mr. Rees":MAILTO:mr.rees.music@gmail.com
END:VEVENT
BEGIN:VEVENT
DTSTART;TZID=America/Chicago:20241127T180000
DTEND;TZID=America/Chicago:20241127T220000
DTSTAMP:20260423T095941
CREATED:20241004T053252Z
LAST-MODIFIED:20241004T053252Z
UID:10000891-1732730400-1732744800@www.roxylockport.com
SUMMARY:Open Mic Night
DESCRIPTION:Bring your instrument\, read a poem\, do some comedy–whatever suits you!–and come to ROXY’s 4th Wednesday Open Mic Night!\nThere will be a Yamaha DGX-670 keyboard set up and ready for whomever may want to use it.\nSorry\, no drum set.   \nHosted by Mr. Rees \nSign-ups start at 6pm\nOpen mic runs from 7-10pm \nOutside drinks are not allowed\, though feel free to bring in food. Individually wrapped snacks are available for purchase as well.
URL:https://www.roxylockport.com/calendar/open-mic-night-4/
LOCATION:ROXY Lockport\, 1017 S. State St.\, Lockport\, IL\, 60441\, United States
CATEGORIES:Music Showcase,Open Mic
ORGANIZER;CN="Mr. Rees":MAILTO:mr.rees.music@gmail.com
END:VEVENT
BEGIN:VEVENT
DTSTART;TZID=America/Chicago:20241023T180000
DTEND;TZID=America/Chicago:20241023T220000
DTSTAMP:20260423T095941
CREATED:20240915T010600Z
LAST-MODIFIED:20240915T010600Z
UID:10000881-1729706400-1729720800@www.roxylockport.com
SUMMARY:Open Mic Night
DESCRIPTION:Bring your instrument\, read a poem\, do some comedy–whatever suits you!–and come to ROXY’s 4th Wednesday Open Mic Night!\nThere will be a Yamaha DGX-670 keyboard set up and ready for whomever may want to use it.\nSorry\, no drum set.   \nHosted by Mr. Rees \nSign-ups start at 6pm\nOpen mic runs from 7-10pm \nOutside drinks are not allowed\, though feel free to bring in food. Individually wrapped snacks are available for purchase as well.
URL:https://www.roxylockport.com/calendar/open-mic-night-3/
LOCATION:ROXY Lockport\, 1017 S. State St.\, Lockport\, IL\, 60441\, United States
CATEGORIES:Music Showcase,Open Mic
ORGANIZER;CN="Mr. Rees":MAILTO:mr.rees.music@gmail.com
END:VEVENT
BEGIN:VEVENT
DTSTART;TZID=America/Chicago:20240925T180000
DTEND;TZID=America/Chicago:20240925T220000
DTSTAMP:20260423T095941
CREATED:20240914T232033Z
LAST-MODIFIED:20240915T010631Z
UID:10000873-1727287200-1727301600@www.roxylockport.com
SUMMARY:Open Mic Night
DESCRIPTION:Bring your instrument\, read a poem\, do some comedy–whatever suits you!–and come to ROXY’s 4th Wednesday Open Mic Night!\nThere will be a Yamaha DGX-670 keyboard set up and ready for whomever may want to use it.\nSorry\, no drum set.   \nHosted by Mr. Rees \nSign-ups start at 6pm\nOpen mic runs from 7-10pm \nOutside drinks are not allowed\, though feel free to bring in food. Individually wrapped snacks are available for purchase as well.
URL:https://www.roxylockport.com/calendar/open-mic-night-2/
LOCATION:ROXY Lockport\, 1017 S. State St.\, Lockport\, IL\, 60441\, United States
CATEGORIES:Music Showcase,Open Mic
ORGANIZER;CN="Mr. Rees":MAILTO:mr.rees.music@gmail.com
END:VEVENT
BEGIN:VEVENT
DTSTART;TZID=America/Chicago:20240828T180000
DTEND;TZID=America/Chicago:20240828T220000
DTSTAMP:20260423T095941
CREATED:20240725T234155Z
LAST-MODIFIED:20240725T234155Z
UID:10000848-1724868000-1724882400@www.roxylockport.com
SUMMARY:Open Mic Night
DESCRIPTION:Bring your instrument\, read a poem\, do some comedy–whatever suits you!–and come to ROXY’s first-ever open mic night! \nHosted by Mr. Rees \nSign-ups start at 6pm\nOpen mic runs from 7-10pm
URL:https://www.roxylockport.com/calendar/open-mic-night/
LOCATION:ROXY Lockport\, 1017 S. State St.\, Lockport\, IL\, 60441\, United States
CATEGORIES:Music Showcase,Open Mic
ORGANIZER;CN="Mr. Rees":MAILTO:mr.rees.music@gmail.com
END:VEVENT
BEGIN:VEVENT
DTSTART;TZID=America/Chicago:20240517T190000
DTEND;TZID=America/Chicago:20240517T220000
DTSTAMP:20260423T095941
CREATED:20240401T035814Z
LAST-MODIFIED:20240401T035814Z
UID:10000721-1715972400-1715983200@www.roxylockport.com
SUMMARY:The Selectoneswith Emma & the Dilemmaand the Mr. Rees Band
DESCRIPTION:Joining The Selectones at their ROXY debut are Emma & the Dilemma and the Mr. Rees Band\nCome on by and groove the night away! \nDoors open at 6pm \nMusic starts at 7pm
URL:https://www.roxylockport.com/calendar/the-selectoneswith-emma-the-dilemmaand-the-mr-rees-band/
LOCATION:ROXY Lockport\, 1017 S. State St.\, Lockport\, IL\, 60441\, United States
CATEGORIES:Music Showcase
ORGANIZER;CN="Mr. Rees":MAILTO:mr.rees.music@gmail.com
END:VEVENT
END:VCALENDAR