BEGIN:VCALENDAR
VERSION:2.0
PRODID:-//ROXY Lockport - ECPv6.15.20//NONSGML v1.0//EN
CALSCALE:GREGORIAN
METHOD:PUBLISH
X-WR-CALNAME:ROXY Lockport
X-ORIGINAL-URL:https://www.roxylockport.com
X-WR-CALDESC:Events for ROXY Lockport
REFRESH-INTERVAL;VALUE=DURATION:PT1H
X-Robots-Tag:noindex
X-PUBLISHED-TTL:PT1H
BEGIN:VTIMEZONE
TZID:America/Chicago
BEGIN:DAYLIGHT
TZOFFSETFROM:-0600
TZOFFSETTO:-0500
TZNAME:CDT
DTSTART:20230312T080000
END:DAYLIGHT
BEGIN:STANDARD
TZOFFSETFROM:-0500
TZOFFSETTO:-0600
TZNAME:CST
DTSTART:20231105T070000
END:STANDARD
BEGIN:DAYLIGHT
TZOFFSETFROM:-0600
TZOFFSETTO:-0500
TZNAME:CDT
DTSTART:20240310T080000
END:DAYLIGHT
BEGIN:STANDARD
TZOFFSETFROM:-0500
TZOFFSETTO:-0600
TZNAME:CST
DTSTART:20241103T070000
END:STANDARD
BEGIN:DAYLIGHT
TZOFFSETFROM:-0600
TZOFFSETTO:-0500
TZNAME:CDT
DTSTART:20250309T080000
END:DAYLIGHT
BEGIN:STANDARD
TZOFFSETFROM:-0500
TZOFFSETTO:-0600
TZNAME:CST
DTSTART:20251102T070000
END:STANDARD
END:VTIMEZONE
BEGIN:VEVENT
DTSTART;TZID=America/Chicago:20240530T190000
DTEND;TZID=America/Chicago:20240530T213000
DTSTAMP:20260423T133247
CREATED:20240504T063610Z
LAST-MODIFIED:20240504T063610Z
UID:10000762-1717095600-1717104600@www.roxylockport.com
SUMMARY:Standards RevisitedSpring Swing!
DESCRIPTION:Help us welcome Standard Strings to our stage for the first time as they share their takes on old standards from artists such as Frank Sinatra. They are excited to see all the dancers\, but if you’d rather sit and watch\, that’s okay\, too! \nTrumpeter\, bandleader\, educator\, composer\, Fred Cantu is one of the busiest trumpet players on the music scene today. Lead trumpet with the Buddy Rich Big band\, Fred also performs as a regular member of Grammy nominated Cuban jazz pianist Chuchito Valdes’ Ensemble performing major jazz festivals around the country. He also tours worldwide with the Elvis Tribute Tour for Elvis Presley Enterprises. Fred’s trumpet playing can be heard and seen every Sunday on WGN’s TV show Singsation\, which reaches over a million viewers each week.  \nHis trumpet can also be heard on many recordings from Chicago\, New York\, and Las Vegas. In addition\, Fred leads his own 13 piece Big Band (The Fred Cantu Big Band) which performs regularly around the Chicagoland area. Fred continues to perform a vigorous schedule that includes guest artist appearances\, clinics\, recording sessions\, touring\, and shows around his native Chicagoland area.  \nAs a trumpeter and vocalist Fred has been a featured artist at the Chicago Jazz Fest\, Viva Chicago\, Telluride Jazz Fest\, Aspen Snow Mass Fest\, Detroit Jazz Fest\, and Sangria fest. Fred released his second album M.F.G. in 2021.
URL:https://www.roxylockport.com/calendar/standards-revisitedspring-swing/
CATEGORIES:Dance,Jazz,Music Showcase,Swing,Swing Dance
END:VEVENT
END:VCALENDAR