BEGIN:VCALENDAR
VERSION:2.0
PRODID:-//ROXY Lockport - ECPv6.15.20//NONSGML v1.0//EN
CALSCALE:GREGORIAN
METHOD:PUBLISH
X-WR-CALNAME:ROXY Lockport
X-ORIGINAL-URL:https://www.roxylockport.com
X-WR-CALDESC:Events for ROXY Lockport
REFRESH-INTERVAL;VALUE=DURATION:PT1H
X-Robots-Tag:noindex
X-PUBLISHED-TTL:PT1H
BEGIN:VTIMEZONE
TZID:America/Chicago
BEGIN:DAYLIGHT
TZOFFSETFROM:-0600
TZOFFSETTO:-0500
TZNAME:CDT
DTSTART:20230312T080000
END:DAYLIGHT
BEGIN:STANDARD
TZOFFSETFROM:-0500
TZOFFSETTO:-0600
TZNAME:CST
DTSTART:20231105T070000
END:STANDARD
BEGIN:DAYLIGHT
TZOFFSETFROM:-0600
TZOFFSETTO:-0500
TZNAME:CDT
DTSTART:20240310T080000
END:DAYLIGHT
BEGIN:STANDARD
TZOFFSETFROM:-0500
TZOFFSETTO:-0600
TZNAME:CST
DTSTART:20241103T070000
END:STANDARD
BEGIN:DAYLIGHT
TZOFFSETFROM:-0600
TZOFFSETTO:-0500
TZNAME:CDT
DTSTART:20250309T080000
END:DAYLIGHT
BEGIN:STANDARD
TZOFFSETFROM:-0500
TZOFFSETTO:-0600
TZNAME:CST
DTSTART:20251102T070000
END:STANDARD
END:VTIMEZONE
BEGIN:VEVENT
DTSTART;VALUE=DATE:20240824
DTEND;VALUE=DATE:20240825
DTSTAMP:20260423T052850
CREATED:20240725T002029Z
LAST-MODIFIED:20240725T232010Z
UID:10000845-1724457600-1724543999@www.roxylockport.com
SUMMARY:CANCELED!Shake it Off!Taylor Swift Dance Party
DESCRIPTION:A DJ\, a vocalist\, and a guitarist will provide you with a Taylor Swift experience right here at ROXY! \nApologies. We were informed on July 25th that the group had to cancel their event.
URL:https://www.roxylockport.com/calendar/shake-it-offtaylor-swift-dance-partysave-the-date/
LOCATION:ROXY Lockport\, 1017 S. State St.\, Lockport\, IL\, 60441\, United States
CATEGORIES:Dance,Tribute Band
ORGANIZER;CN="Roger Jansen":MAILTO:Roger@kmanagement.com
END:VEVENT
END:VCALENDAR