BEGIN:VCALENDAR
VERSION:2.0
PRODID:-//ROXY Lockport - ECPv6.15.20//NONSGML v1.0//EN
CALSCALE:GREGORIAN
METHOD:PUBLISH
X-ORIGINAL-URL:https://www.roxylockport.com
X-WR-CALDESC:Events for ROXY Lockport
REFRESH-INTERVAL;VALUE=DURATION:PT1H
X-Robots-Tag:noindex
X-PUBLISHED-TTL:PT1H
BEGIN:VTIMEZONE
TZID:America/Chicago
BEGIN:DAYLIGHT
TZOFFSETFROM:-0600
TZOFFSETTO:-0500
TZNAME:CDT
DTSTART:20230312T080000
END:DAYLIGHT
BEGIN:STANDARD
TZOFFSETFROM:-0500
TZOFFSETTO:-0600
TZNAME:CST
DTSTART:20231105T070000
END:STANDARD
BEGIN:DAYLIGHT
TZOFFSETFROM:-0600
TZOFFSETTO:-0500
TZNAME:CDT
DTSTART:20240310T080000
END:DAYLIGHT
BEGIN:STANDARD
TZOFFSETFROM:-0500
TZOFFSETTO:-0600
TZNAME:CST
DTSTART:20241103T070000
END:STANDARD
BEGIN:DAYLIGHT
TZOFFSETFROM:-0600
TZOFFSETTO:-0500
TZNAME:CDT
DTSTART:20250309T080000
END:DAYLIGHT
BEGIN:STANDARD
TZOFFSETFROM:-0500
TZOFFSETTO:-0600
TZNAME:CST
DTSTART:20251102T070000
END:STANDARD
END:VTIMEZONE
BEGIN:VEVENT
DTSTART;TZID=America/Chicago:20240831T200000
DTEND;TZID=America/Chicago:20240831T200000
DTSTAMP:20260423T161121
CREATED:20240817T012412Z
LAST-MODIFIED:20240817T012832Z
UID:10000851-1725134400-1725134400@www.roxylockport.com
SUMMARY:The BuzzBins90s Alternative Rock
DESCRIPTION:From the band: \nHey slackers! Get ready for a retro night at the ROXY Lockport. The BuzzBins are hitting the stage with their tribute to 90s Alternative Rock. You won’t want to miss this live performance! \nGrab your friends\, your flannel\, your Docs\, your “whatever” attitude\, and come rock out with us at ROXY in Lockport. See you there! \n$5 Tickets are sold in advance through Eventbrite  \nThere will be plenty of space for dancing\, so be ready to partay!
URL:https://www.roxylockport.com/calendar/the-buzzbins90s-alternative-rock/
LOCATION:ROXY Lockport\, 1017 S. State St.\, Lockport\, IL\, 60441\, United States
CATEGORIES:Alternative,Dance,Music Showcase,Rock
ATTACH;FMTTYPE=image/jpeg:https://www.roxylockport.com/wp-content/uploads/2024/08/IMG_5324.jpg
ORGANIZER;CN="The BuzzBins":MAILTO:thebuzzbins@gmail.com
END:VEVENT
END:VCALENDAR